Workbook

Sheet 인구
A2: 인구 및 세대현황
A4: 행정기관 : 경상북도
A5: 작성기준 : 2009.03 현재 | H5: 출력일자 : 2009.04.08
A6: 행정기관 | B6: 인 구 수 | E6: 구 성 비 | H6: 성 비 | I6: 세대수 | J6: 세대당인구
B7: 계 | C7: 남 | D7: 여 | E7: 계 | F7: 남 | G7: 여
A8: 합 계 | B8: 2670210 | C8: 1341560 | D8: 1328650 | E8: 100 | F8: 50.241741 | G8: 49.758259 | H8: 100.97166 | I8: 1060744 | J8: 2.5172992
A9: 포항시남구 | B9: 253277 | C9: 130487 | D9: 122790 | E9: 9.4852839 | F9: 4.8867692 | G9: 4.5985147 | H9: 106.26843 | I9: 94840 | J9: 2.6705715
A10: 포항시북구 | B10: 255183 | C10: 128094 | D10: 127089 | E10: 9.5566641 | F10: 4.7971508 | G10: 4.7595133 | H10: 100.79078 | I10: 93160 | J10: 2.7391906
A11: 경주시 | B11: 268844 | C11: 134413 | D11: 134431 | E11: 10.068272 | F11: 5.0337988 | G11: 5.0344729 | H11: 99.98661 | I11: 105831 | J11: 2.5403143
A12: 김천시 | B12: 137306 | C12: 68196 | D12: 69110 | E12: 5.1421424 | F12: 2.5539564 | G12: 2.5881859 | H12: 98.677471 | I12: 53027 | J12: 2.5893601
A13: 안동시 | B13: 166993 | C13: 82937 | D13: 84056 | E13: 6.2539276 | F13: 3.1060104 | G13: 3.1479172 | H13: 98.668745 | I13: 66009 | J13: 2.529852
A14: 구미시 | B14: 394686 | C14: 200698 | D14: 193988 | E14: 14.781085 | F14: 7.5161879 | G14: 7.2648968 | H14: 103.45898 | I14: 149775 | J14: 2.6351928
A15: 영주시 | B15: 113792 | C15: 56729 | D15: 57063 | E15: 4.2615375 | F15: 2.1245146 | G15: 2.1370229 | H15: 99.414682 | I15: 45013 | J15: 2.5279808
A16: 영천시 | B16: 103442 | C16: 51867 | D16: 51575 | E16: 3.8739275 | F16: 1.9424315 | G16: 1.931496 | H16: 100.56617 | I16: 43570 | J16: 2.3741565
A17: 상주시 | B17: 105521 | C17: 51932 | D17: 53589 | E17: 3.9517866 | F17: 1.9448658 | G17: 2.0069208 | H17: 96.907948 | I17: 43730 | J17: 2.4130117
A18: 문경시 | B18: 75060 | C18: 37071 | D18: 37989 | E18: 2.8110149 | F18: 1.3883178 | G18: 1.4226971 | H18: 97.583511 | I18: 31127 | J18: 2.4114113
A19: 경산시 | B19: 236836 | C19: 119398 | D19: 117438 | E19: 8.8695646 | F19: 4.4714835 | G19: 4.398081 | H19: 101.66897 | I19: 90716 | J19: 2.6107412
... A32: 울릉군 | B32: 10250 | C32: 5340 | D32: 4910 | E32: 0.38386494 | F32: 0.19998427 | G32: 0.18388067 | H32: 108.75764 | I32: 4667 | J32: 2.1962717

Sheet 면적
B1: 지적공부등록지현황조회
B2: 토지소재명 | C2: 합계 | E2: 전 | G2: 답 | I2: 과수원 | K2: 목장용지 | M2: 임야 | O2: 광천지 | Q2: 염전 | S2: 대 | U2: 공장용지 | W2: 학교용지 | Y2: 주차장 | AA2: 주유소용지 | AC2: 창고용지 | AE2: 도로 | AG2: 철도용지 | AI2: 제방 | AK2: 하천 | AM2: 구거 | AO2: 유지 | AQ2: 양어장 | AS2: 수도용지 | AU2: 공원 | AW2: 체육용지 | AY2: 유원지 | BA2: 종교용지 | BC2: 사적지 | BE2: 묘지 | BG2: 잡종지
C3: 면적 | D3: 지번수 | E3: 면적 | F3: 지번수 | G3: 면적 | H3: 지번수 | I3: 면적 | J3: 지번수 | K3: 면적 | L3: 지번수 | M3: 면적 | N3: 지번수 | O3: 면적 | P3: 지번수 | Q3: 면적 | R3: 지번수 | S3: 면적 | T3: 지번수 | U3: 면적 | V3: 지번수 | W3: 면적 | X3: 지번수 | Y3: 면적 | Z3: 지번수 | AA3: 면적 | AB3: 지번수 | AC3: 면적 | AD3: 지번수 | AE3: 면적 | AF3: 지번수 | AG3: 면적 | AH3: 지번수 | AI3: 면적 | AJ3: 지번수 | AK3: 면적 | AL3: 지번수 | AM3: 면적 | AN3: 지번수 | AO3: 면적 | AP3: 지번수 | AQ3: 면적 | AR3: 지번수 | AS3: 면적 | AT3: 지번수 | AU3: 면적 | AV3: 지번수 | AW3: 면적 | AX3: 지번수 | AY3: 면적 | AZ3: 지번수 | BA3: 면적 | BB3: 지번수 | BC3: 면적 | BD3: 지번수 | BE3: 면적 | BF3: 지번수 | BG3: 면적 | BH3: 지번수
B4: 합 계 | C4: 1.9027898e+10 | D4: 5582531 | E4: 1.2708209e+09 | F4: 1124126 | G4: 1.8191667e+09 | H4: 1481868 | I4: 1.4389914e+08 | J4: 77367 | K4: 52650338 | L4: 17408 | M4: 1.3696325e+10 | N4: 704503 | O4: 478.2 | P4: 52 | Q4: 0 | R4: 0 | S4: 2.8738446e+08 | T4: 764152 | U4: 79637228 | V4: 17661 | W4: 30434244 | X4: 6961 | Y4: 1136924.4 | Z4: 955 | AA4: 1393834.6 | AB4: 1690 | AC4: 7740421 | AD4: 10891 | AE4: 3.6182022e+08 | AF4: 780826 | AG4: 18709975 | AH4: 18328 | AI4: 27260981 | AJ4: 37884 | AK4: 5.7517309e+08 | AL4: 114171 | AM4: 3.5291804e+08 | AN4: 259016 | AO4: 159049505 | AP4: 64689 | AQ4: 889679 | AR4: 548 | AS4: 2317832.1 | AT4: 2753 | AU4: 3686331.8 | AV4: 1497 | AW4: 17796338 | AX4: 1742 | AY4: 1355818.3 | AZ4: 293 | BA4: 4365786.6 | BB4: 4463 | BC4: 1034594.8 | BD4: 689 | BE4: 60082363 | BF4: 46723 | BG4: 50846889 | BH4: 41275
A5: 1 | B5: 포항시남구 | C5: 3.9329182e+08 | D5: 165079 | E5: 24119059 | F5: 29752 | G5: 35299465 | H5: 34377 | I5: 509258 | J5: 385 | K5: 692108 | L5: 251 | M5: 2.5502067e+08 | N5: 22049 | O5: 0 | P5: 0 | Q5: 0 | R5: 0 | S5: 15814666 | T5: 42861 | U5: 18091985 | V5: 1160 | W5: 1172087.9 | X5: 317 | Y5: 177824.8 | Z5: 95 | AA5: 77218.7 | AB5: 83 | AC5: 263723 | AD5: 285 | AE5: 11109436 | AF5: 17038 | AG5: 364981 | AH5: 313 | AI5: 316597 | AJ5: 251 | AK5: 10811870 | AL5: 4970 | AM5: 6217645.8 | AN5: 5378 | AO5: 1860866.8 | AP5: 738 | AQ5: 180964 | AR5: 109 | AS5: 120864 | AT5: 147 | AU5: 792537.9 | AV5: 135 | AW5: 250818 | AX5: 50 | AY5: 0 | AZ5: 0 | BA5: 140836.8 | BB5: 141 | BC5: 5029 | BD5: 5 | BE5: 1629608 | BF5: 1464 | BG5: 8251703.1 | BH5: 2725
A6: 1 | B6: 포항시북구 | C6: 7.3477072e+08 | D6: 225679 | E6: 38960551 | F6: 39941 | G6: 75713897 | H6: 61909 | I6: 4854745 | J6: 2157 | K6: 1071009 | L6: 480 | M6: 5.4017462e+08 | N6: 28240 | O6: 3 | P6: 1 | Q6: 0 | R6: 0 | S6: 15047597 | T6: 45059 | U6: 1860625 | V6: 453 | W6: 1532039.2 | X6: 383 | Y6: 43961.7 | Z6: 46 | AA6: 82808 | AB6: 90 | AC6: 353060 | AD6: 518 | AE6: 13988404 | AF6: 25174 | AG6: 187435 | AH6: 232 | AI6: 288658 | AJ6: 208 | AK6: 18250245 | AL6: 4178 | AM6: 12364120 | AN6: 9101 | AO6: 4495480.4 | AP6: 2107 | AQ6: 23415 | AR6: 20 | AS6: 243925 | AT6: 311 | AU6: 171092.9 | AV6: 95 | AW6: 226069 | AX6: 51 | AY6: 0 | AZ6: 0 | BA6: 197347.7 | BB6: 226 | BC6: 3320 | BD6: 6 | BE6: 2487178 | BF6: 2564 | BG6: 2149112.4 | BH6: 2129
A7: 2 | B7: 경주시 | C7: 1.3243957e+09 | D7: 499113 | E7: 73010365 | F7: 82046 | G7: 1.6683443e+08 | H7: 141689 | I7: 3969664 | J7: 2375 | K7: 9053512.8 | L7: 2097 | M7: 898387344 | N7: 61176 | O7: 86 | P7: 1 | Q7: 0 | R7: 0 | S7: 27703411 | T7: 74428 | U7: 9665843.7 | V7: 2429 | W7: 2967831.2 | X7: 695 | Y7: 155955.2 | Z7: 134 | AA7: 305149 | AB7: 348 | AC7: 742760.8 | AD7: 1044 | AE7: 31606962 | AF7: 68404 | AG7: 1662073.2 | AH7: 2616 | AI7: 3514079 | AJ7: 4898 | AK7: 35574011 | AL7: 11513 | AM7: 26271025 | AN7: 25378 | AO7: 12839607 | AP7: 5427 | AQ7: 88114 | AR7: 66 | AS7: 254307 | AT7: 348 | AU7: 435244.5 | AV7: 444 | AW7: 5460935 | AX7: 513 | AY7: 1206446 | AZ7: 247 | BA7: 457145.2 | BB7: 462 | BC7: 755337 | BD7: 555 | BE7: 6572032 | BF7: 4647 | BG7: 4902068.9 | BH7: 5133
A8: 3 | B8: 김천시 | C8: 1.0089403e+09 | D8: 337612 | E8: 68744596 | F8: 68273 | G8: 1.203267e+08 | H8: 96364 | I8: 12669548 | J8: 8159 | K8: 3533529.3 | L8: 1070 | M8: 6.9961702e+08 | N8: 39697 | O8: 0 | P8: 0 | Q8: 0 | R8: 0 | S8: 16091158 | T8: 47219 | U8: 3193634.8 | V8: 759 | W8: 1509804.6 | X8: 460 | Y8: 14011.1 | Z8: 36 | AA8: 31601 | AB8: 37 | AC8: 233504 | AD8: 321 | AE8: 19774579 | AF8: 46946 | AG8: 2338439.3 | AH8: 1736 | AI8: 1245460.9 | AJ8: 1587 | AK8: 26544230 | AL8: 5299 | AM8: 23944441 | AN8: 12626 | AO8: 2760932 | AP8: 1678 | AQ8: 16154 | AR8: 9 | AS8: 70488.3 | AT8: 117 | AU8: 132763.3 | AV8: 48 | AW8: 343623 | AX8: 31 | AY8: 3328 | AZ8: 5 | BA8: 255853.6 | BB8: 257 | BC8: 37021 | BD8: 24 | BE8: 2709109.7 | BF8: 2739 | BG8: 2798724.2 | BH8: 2115
A9: 4 | B9: 안동시 | C9: 1.521225e+09 | D9: 396731 | E9: 1.2604586e+08 | F9: 94705 | G9: 96889724 | H9: 76636 | I9: 13645220 | J9: 6497 | K9: 3546798 | L9: 1028 | M9: 1.0738647e+09 | N9: 63648 | O9: 0 | P9: 0 | Q9: 0 | R9: 0 | S9: 18894024 | T9: 46927 | U9: 1151279.1 | V9: 359 | W9: 2495377.2 | X9: 515 | Y9: 24023.2 | Z9: 35 | AA9: 64308 | AB9: 62 | AC9: 471376.8 | AD9: 679 | AE9: 25173634 | AF9: 53694 | AG9: 1330469 | AH9: 1284 | AI9: 2235333.7 | AJ9: 3206 | AK9: 59988864 | AL9: 6259 | AM9: 27573898 | AN9: 19111 | AO9: 60447670 | AP9: 16777 | AQ9: 9273 | AR9: 7 | AS9: 285783.2 | AT9: 455 | AU9: 167347.1 | AV9: 73 | AW9: 1203487 | AX9: 58 | AY9: 21160 | AZ9: 2 | BA9: 220861.6 | BB9: 261 | BC9: 27370 | BD9: 12 | BE9: 3551019 | BF9: 2056 | BG9: 1896168 | BH9: 2385
A10: 5 | B10: 구미시 | C10: 6.1549421e+08 | D10: 250781 | E10: 38903258 | F10: 38858 | G10: 95009587 | H10: 72197 | I10: 3751945.8 | J10: 2319 | K10: 1686790 | L10: 748 | M10: 3.466521e+08 | N10: 21511 | O10: 0 | P10: 0 | Q10: 0 | R10: 0 | S10: 19917195 | T10: 45709 | U10: 13964238 | V10: 1824 | W10: 2461904.3 | X10: 350 | Y10: 75662.9 | Z10: 41 | AA10: 127742.5 | AB10: 141 | AC10: 314572.6 | AD10: 367 | AE10: 18453185 | AF10: 36055 | AG10: 444284 | AH10: 261 | AI10: 2916606.5 | AJ10: 2925 | AK10: 42458142 | AL10: 4807 | AM10: 17395517 | AN10: 15764 | AO10: 3699921.8 | AP10: 2617 | AQ10: 25149 | AR10: 15 | AS10: 398064.9 | AT10: 308 | AU10: 825274.5 | AV10: 282 | AW10: 1816011 | AX10: 172 | AY10: 6987 | AZ10: 3 | BA10: 240200.1 | BB10: 196 | BC10: 0 | BD10: 0 | BE10: 1489896 | BF10: 1592 | BG10: 2459970.4 | BH10: 1719
A11: 6 | B11: 영주시 | C11: 6.6894638e+08 | D11: 212236 | E11: 68738996 | F11: 49007 | G11: 75407566 | H11: 47819 | I11: 10135526 | J11: 3507 | K11: 2314826.7 | L11: 1169 | M11: 4.4225155e+08 | N11: 23758 | O11: 0 | P11: 0 | Q11: 0 | R11: 0 | S11: 12119935 | T11: 31507 | U11: 1704435.1 | V11: 382 | W11: 1159722.5 | X11: 240 | Y11: 56592.9 | Z11: 49 | AA11: 74516.8 | AB11: 79 | AC11: 509201 | AD11: 665 | AE11: 16229595 | AF11: 36492 | AG11: 1898836.6 | AH11: 1795 | AI11: 338021.6 | AJ11: 853 | AK11: 15594611 | AL11: 3492 | AM11: 15096632 | AN11: 7650 | AO11: 1159665.1 | AP11: 684 | AQ11: 4139 | AR11: 4 | AS11: 33942.6 | AT11: 27 | AU11: 61221.7 | AV11: 49 | AW11: 306999.4 | AX11: 40 | AY11: 39894 | AZ11: 9 | BA11: 218595.4 | BB11: 174 | BC11: 34462 | BD11: 9 | BE11: 1521922.7 | BF11: 1063 | BG11: 1934976.5 | BH11: 1713
A12: 7 | B12: 영천시 | C12: 9.2036231e+08 | D12: 329049 | E12: 56688216 | F12: 60917 | G12: 98557562 | H12: 96018 | I12: 17730758 | J12: 11059 | K12: 2577570 | L12: 1205 | M12: 635718352 | N12: 38778 | O12: 0 | P12: 0 | Q12: 0 | R12: 0 | S12: 14493190 | T12: 40481 | U12: 4612145.5 | V12: 1499 | W12: 1198172 | X12: 352 | Y12: 73069 | Z12: 73 | AA12: 88810 | AB12: 92 | AC12: 557577 | AD12: 788 | AE12: 19939302 | AF12: 42912 | AG12: 1236449 | AH12: 1070 | AI12: 1240116 | AJ12: 1047 | AK12: 23005751 | AL12: 4871 | AM12: 16257828 | AN12: 15985 | AO12: 18560039 | AP12: 5568 | AQ12: 9080 | AR12: 7 | AS12: 47803 | AT12: 112 | AU12: 13336.3 | AV12: 6 | AW12: 655652 | AX12: 125 | AY12: 0 | AZ12: 0 | BA12: 309164 | BB12: 295 | BC12: 0 | BD12: 0 | BE12: 4349383 | BF12: 3777 | BG12: 2442987.9 | BH12: 2012
A13: 8 | B13: 상주시 | C13: 1.2548339e+09 | D13: 384327 | E13: 86293683 | F13: 74780 | G13: 183940570 | H13: 120470 | I13: 7772991.3 | J13: 3601 | K13: 5195554.3 | L13: 1477 | M13: 834292895 | N13: 38090 | O13: 0 | P13: 0 | Q13: 0 | R13: 0 | S13: 20312120 | T13: 48110 | U13: 1086417.9 | V13: 299 | W13: 1905518 | X13: 460 | Y13: 23563.1 | Z13: 41 | AA13: 67065 | AB13: 94 | AC13: 416623.7 | AD13: 616 | AE13: 26466362 | AF13: 57524 | AG13: 687240 | AH13: 817 | AI13: 1454277.3 | AJ13: 3066 | AK13: 42336333 | AL13: 6153 | AM13: 27271273 | AN13: 19558 | AO13: 6446479.4 | AP13: 3091 | AQ13: 44443 | AR13: 30 | AS13: 91015.2 | AT13: 49 | AU13: 10748.8 | AV13: 10 | AW13: 1640002 | AX13: 30 | AY13: 3305 | AZ13: 1 | BA13: 254171 | BB13: 300 | BC13: 28849 | BD13: 4 | BE13: 5121031 | BF13: 3626 | BG13: 1671353.6 | BH13: 2030
A14: 9 | B14: 문경시 | C14: 9.1116924e+08 | D14: 194288 | E14: 57254763 | F14: 41940 | G14: 68855800 | H14: 48835 | I14: 5157307 | J14: 2141 | K14: 2271095.2 | L14: 869 | M14: 706415438 | N14: 25422 | O14: 5 | P14: 1 | Q14: 0 | R14: 0 | S14: 13121411 | T14: 30788 | U14: 1265989 | V14: 262 | W14: 1023286 | X14: 243 | Y14: 128464.3 | Z14: 59 | AA14: 36500 | AB14: 56 | AC14: 282155 | AD14: 330 | AE14: 16416986 | AF14: 25598 | AG14: 906173.5 | AH14: 916 | AI14: 459967.6 | AJ14: 436 | AK14: 16767712 | AL14: 3536 | AM14: 13816512 | AN14: 9200 | AO14: 2591455 | AP14: 938 | AQ14: 56889 | AR14: 39 | AS14: 81034 | AT14: 93 | AU14: 106882.1 | AV14: 44 | AW14: 758871 | AX14: 45 | AY14: 0 | AZ14: 0 | BA14: 230979 | BB14: 134 | BC14: 20914 | BD14: 10 | BE14: 1803800 | BF14: 1203 | BG14: 1338853.9 | BH14: 1150
A15: 10 | B15: 경산시 | C15: 4.1170079e+08 | D15: 221968 | E15: 31169791 | F15: 34755 | G15: 58948882 | H15: 61739 | I15: 6796588 | J15: 5259 | K15: 1743950 | L15: 936 | M15: 2.3455012e+08 | N15: 19215 | O15: 29.6 | P15: 7 | Q15: 0 | R15: 0 | S15: 14714503 | T15: 38782 | U15: 6902419.3 | V15: 2767 | W15: 5352397.2 | X15: 372 | Y15: 107587.2 | Z15: 94 | AA15: 114249.1 | AB15: 139 | AC15: 673303 | AD15: 795 | AE15: 14269643 | AF15: 33690 | AG15: 1055177.5 | AH15: 955 | AI15: 840563 | AJ15: 1260 | AK15: 11755398 | AL15: 4604 | AM15: 7539263 | AN15: 8268 | AO15: 7590507.1 | AP15: 3492 | AQ15: 963 | AR15: 1 | AS15: 282124.8 | AT15: 91 | AU15: 558488.7 | AV15: 199 | AW15: 863204 | AX15: 175 | AY15: 12517.3 | AZ15: 6 | BA15: 256037.2 | BB15: 247 | BC15: 24952.8 | BD15: 3 | BE15: 2386899.6 | BF15: 1632 | BG15: 3191234.8 | BH15: 2485
A16: 11 | B16: 군위군 | C16: 6.142129e+08 | D16: 186881 | E16: 35764348 | F16: 35863 | G16: 44536338 | H16: 45430 | I16: 10492777 | J16: 6942 | K16: 1646364 | L16: 568 | M16: 464439299 | N16: 28073 | O16: 9 | P16: 1 | Q16: 0 | R16: 0 | S16: 6342746.2 | T16: 17589 | U16: 705651 | V16: 271 | W16: 416734 | X16: 167 | Y16: 22739 | Z16: 32 | AA16: 21132 | AB16: 28 | AC16: 282798 | AD16: 497 | AE16: 9804029 | AF16: 29178 | AG16: 448002 | AH16: 330 | AI16: 2044569 | AJ16: 3138 | AK16: 17488245 | AL16: 4402 | AM16: 13906892 | AN16: 9413 | AO16: 2685897 | AP16: 2275 | AQ16: 11035 | AR16: 5 | AS16: 26782 | AT16: 32 | AU16: 5683 | AV16: 8 | AW16: 60093 | AX16: 27 | AY16: 0 | AZ16: 0 | BA16: 122733 | BB16: 129 | BC16: 9663 | BD16: 2 | BE16: 1641511 | BF16: 1417 | BG16: 1286835.3 | BH16: 1064
... A28: 23 | B28: 울릉군 | C28: 72899175 | D28: 17961 | E28: 12372199 | F28: 4899 | G28: 473355 | H28: 752 | I28: 18038 | J28: 2 | K28: 6738 | L28: 7 | M28: 55450969 | N28: 3544 | O28: 0 | P28: 0 | Q28: 0 | R28: 0 | S28: 862368 | T28: 4763 | U28: 24100 | V28: 19 | W28: 154100 | X28: 84 | Y28: 971 | Z28: 4 | AA28: 0 | AB28: 0 | AC28: 11529 | AD28: 29 | AE28: 1199469 | AF28: 2519 | AG28: 0 | AH28: 0 | AI28: 58110 | AJ28: 69 | AK28: 673349 | AL28: 332 | AM28: 880902 | AN28: 270 | AO28: 0 | AP28: 0 | AQ28: 992 | AR28: 1 | AS28: 13937 | AT28: 11 | AU28: 0 | AV28: 0 | AW28: 1874 | AX28: 1 | AY28: 0 | AZ28: 0 | BA28: 28223 | BB28: 76 | BC28: 5699 | BD28: 18 | BE28: 114647 | BF28: 156 | BG28: 547606 | BH28: 405

Sheet 전체
A1: 2019년 3/4분기 행정구역 현황
N2: 2019.9.30. 현재
A3: 시군별 | B3: 읍·면·동 수 | G3: 출장소 | H3: 통·리 수 | L3: 반수 | M3: 자연 마을수 | N3: 세대수 | O3: 인구 | P3: 면적 (㎢)
B4: 계 | C4: 읍 | D4: 면 | E4: 동 | F4: (법정) | H4: 계 | I4: 통 | J4: 리 | K4: (법정)
A5: 계 | B5: =SUM(B6:B28) -> 332 | C5: =SUM(C6:C28) -> 36 | D5: =SUM(D6:D28) -> 202 | E5: =SUM(E6:E28) -> 94 | F5: =SUM(F6:F28) -> 295 | G5: =SUM(G6:G28) -> 14 | H5: =SUM(H6:H28) -> 8074 | I5: =SUM(I6:I28) -> 2827 | ... O5: =SUM(O6:O28) -> 2666795 | P5: =ROUND(SUM(P6:P28),2) -> 19033.07
A6: 포항시 | B6: =SUM(C6:E6) -> 29 | C6: =시군별!C6 -> 4 | D6: =시군별!D6 -> 10 | E6: =시군별!E6 -> 15 | F6: =시군별!F6 -> 41 | G6: =시군별!G6 -> 1 | H6: =시군별!H6 -> 927 | I6: =시군별!I6 -> 540 | J6: =시군별!J6 -> 387 | ... P6: =시군별!P6 -> 1130.24
A7: 경주시 | B7: =SUM(C7:E7) -> 23 | C7: =시군별!C38 -> 4 | D7: =시군별!D38 -> 8 | E7: =시군별!E38 -> 11 | F7: =시군별!F38 -> 44 | G7: =시군별!G38 -> 0 | H7: =시군별!H38 -> 652 | I7: =시군별!I38 -> 339 | J7: =시군별!J38 -> 313 | ... P7: =시군별!P38 -> 1324.82
A8: 김천시 | B8: =SUM(C8:E8) -> 22 | C8: =시군별!C62 -> 1 | D8: =시군별!D62 -> 14 | E8: =시군별!E62 -> 7 | F8: =시군별!F62 -> 20 | G8: =시군별!G62 -> 0 | H8: =시군별!H62 -> 568 | I8: =시군별!I62 -> 294 | J8: =시군별!J62 -> 274 | ... P8: =시군별!P62 -> 1009.8
A9: 안동시 | B9: =SUM(C9:E9) -> 24 | C9: =시군별!C85 -> 1 | D9: =시군별!D85 -> 13 | E9: =시군별!E85 -> 10 | F9: =시군별!F85 -> 42 | G9: =시군별!G85 -> 0 | H9: =시군별!H85 -> 587 | I9: =시군별!I85 -> 313 | J9: =시군별!J85 -> 274 | ... P9: =시군별!P85 -> 1522.119
A10: 구미시 | B10: =SUM(C10:E10) -> 27 | C10: =시군별!C110 -> 2 | D10: =시군별!D110 -> 6 | E10: =시군별!E110 -> 19 | F10: =시군별!F110 -> 30 | G10: =시군별!G110 -> 1 | H10: =시군별!H110 -> 686 | I10: =시군별!I110 -> 486 | J10: =시군별!J110 -> 200 | ... P10: =시군별!P110 -> 615.34
A11: 영주시 | B11: =SUM(C11:E11) -> 19 | C11: =시군별!C138 -> 1 | D11: =시군별!D138 -> 9 | E11: =시군별!E138 -> 9 | F11: =시군별!F138 -> 13 | G11: =시군별!G138 -> 0 | H11: =시군별!H138 -> 427 | I11: =시군별!I138 -> 227 | J11: =시군별!J138 -> 200 | ... P11: =시군별!P138 -> 669.98
A12: 영천시 | B12: =SUM(C12:E12) -> 16 | C12: =시군별!C158 -> 1 | D12: =시군별!D158 -> 10 | E12: =시군별!E158 -> 5 | F12: =시군별!F158 -> 30 | G12: =시군별!G158 -> 0 | H12: =시군별!H158 -> 412 | I12: =시군별!I158 -> 137 | J12: =시군별!J158 -> 275 | ... P12: =시군별!P158 -> 919.21
A13: 상주시 | B13: =SUM(C13:E13) -> 24 | C13: =시군별!C175 -> 1 | D13: =시군별!D175 -> 17 | E13: =시군별!E175 -> 6 | F13: =시군별!F175 -> 36 | G13: =시군별!G175 -> 4 | H13: =시군별!H175 -> 510 | I13: =시군별!I175 -> 144 | J13: =시군별!J175 -> 366 | ... P13: =시군별!P175 -> 1254.7124
A14: 문경시 | B14: =SUM(C14:E14) -> 14 | C14: =시군별!C200 -> 2 | D14: =시군별!D200 -> 7 | E14: =시군별!E200 -> 5 | F14: =시군별!F200 -> 11 | G14: =시군별!G200 -> 2 | H14: =시군별!H200 -> 327 | I14: =시군별!I200 -> 111 | J14: =시군별!J200 -> 216 | ... P14: =시군별!P200 -> 911.61
A15: 경산시 | B15: =SUM(C15:E15) -> 15 | C15: =시군별!C215 -> 2 | D15: =시군별!D215 -> 6 | E15: =시군별!E215 -> 7 | F15: =시군별!F215 -> 28 | G15: =시군별!G215 -> 0 | H15: =시군별!H215 -> 472 | I15: =시군별!I215 -> 236 | J15: =시군별!J215 -> 236 | ... P15: =시군별!P215 -> 411.76
A16: 군위군 | B16: =SUM(C16:E16) -> 8 | C16: =시군별!C231 -> 1 | D16: =시군별!D231 -> 7 | E16: =시군별!E231 -> 0 | F16: =시군별!F231 -> 0 | G16: =시군별!G231 -> 0 | H16: =시군별!H231 -> 180 | I16: =시군별!I231 -> 0 | J16: =시군별!J231 -> 180 | ... P16: =시군별!P231 -> 614.32
A17: 의성군 | B17: =SUM(C17:E17) -> 18 | C17: =시군별!C240 -> 1 | D17: =시군별!D240 -> 17 | E17: =시군별!E240 -> 0 | F17: =시군별!F240 -> 0 | G17: =시군별!G240 -> 0 | H17: =시군별!H240 -> 400 | I17: =시군별!I240 -> 0 | J17: =시군별!J240 -> 400 | ... P17: =시군별!P240 -> 1174.75
A18: 청송군 | B18: =SUM(C18:E18) -> 8 | C18: =시군별!C259 -> 1 | D18: =시군별!D259 -> 7 | E18: =시군별!E259 -> 0 | F18: =시군별!F259 -> 0 | G18: =시군별!G259 -> 0 | H18: =시군별!H259 -> 136 | I18: =시군별!I259 -> 0 | J18: =시군별!J259 -> 136 | ... P18: =시군별!P259 -> 846.12
A19: 영양군 | B19: =SUM(C19:E19) -> 6 | C19: =시군별!C268 -> 1 | D19: =시군별!D268 -> 5 | E19: =시군별!E268 -> 0 | F19: =시군별!F268 -> 0 | G19: =시군별!G268 -> 0 | H19: =시군별!H268 -> 115 | I19: =시군별!I268 -> 0 | J19: =시군별!J268 -> 115 | ... P19: =시군별!P268 -> 815.75
A20: 영덕군 | B20: =SUM(C20:E20) -> 9 | C20: =시군별!C275 -> 1 | D20: =시군별!D275 -> 8 | E20: =시군별!E275 -> 0 | F20: =시군별!F275 -> 0 | G20: =시군별!G275 -> 2 | H20: =시군별!H275 -> 204 | I20: =시군별!I275 -> 0 | J20: =시군별!J275 -> 204 | ... P20: =시군별!P275 -> 741.22
A21: 청도군 | B21: =SUM(C21:E21) -> 9 | C21: =시군별!C285 -> 2 | D21: =시군별!D285 -> 7 | E21: =시군별!E285 -> 0 | F21: =시군별!F285 -> 0 | G21: =시군별!G285 -> 2 | H21: =시군별!H285 -> 212 | I21: =시군별!I285 -> 0 | J21: =시군별!J285 -> 212 | ... P21: =시군별!P285 -> 693.81464
A22: 고령군 | B22: =SUM(C22:E22) -> 8 | C22: =시군별!C295 -> 1 | D22: =시군별!D295 -> 7 | E22: =시군별!E295 -> 0 | F22: =시군별!F295 -> 0 | G22: =시군별!G295 -> 0 | H22: =시군별!H295 -> 153 | I22: =시군별!I295 -> 0 | J22: =시군별!J295 -> 153 | ... P22: =시군별!P295 -> 384.07
A23: 성주군 | B23: =SUM(C23:E23) -> 10 | C23: =시군별!C304 -> 1 | D23: =시군별!D304 -> 9 | E23: =시군별!E304 -> 0 | F23: =시군별!F304 -> 0 | G23: =시군별!G304 -> 0 | H23: =시군별!H304 -> 233 | I23: =시군별!I304 -> 0 | J23: =시군별!J304 -> 233 | ... P23: =시군별!P304 -> 616.09
A24: 칠곡군 | B24: =SUM(C24:E24) -> 8 | C24: =시군별!C315 -> 3 | D24: =시군별!D315 -> 5 | E24: =시군별!E315 -> 0 | F24: =시군별!F315 -> 0 | G24: =시군별!G315 -> 0 | H24: =시군별!H315 -> 215 | I24: =시군별!I315 -> 0 | J24: =시군별!J315 -> 215 | ... P24: =시군별!P315 -> 450.934
A25: 예천군 | B25: =SUM(C25:E25) -> 12 | C25: =시군별!C324 -> 1 | D25: =시군별!D324 -> 11 | E25: =시군별!E324 -> 0 | F25: =시군별!F324 -> 0 | G25: =시군별!G324 -> 0 | H25: =시군별!H324 -> 281 | I25: =시군별!I324 -> 0 | J25: =시군별!J324 -> 281 | ... P25: =시군별!P324 -> 661.48
A26: 봉화군 | B26: =SUM(C26:E26) -> 10 | C26: =시군별!C337 -> 1 | D26: =시군별!D337 -> 9 | E26: =시군별!E337 -> 0 | F26: =시군별!F337 -> 0 | G26: =시군별!G337 -> 0 | H26: =시군별!H337 -> 157 | I26: =시군별!I337 -> 0 | J26: =시군별!J337 -> 157 | ... P26: =시군별!P337 -> 1202.03
A27: 울진군 | B27: =SUM(C27:E27) -> 10 | C27: =시군별!C348 -> 2 | D27: =시군별!D348 -> 8 | E27: =시군별!E348 -> 0 | F27: =시군별!F348 -> 0 | G27: =시군별!G348 -> 1 | H27: =시군별!H348 -> 195 | I27: =시군별!I348 -> 0 | J27: =시군별!J348 -> 195 | ... P27: =시군별!P348 -> 989.99
A28: 울릉군 | B28: =SUM(C28:E28) -> 3 | C28: =시군별!C359 -> 1 | D28: =시군별!D359 -> 2 | E28: =시군별!E359 -> 0 | F28: =시군별!F359 -> 0 | G28: =시군별!G359 -> 1 | H28: =시군별!H359 -> 25 | I28: =시군별!I359 -> 0 | J28: =시군별!J359 -> 25 | ... P28: =시군별!P359 -> 72.91

Sheet 시군별
A1: =전체!A1 -> 2019년 3/4분기 행정구역 현황
N2: =전체!N2 -> 2019.9.30. 현재
A3: 시군별 | B3: 읍·면·동 수 | G3: 출 장 소 | H3: 통·리 수 | L3: 반수 | M3: 자연 마을수 | N3: 세대수 | O3: 인구 | P3: 면적 (㎢)
B4: 계 | C4: 읍 | D4: 면 | E4: 동 | F4: (법정) | H4: 계 | I4: 통 | J4: 리 | K4: (법정)
A5: 계 | B5: =SUM(B6,B38,B62,B85,B110,B138,B158,B175,B200,B215,B231,B240,B259,B268,B275,B285,B295,B304,B315,B324,B337,B348,B359) -> 332 | C5: =SUM(C6,C38,C62,C85,C110,C138,C158,C175,C200,C215,C231,C240,C259,C268,C275,C285,C295,C304,C315,C324,C337,C348,C359) -> 36 | D5: =SUM(D6,D38,D62,D85,D110,D138,D158,D175,D200,D215,D231,D240,D259,D268,D275,D285,D295,D304,D315,D324,D337,D348,D359) -> 202 | E5: =SUM(E6,E38,E62,E85,E110,E138,E158,E175,E200,E215,E231,E240,E259,E268,E275,E285,E295,E304,E315,E324,E337,E348,E359) -> 94 | F5: =SUM(F6,F38,F62,F85,F110,F138,F158,F175,F200,F215,F231,F240,F259,F268,F275,F285,F295,F304,F315,F324,F337,F348,F359) -> 295 | G5: =SUM(G6,G38,G62,G85,G110,G138,G158,G175,G200,G215,G231,G240,G259,G268,G275,G285,G295,G304,G315,G324,G337,G348,G359) -> 14 | H5: =SUM(H6,H38,H62,H85,H110,H138,H158,H175,H200,H215,H231,H240,H259,H268,H275,H285,H295,H304,H315,H324,H337,H348,H359) -> 8074 | I5: =SUM(I6,I38,I62,I85,I110,I138,I158,I175,I200,I215,I231,I240,I259,I268,I275,I285,I295,I304,I315,I324,I337,I348,I359) -> 2827 | ... P5: =SUM(P6,P38,P62,P85,P110,P138,P158,P175,P200,P215,P231,P240,P259,P268,P275,P285,P295,P304,P315,P324,P337,P348,P359) -> 19033.07
A6: 포항시 | B6: =SUM(B7,B22) -> 29 | C6: =SUM(C7,C22) -> 4 | D6: =SUM(D7,D22) -> 10 | E6: =SUM(E7,E22) -> 15 | F6: =SUM(F7,F22) -> 41 | G6: =SUM(G7,G22) -> 1 | H6: =SUM(H7,H22) -> 927 | I6: =SUM(I7,I22) -> 540 | ... P6: =SUM(P7,P22) -> 1130.24
A7: 남구 | B7: =SUM(B8:B21) -> 14 | C7: =SUM(C8:C21) -> 3 | D7: =SUM(D8:D21) -> 4 | E7: =SUM(E8:E21) -> 7 | F7: =SUM(F8:F21) -> 17 | G7: =SUM(G8:G21) -> 0 | H7: =SUM(H8:H21) -> 400 | I7: =SUM(I8:I21) -> 210 | ... P7: =SUM(P8:P21) -> 394.17
A8: 구룡포읍 | B8: =SUM(C8:E8) -> 1 | C8: 1 | H8: =SUM(I8:J8) -> 26 | J8: 26 | K8: 10 | L8: 192 | M8: 40 | N8: 4676 | O8: 7967 | P8: 45.16
A9: 연일읍 | B9: =SUM(C9:E9) -> 1 | C9: 1 | H9: =SUM(I9:J9) -> 32 | J9: 32 | K9: 13 | L9: 358 | M9: 35 | N9: 12094 | O9: 31799 | P9: 36.07
A10: 오천읍 | B10: =SUM(C10:E10) -> 1 | C10: 1 | H10: =SUM(I10:J10) -> 47 | J10: 47 | K10: 11 | L10: 524 | M10: 30 | N10: 24201 | O10: 55940 | P10: 70.62
A11: 대송면 | B11: =SUM(C11:E11) -> 1 | D11: 1 | H11: =SUM(I11:J11) -> 17 | J11: 17 | K11: 9 | L11: 90 | M11: 38 | N11: 1930 | O11: 3684 | P11: 32.6
A12: 동해면 | B12: =SUM(C12:E12) -> 1 | D12: 1 | H12: =SUM(I12:J12) -> 25 | J12: 25 | K12: 14 | L12: 137 | M12: 35 | N12: 4518 | O12: 9838 | P12: 43.62
A13: 장기면 | B13: =SUM(C13:E13) -> 1 | D13: 1 | H13: =SUM(I13:J13) -> 33 | J13: 33 | K13: 23 | L13: 156 | M13: 88 | N13: 2427 | O13: 4266 | P13: 100.42
A14: 호미곶면 | B14: =SUM(C14:E14) -> 1 | D14: 1 | H14: =SUM(I14:J14) -> 10 | J14: 10 | K14: 4 | L14: 57 | M14: 18 | N14: 1145 | O14: 1979 | P14: 20.62
A15: 상대동 | B15: =SUM(C15:E15) -> 1 | E15: 1 | F15: 2 | H15: =SUM(I15:J15) -> 44 | I15: 44 | L15: 272 | N15: 13045 | O15: 25746 | P15: 3.42
A16: 해도동 | B16: =SUM(C16:E16) -> 1 | E16: 1 | F16: 1 | H16: =SUM(I16:J16) -> 45 | I16: 45 | L16: 257 | N16: 9662 | O16: 18034 | P16: 1.94
A17: 송도동 | B17: =SUM(C17:E17) -> 1 | E17: 1 | F17: 1 | H17: =SUM(I17:J17) -> 31 | I17: 31 | L17: 238 | N17: 6616 | O17: 13227 | P17: 1.92
A18: 청림동 | B18: =SUM(C18:E18) -> 1 | E18: 1 | F18: 2 | H18: =SUM(I18:J18) -> 19 | I18: 19 | L18: 89 | N18: 2514 | O18: 4991 | P18: 6.72
A19: 제철동 | B19: =SUM(C19:E19) -> 1 | E19: 1 | F19: 7 | H19: =SUM(I19:J19) -> 11 | I19: 11 | L19: 52 | N19: 1576 | O19: 3087 | P19: 20.24
A20: 효곡동 | B20: =SUM(C20:E20) -> 1 | E20: 1 | F20: 2 | H20: =SUM(I20:J20) -> 35 | I20: 35 | L20: 315 | N20: 10726 | O20: 31011 | P20: 5.88
A21: 대이동 | B21: =SUM(C21:E21) -> 1 | E21: 1 | F21: 2 | H21: =SUM(I21:J21) -> 25 | I21: 25 | L21: 195 | N21: 9521 | O21: 25068 | P21: 4.94
A22: 북구 | B22: =SUM(B23:B37) -> 15 | C22: =SUM(C23:C37) -> 1 | D22: =SUM(D23:D37) -> 6 | E22: =SUM(E23:E37) -> 8 | F22: =SUM(F23:F37) -> 24 | G22: =SUM(G23:G37) -> 1 | H22: =SUM(H23:H37) -> 527 | I22: =SUM(I23:I37) -> 330 | ... P22: =SUM(P23:P37) -> 736.07
A23: 흥해읍 | B23: =SUM(C23:E23) -> 1 | C23: 1 | H23: =SUM(I23:J23) -> 67 | J23: 67 | K23: 30 | L23: 433 | M23: 92 | N23: 16372 | O23: 38783 | P23: 106.66
A24: 신광면 | B24: =SUM(C24:E24) -> 1 | D24: 1 | H24: =SUM(I24:J24) -> 22 | J24: 22 | K24: 13 | L24: 61 | M24: 46 | N24: 1590 | O24: 2878 | P24: 80.23
A25: 청하면 | B25: =SUM(C25:E25) -> 1 | D25: 1 | H25: =SUM(I25:J25) -> 28 | J25: 28 | K25: 18 | L25: 93 | M25: 43 | N25: 2690 | O25: 4899 | P25: 78.19
A26: 송라면 | B26: =SUM(C26:E26) -> 1 | D26: 1 | H26: =SUM(I26:J26) -> 21 | J26: 21 | K26: 9 | L26: 48 | M26: 22 | N26: 1534 | O26: 2630 | P26: 59.44
A27: 기계면 | B27: =SUM(C27:E27) -> 1 | D27: 1 | H27: =SUM(I27:J27) -> 24 | J27: 24 | K27: 16 | L27: 102 | M27: 55 | N27: 2631 | O27: 5130 | P27: 91.91
A28: 죽장면 | B28: =SUM(C28:E28) -> 1 | D28: 1 | G28: 1 | H28: =SUM(I28:J28) -> 23 | J28: 23 | K28: 19 | L28: 79 | M28: 80 | N28: 1634 | O28: 2777 | P28: 235.86
A29: 기북면 | B29: =SUM(C29:E29) -> 1 | D29: 1 | H29: =SUM(I29:J29) -> 12 | J29: 12 | K29: 7 | L29: 40 | M29: 21 | N29: 746 | O29: 1313 | P29: 52.39
A30: 중앙동 | B30: =SUM(C30:E30) -> 1 | E30: 1 | F30: 13 | H30: =SUM(I30:J30) -> 51 | I30: 51 | L30: 281 | N30: 8870 | O30: 16547 | P30: 2.3
A31: 양학동 | B31: =SUM(C31:E31) -> 1 | E31: 1 | F31: 2 | H31: =SUM(I31:J31) -> 30 | I31: 30 | L31: 218 | N31: 6844 | O31: 17813 | P31: 1.98
A32: 죽도동 | B32: =SUM(C32:E32) -> 1 | E32: 1 | F32: 1 | H32: =SUM(I32:J32) -> 47 | I32: 47 | L32: 332 | N32: 10772 | O32: 20356 | P32: 1.86
A33: 용흥동 | B33: =SUM(C33:E33) -> 1 | E33: 1 | F33: 1 | H33: =SUM(I33:J33) -> 34 | I33: 34 | L33: 325 | N33: 9421 | O33: 23273 | P33: 3.95
A34: 우창동 | B34: =SUM(C34:E34) -> 1 | E34: 1 | F34: 2 | H34: =SUM(I34:J34) -> 49 | I34: 49 | L34: 338 | N34: 13059 | O34: 32290 | P34: 6.25
A35: 두호동 | B35: =SUM(C35:E35) -> 1 | E35: 1 | F35: 1 | H35: =SUM(I35:J35) -> 31 | I35: 31 | L35: 254 | N35: 7949 | O35: 21254 | P35: 1.42
A36: 장량동 | B36: =SUM(C36:E36) -> 1 | E36: 1 | F36: 2 | H36: =SUM(I36:J36) -> 70 | I36: 70 | L36: 352 | N36: 26903 | O36: 71295 | P36: 11.25
A37: 환여동 | B37: =SUM(C37:E37) -> 1 | E37: 1 | F37: 2 | H37: =SUM(I37:J37) -> 18 | I37: 18 | L37: 116 | N37: 3850 | O37: 9973 | P37: 2.38
A38: 경주시 | B38: =SUM(B39:B61) -> 23 | C38: =SUM(C39:C61) -> 4 | D38: =SUM(D39:D61) -> 8 | E38: =SUM(E39:E61) -> 11 | F38: =SUM(F39:F61) -> 44 | G38: =SUM(G39:G61) -> 0 | H38: =SUM(H39:H61) -> 652 | I38: =SUM(I39:I61) -> 339 | ... P38: =SUM(P39:P61) -> 1324.82
A39: 감포읍 | B39: =SUM(C39:E39) -> 1 | C39: 1 | H39: =SUM(I39:J39) -> 20 | J39: 20 | K39: 9 | L39: 111 | M39: 52 | N39: 3088 | O39: 5646 | P39: 44.89
A40: 안강읍 | B40: =SUM(C40:E40) -> 1 | C40: 1 | H40: =SUM(I40:J40) -> 45 | J40: 45 | K40: 15 | L40: 364 | M40: 63 | N40: 12220 | O40: 26006 | P40: 138.9
...

Sheet 법정행정
A1: =전체!A1 -> 2019년 3/4분기 행정구역 현황
D2: =전체!N2 -> 2019.9.30. 현재
A3: 시·군별 | B3: 읍·면·동 명칭 | C3: 행정리 명칭 | D3: 법정리·법정동 명칭
A4: 포항시 남구 | B4: 3읍 4면 7동 | C4: 190 행정리 / 7 행정동 | D4: 84 법정리 / 17 법정동
B5: 구룡포읍 | C5: 구룡포1리~7리, 삼정1리~3리, 석병1리~2리, 성동리, 구평1리~3리, 장길리, 하정1리~3리, 병포1리~3리, 후동리, 눌태1리~2리 | D5: 구룡포리, 삼정리, 석병리, 성동리, 구평리, 장길리, 하정리, 병포리, 후동리, 눌태리
B6: 연일읍 | C6: 생지1리~5리, 괴정1리~2리, 동문1리~3리, 오천1리~2리, 유강1리~7리, 자명1리~2리, 학전리, 달전리, 중명1리~2리, 중단1리~2리, 택전1리~2리, 인주리, 우복1리~2리 | D6: 생지리, 괴정리, 동문리, 오천리, 유강리, 자명리, 학전리, 달전리, 중명리, 중단리, 택전리, 인주리, 우복리
B7: 오천읍 | C7: 원1리~12리, 문덕1리~12리, 항사리, 진전리, 갈평리, 문충1리~2리, 용산1리~2리, 광명리, 세계1리~5리, 용덕1리~6리, 구정1리~4리 | D7: 원리, 문덕리, 항사리, 진전리, 갈평리, 문충리, 용산리, 광명리, 세계리, 용덕리, 구정리
B8: 대송면 | C8: 남성1리~2리, 공수리, 장동1리~3리, 홍계리, 산여리, 대각1리~2리, 송동1리~2리, 제내1리~4리, 옥명리 | D8: 남성리, 공수리, 장동리, 홍계리, 산여리, 대각리, 송동리, 제내리, 옥명리
B9: 동해면 | C9: 도구1리~3리, 약전1리~3리, 신정1리~2리, 금광1리~2리, 석리, 임곡1리~2리, 입암1리~2리, 마산리, 흥환1리~2리, 중흥리, 발산1리~2리, 상정1리~2리, 중산리, 공당리 | D9: 도구리, 약전리, 신정리, 금광리, 석리, 임곡리, 입암리, 마산리, 흥환리, 중흥리, 발산리, 상정리, 중산리, 공당리
B10: 장기면 | C10: 읍내리, 마현리, 금곡리, 영암1리~3리, 신창1리~2리, 양포리, 계원1리~2리, 두원리, 수성리, 임중1리~2리, 방산1리~2리, 산서리, 서촌1리~2리, 금오리, 대진리, 모포1리~2리, 학계리, 학곡리, 신계리, 창지1리~2리, 대곡리, 죽정리, 정천1리~2리 | D10: 읍내리, 마현리, 금곡리, 영암리, 신창리, 양포리, 계원리, 두원리, 수성리, 임중리, 방산리, 산서리, 서촌리, 금오리, 대진리, 모포리, 학계리, 학곡리, 신계리, 창지리, 대곡리, 죽정리, 정천리
B11: 호미곶면 | C11: 강사1리~3리, 대보1리~3리, 구만1리~2리, 대동배1리~2리 | D11: 강사리, 대보리, 구만리, 대동배리
B12: 상대동 | D12: 상도동, 대도동
B13: 해도동 | D13: 해도동
B14: 송도동 | D14: 송도동
B15: 청림동 | D15: 청림동, 일월동
B16: 제철동 | D16: 송정동, 송내동, 동촌동, 괴동동, 장흥동, 호동, 인덕동
B17: 효곡동 | D17: 효자동, 지곡동
B18: 대이동 | D18: 대잠동, 이동
A19: 포항시 북구 | B19: 1읍 6면 8동 | C19: 192 행정리 / 8 행정동 | D19: 112 법정리 / 26 법정동
B20: 흥해읍 | C20: 매산리, 북송리, 마산1리~2리, 옥성1리~2리, 약성1리~2리, 학성리, 남성1리~3리, 성내리, 중성1리~2리, 망천리, 남송1리~3리, 곡강1리~3리, 용한1리~2리, 우목리, 죽천1리~2리, 용곡리, 양백1리~2리, 덕성1리~2리, 덕장1리~2리, 용전1리~2리, 용천1리~2리, 금장1리~2리, 흥안1리~2리, 칠포1리~2리, 오도1리~2리, 초곡1리~6리, 학천1리~4리, 학천5리, 성곡1리~3리, 이인1리~4리, 대련1리~3리 | D20: 매산리, 북송리, 마산리, 옥성리, 약성리, 학성리, 남성리, 성내리, 중성리, 망천리, 남송리, 곡강리, 용한리, 우목리, 죽천리, 용곡리, 양백리, 덕성리, 덕장리, 용전리, 용천리, 금장리, 흥안리, 칠포리, 오도리, 초곡리, 학천리, 성곡리, 이인리, 대련리
B21: 신광면 | C21: 냉수1리~2리, 흥곡1리~2리, 우각1리~2리, 죽성1리~2리, 상읍1리~2리, 토성1리~2리, 사정1리~2리, 안덕1리~2리, 만석1리~2리, 반곡리, 기일리, 마북리, 호리 | D21: 냉수리, 흥곡리, 우각리, 죽성리, 상읍리, 토성리, 사정리, 안덕리, 만석리, 반곡리, 기일리, 마북리, 호리
B22: 청하면 | C22: 덕성1리~2리, 덕천리, 미남리, 필화1리~2리, 용두1리~2리, 월포1리~3리, 방어리, 이가리, 청진1리~3리, 신흥리, 소동리, 고현1리~2리, 하대리, 상대리, 서정1리~2리, 명안1리~2리, 유계리, 청계리 | D22: 덕성리, 덕천리, 미남리, 필화리, 용두리, 월포리, 방어리, 이가리, 청진리, 신흥리, 소동리, 고현리, 하대리, 상대리, 서정리, 명안리, 유계리, 청계리
B23: 송라면 | C23: 상송1리~2리, 하송1리~2리, 중산1리~3리, 광천1리~3리, 조사리, 방석1리~2리, 화진1리~3리, 대전1리~2리, 지경1리~3리 | D23: 상송리, 하송리, 중산리, 광천리, 조사리, 방석리, 화진리, 대전리, 지경리
B24: 기계면 | C24: 현내1리~2리, 지가1리~2리, 봉계1리~2리, 고지1리~2리, 문성리, 학야리, 성계1리~2리, 내단1리~3리, 화대리, 화봉리, 계전리, 미현리, 인비리, 구지리, 가안1리~2리, 남계리 | D24: 현내리, 지가리, 봉계리, 고지리, 문성리, 학야리, 성계리, 내단리, 화대리, 화봉리, 계전리, 미현리, 인비리, 구지리, 가안리, 남계리
B25: 죽장면 | C25: 상옥1리~2리, 하옥리, 가사리, 매현1리~2리, 침곡리, 입암1리~2리, 일광리, 지동리, 정자리, 감곡리, 상사리, 하사리, 석계리, 합덕1리~2리, 월평리, 방흥리, 현내리, 봉계리, 두마리 | D25: 상옥리, 하옥리, 가사리, 매현리, 침곡리, 입암리, 일광리, 지동리, 정자리, 감곡리, 상사리, 하사리, 석계리, 합덕리, 월평리, 방흥리, 현내리, 봉계리, 두마리
B26: 기북면 | C26: 관천리, 대곡1리~2리, 율산1리~2리, 용기1리~2리, 오덕1리~2리, 탑정1리~2리, 성법리 | D26: 관천리, 대곡리, 율산리, 용기리, 오덕리, 탑정리, 성법리
B27: 중앙동 | D27: 신흥동, 남빈동, 상원동, 여천동, 중앙동, 덕산동, 덕수동, 학산동, 대신동, 동빈로1가, 동빈로2가, 항구동, 대흥동
B28: 양학동 | D28: 득량동, 학잠동
B29: 죽도동 | D29: 죽도동
B30: 용흥동 | D30: 용흥동, 대흥동
B31: 우창동 | D31: 우현동, 창포동, 학산동
B32: 두호동 | D32: 두호동
B33: 장량동 | D33: 장성동, 양덕동
B34: 환여동 | D34: 환호동, 여남동
A35: 경주시 | B35: 4읍 8면 11동 | C35: 307 행정리 / 11 행정동 | D35: 142 법정리 / 44 법정동
B36: 감포읍 | C36: 감포1리~5리, 오류1리~4리, 전동리, 전촌1리~2리, 호동리, 노동리, 팔조리, 나정1리~2리, 대본1리~3리 | D36: 감포리, 오류리, 전동리, 전촌리, 호동리, 노동리, 팔조리, 나정리, 대본리
B37: 안강읍 | C37: 안강1리~5리, 양월1리~6리, 육통1리~3리, 노당1리~2리, 산대1리~10리, 옥산1리~4리, 하곡리, 강교1리~2리, 두류1리~2리, 근계1리~3리, 갑산1리~2리, 대동리, 검단1리~2리, 사방리, 청령리 | D37: 안강리, 양월리, 육통리, 노당리, 산대리, 옥산리, 하곡리, 강교리, 두류리, 근계리, 갑산리, 대동리, 검단리, 사방리, 청령리
B38: 건천읍 | C38: 건천1리~5리, 천포1리~2리, 송선1리~2리, 신평1리~2리, 용명1리~3리, 대곡1리~2리, 화천1리~3리, 모량1리~2리, 방내리, 금척리, 조전1리~2리 | D38: 건천리, 천포리, 송선리, 신평리, 용명리, 대곡리, 화천리, 모량리, 방내리, 금척리, 조전리
B39: 외동읍 | C39: 입실1리~5리, 구어1리~2리, 모화1리~7리, 문산1리~2리, 석계1리~2리, 녹동리, 냉천1리~2리, 제내1리~2리, 북토리, 방어리, 신계리, 괘릉리, 활성리, 말방1리~2리, 죽동리, 개곡1리~2리, 연안1리~2리 | D39: 입실리, 구어리, 모화리, 문산리, 석계리, 녹동리, 냉천리, 제내리, 북토리, 방어리, 신계리, 괘릉리, 활성리, 말방리, 죽동리, 개곡리, 연안리
B40: 양북면 | C40: 어일1리~2리, 와읍리, 용동1리~2리, 권이리, 호암리, 안동1리~2리, 장항1리~2리, 범곡리, 입천리, 송전1리~2리, 죽전리, 두산리, 용당리, 구길리, 봉길리 | D40: 어일리, 와읍리, 용동리, 권이리, 호암리, 안동리, 장항리, 범곡리, 입천리, 송전리, 죽전리, 두산리, 용당리, 구길리, 봉길리
...
