Workbook
Name INDEX: '[1](참고) 대상 사업장 정보'!$A$2:$A$1053
Name prefix: [2]배출량계산및단위환산!$G$24:$G$34
Name 시설구분: #REF!
Name 연료단위: #REF!
Name 연료목록: #REF!
Name 원료단위: #REF!
Name 인덱스: '[3](참고) 대상 사업장 정보'!$A$2:$A$1053
Name 종구분: [3]index!$E$3:$E$7

Sheet (2-a''단계) 가할당
N2: 2 | O2: 36 | P2: 37 | Q2: 38 | R2: 39 | S2: 43 | T2: 44 | U2: 45 | V2: 46 | W2: 47 | X2: 48
S3: 733317 | T3: 22177198 | U3: 23546482 | V3: 289147432 | W3: 261973716 | X3: 241259928
S4: 19751 | T4: 9383296 | U4: 8854142 | V4: 125697238 | W4: 112147467 | X4: 101171202
B5: {=SUMPRODUCT(1/COUNTIF(B8:B1758,B8:B1758))} -> 198 | N5: 22343 | R5: 18460 | S5: 0 | T5: 436172 | U5: 435592 | V5: 5271395 | W5: 4651127 | X5: 4430871
B6: 대상 | H6: 56 | O6: 가할당 배출구('23 기준) | R6: 신설 또는 폐쇄 | S6: 배출허용총량 할당
A7: 구분 | B7: 사업장ID | C7: 환경부/지자체 | D7: 권역 | E7: 지역 | F7: 시도 | G7: 사업장명 | H7: 배출구 (시스템) | I7: 총량 배출구 | J7: 오염 물질 | K7: NOx | L7: SOx | M7: TSP | N7: ID+물질+배출구 | O7: (Y/N) | P7: 가동신고 | Q7: 재산정 | R7: 대상여부 (Y/N) | S7: 2017년 | T7: 2018년 | U7: 2019년 | V7: 2020년 | W7: 2021년 | X7: 2022년
A8: 대상 < 확인필요(24년 재산정 되었는지) | B8: 150011 | C8: 환경부 | D8: 수도권 | E8: 경기도 | F8: 시흥시 | G8: 아세아제지㈜시화공장 | H8: 2 | I8: 2 | J8: NOx | N8: 150011NOx2 | O8: Y | P8: 2022년 | Q8: 2024년 | R8: Y | T8: 18019 | U8: 15676 | V8: 13333 | W8: 10990 | X8: 8646
A9: 대상 < 확인필요(24년 재산정 되었는지) | B9: 150011 | C9: 환경부 | D9: 수도권 | E9: 경기도 | F9: 시흥시 | G9: 아세아제지㈜시화공장 | H9: 2 | I9: 2 | J9: TSP | N9: 150011TSP2 | O9: Y | P9: 2022년 | Q9: 2024년 | R9: Y | T9: 1734 | U9: 1517 | V9: 1300 | W9: 1083 | X9: 866
A10: 대상 | B10: 150031 | C10: 환경부 | D10: 수도권 | E10: 인천광역시 | F10: 중구 | G10: ㈜SUN&L | H10: 136 | I10: 137 | J10: NOx | N10: 150031NOx136 | O10: Y | P10: 2023년 | Q10: 2025년 | R10: Y
A11: 대상 | B11: 150048 | C11: 환경부 | D11: 수도권 | E11: 인천광역시 | F11: 서구 | G11: 한국남부발전(주)신인천빛드림본부 | H11: 168 | I11: 22 | J11: NOx | N11: 150048NOx168 | O11: Y | P11: 2023년 | Q11: 2025년 | R11: Y
A12: 대상 < 확인필요(24년 재산정 되었는지) | B12: 170799 | C12: 지자체 | D12: 중부권 | E12: 충청남도 | F12: 서천군 | G12: 국립생태원 | H12: 2 | I12: 2 | J12: NOx | N12: 170799NOx2 | O12: Y | P12: 2022년 | Q12: 2024년 | R12: Y | X12: 33
A13: 미대상(27년 재산정) | B13: 150063 | C13: 환경부 | D13: 수도권 | E13: 경기도 | F13: 안양시 | G13: GS파워㈜안양열병합발전처 | H13: 210 | I13: 21 | J13: NOx | N13: 150063NOx210 | O13: Y | P13: 2025년 | Q13: 2027년 | R13: Y | V13: 1326 | W13: 1326 | X13: 1326
A14: 대상 | B14: 150105 | C14: 환경부 | D14: 수도권 | E14: 경기도 | F14: 고양시 | G14: 서울특별시 난지물재생센터 | H14: 10 | I14: 10 | J14: NOx | N14: 150105NOx10 | O14: Y | P14: 2021년 3월 | Q14: 2025년 | R14: Y | X14: 3
A15: 미대상(24년 배출량보고 없음) | B15: 150271 | C15: 환경부 | D15: 수도권 | E15: 경기도 | F15: 이천시 | G15: 에스케이하이닉스㈜ | H15: 265 | I15: 265 | J15: NOx | N15: 150271NOx265 | O15: Y | P15: 미가동 | Q15: 2025년 | R15: Y | X15: 12
A16: 미대상(24년 배출량보고 없음) | B16: 150271 | C16: 환경부 | D16: 수도권 | E16: 경기도 | F16: 이천시 | G16: 에스케이하이닉스㈜ | H16: 265 | I16: 265 | J16: SOx | N16: 150271SOx265 | O16: Y | P16: 미가동 | Q16: 2025년 | R16: Y | X16: 3
A17: 미대상(24년 배출량보고 없음) | B17: 150271 | C17: 환경부 | D17: 수도권 | E17: 경기도 | F17: 이천시 | G17: 에스케이하이닉스㈜ | H17: 266 | I17: 266 | J17: NOx | N17: 150271NOx266 | O17: Y | P17: 미가동 | Q17: 2025년 | R17: Y | X17: 12
A18: 미대상(24년 배출량보고 없음) | B18: 150271 | C18: 환경부 | D18: 수도권 | E18: 경기도 | F18: 이천시 | G18: 에스케이하이닉스㈜ | H18: 266 | I18: 266 | J18: SOx | N18: 150271SOx266 | O18: Y | P18: 미가동 | Q18: 2025년 | R18: Y | X18: 3
A19: 미대상(24년 배출량보고 없음) | B19: 150271 | C19: 환경부 | D19: 수도권 | E19: 경기도 | F19: 이천시 | G19: 에스케이하이닉스㈜ | H19: 267 | I19: 267 | J19: NOx | N19: 150271NOx267 | O19: Y | P19: 미가동 | Q19: 2025년 | R19: Y | X19: 12
A20: 미대상(24년 배출량보고 없음) | B20: 150271 | C20: 환경부 | D20: 수도권 | E20: 경기도 | F20: 이천시 | G20: 에스케이하이닉스㈜ | H20: 267 | I20: 267 | J20: SOx | N20: 150271SOx267 | O20: Y | P20: 미가동 | Q20: 2025년 | R20: Y | X20: 3
A21: 미대상(24년 배출량보고 없음) | B21: 150271 | C21: 환경부 | D21: 수도권 | E21: 경기도 | F21: 이천시 | G21: 에스케이하이닉스㈜ | H21: 268 | I21: 268 | J21: NOx | N21: 150271NOx268 | O21: Y | P21: 미가동 | Q21: 2025년 | R21: Y | X21: 12
A22: 미대상(24년 배출량보고 없음) | B22: 150271 | C22: 환경부 | D22: 수도권 | E22: 경기도 | F22: 이천시 | G22: 에스케이하이닉스㈜ | H22: 268 | I22: 268 | J22: SOx | N22: 150271SOx268 | O22: Y | P22: 미가동 | Q22: 2025년 | R22: Y | X22: 3
A23: 미대상(24년 배출량보고 없음) | B23: 150271 | C23: 환경부 | D23: 수도권 | E23: 경기도 | F23: 이천시 | G23: 에스케이하이닉스㈜ | H23: 269 | I23: 269 | J23: NOx | N23: 150271NOx269 | O23: Y | P23: 미가동 | Q23: 2025년 | R23: Y | X23: 12
A24: 미대상(24년 배출량보고 없음) | B24: 150271 | C24: 환경부 | D24: 수도권 | E24: 경기도 | F24: 이천시 | G24: 에스케이하이닉스㈜ | H24: 269 | I24: 269 | J24: SOx | N24: 150271SOx269 | O24: Y | P24: 미가동 | Q24: 2025년 | R24: Y | X24: 2
A25: 미대상(24년 배출량보고 없음) | B25: 150271 | C25: 환경부 | D25: 수도권 | E25: 경기도 | F25: 이천시 | G25: 에스케이하이닉스㈜ | H25: 270 | I25: 270 | J25: NOx | N25: 150271NOx270 | O25: Y | P25: 미가동 | Q25: 2025년 | R25: Y | X25: 6
... A104: 미대상(24년 배출량보고 없음) | B104: 150271 | C104: 환경부 | D104: 수도권 | E104: 경기도 | F104: 이천시 | G104: 에스케이하이닉스㈜ | H104: 338 | I104: 338 | J104: NOx | N104: 150271NOx338 | O104: Y | P104: 미가동 | Q104: 2025년 | R104: Y | X104: 1
A105: 미대상(24년 배출량보고 없음) | B105: 150271 | C105: 환경부 | D105: 수도권 | E105: 경기도 | F105: 이천시 | G105: 에스케이하이닉스㈜ | H105: 338 | I105: 338 | J105: SOx | N105: 150271SOx338 | O105: Y | P105: 미가동 | Q105: 2025년 | R105: Y
A106: 대상 | B106: 150582 | C106: 환경부 | D106: 수도권 | E106: 경기도 | F106: 김포시 | G106: 김포시 자원화센터 | H106: 7 | I106: 7 | J106: NOx | N106: 150582NOx7 | O106: Y | P106: 2023년 | Q106: 2025년 | R106: Y
A107: 대상 | B107: 150582 | C107: 환경부 | D107: 수도권 | E107: 경기도 | F107: 김포시 | G107: 김포시 자원화센터 | H107: 7 | I107: 7 | J107: TSP | N107: 150582TSP7 | O107: Y | P107: 2023년 | Q107: 2025년 | R107: Y | W107: 5831 | X107: 5831
A108: 미대상 < 확인필요(24년 재산정 되었는지) | B108: 150634 | C108: 지자체 | D108: 수도권 | E108: 인천광역시 | F108: 연수구 | G108: 삼성바이오로직스㈜ | H108: 77 | I108: 77 | J108: NOx | N108: 150634NOx77 | O108: Y | Q108: 2024년 | R108: Y | W108: 2205 | X108: 2205
A109: 미대상 < 확인필요(24년 재산정 되었는지) | B109: 150634 | C109: 지자체 | D109: 수도권 | E109: 인천광역시 | F109: 연수구 | G109: 삼성바이오로직스㈜ | H109: 78 | I109: 78 | J109: NOx | N109: 150634NOx78 | O109: Y | Q109: 2024년 | R109: Y | W109: 3674 | X109: 3674
A110: 미대상 < 확인필요(24년 재산정 되었는지) | B110: 150634 | C110: 지자체 | D110: 수도권 | E110: 인천광역시 | F110: 연수구 | G110: 삼성바이오로직스㈜ | H110: 79 | I110: 79 | J110: NOx | N110: 150634NOx79 | O110: Y | Q110: 2024년 | R110: Y | X110: 190
A111: 대상 | B111: 150645 | C111: 지자체 | D111: 수도권 | E111: 서울특별시 | F111: 종로구 | G111: 서울대학교병원 | H111: 7 | J111: NOx | N111: 150645NOx7 | O111: Y | P111: 2023년 | Q111: 2025년 | R111: Y
A112: 대상 | B112: 150645 | C112: 지자체 | D112: 수도권 | E112: 서울특별시 | F112: 종로구 | G112: 서울대학교병원 | H112: 8 | J112: NOx | N112: 150645NOx8 | O112: Y | P112: 2023년 | Q112: 2025년 | R112: Y | X112: 5236
A113: 미대상(24년 배출량 보고 없음) < 확인필요(기타) | B113: 150694 | C113: 환경부 | D113: 수도권 | E113: 경기도 | F113: 평택시 | G113: ㈜동우에너지소재 | H113: 9 | I113: 9 | J113: NOx | N113: 150694NOx9 | O113: Y | P113: 미설치 | Q113: 미설치(24년 설치 예정) | R113: Y | X113: 2942
A114: 미대상(24년 배출량 보고 없음) < 확인필요(기타) | B114: 150694 | C114: 환경부 | D114: 수도권 | E114: 경기도 | F114: 평택시 | G114: ㈜동우에너지소재 | H114: 9 | I114: 9 | J114: SOx | N114: 150694SOx9 | O114: Y | P114: 미설치 | Q114: 미설치(24년 설치 예정) | R114: Y | X114: 433
A115: 미대상(24년 배출량 보고 없음) < 확인필요(기타) | B115: 150694 | C115: 환경부 | D115: 수도권 | E115: 경기도 | F115: 평택시 | G115: ㈜동우에너지소재 | H115: 9 | I115: 9 | J115: TSP | N115: 150694TSP9 | O115: Y | P115: 미설치 | Q115: 미설치(24년 설치 예정) | R115: Y | T115: 0 | U115: 871 | V115: 871 | W115: 871 | X115: 871
A116: 확인필요(기타) | B116: 150762 | C116: 지자체 | D116: 수도권 | E116: 경기도 | F116: 여주시 | G116: ㈜이에스여주 | H116: 1 | I116: 1 | J116: TSP | N116: 150762TSP1 | O116: Y | P116: 미설치 | Q116: 미설치 | R116: N | W116: 11443 | X116: 11443
A117: 미대성(24년 배출량보고 없음) < 확인필요(기타) | B117: 150763 | C117: 지자체 | D117: 수도권 | E117: 인천광역시 | F117: 중구 | G117: 제이셋스태츠칩팩코리아(유) | H117: 3 | I117: 3 | J117: NOx | N117: 150763NOx3 | O117: Y | P117: 2021년 예정 | Q117: 미설치 | R117: Y | V117: 42163 | W117: 42163 | X117: 42163
A118: 미대상(24년 배출량보고없음) < 확인필요(기타) | B118: 150767 | C118: 지자체 | D118: 수도권 | E118: 경기도 | F118: 양주시 | G118: ㈜와이에스에너지 | H118: 1 | I118: 1 | J118: NOx | N118: 150767NOx1 | O118: Y | P118: 미설치 | Q118: 미설치 | R118: Y | V118: 36583 | W118: 36583 | X118: 36583
A119: 미대상(24년 배출량보고없음) < 확인필요(기타) | B119: 150767 | C119: 지자체 | D119: 수도권 | E119: 경기도 | F119: 양주시 | G119: ㈜와이에스에너지 | H119: 1 | I119: 1 | J119: SOx | N119: 150767SOx1 | O119: Y | P119: 미설치 | Q119: 미설치 | R119: Y | V119: 429 | W119: 429 | X119: 429
A120: 미대상(24년 배출량보고없음) < 확인필요(기타) | B120: 150767 | C120: 지자체 | D120: 수도권 | E120: 경기도 | F120: 양주시 | G120: ㈜와이에스에너지 | H120: 1 | I120: 1 | J120: TSP | N120: 150767TSP1 | O120: Y | P120: 미설치 | Q120: 미설치 | R120: Y | W120: 0 | X120: 5578
A121: 미대상(24년 재산정) | B121: 150768 | C121: 환경부 | D121: 수도권 | E121: 경기도 | F121: 평택시 | G121: 삼성전자㈜평택사업장 | H121: 23 | I121: 23 | J121: NOx | N121: 150768NOx23 | O121: Y | P121: 2022년 | Q121: 2024년 | R121: Y | W121: 0 | X121: 5578
A122: 미대상(24년 재산정) | B122: 150768 | C122: 환경부 | D122: 수도권 | E122: 경기도 | F122: 평택시 | G122: 삼성전자㈜평택사업장 | H122: 24 | I122: 24 | J122: NOx | N122: 150768NOx24 | O122: Y | P122: 2022년 | Q122: 2024년 | R122: Y | W122: 0 | X122: 5578
A123: 미대상(24년 재산정) | B123: 150768 | C123: 환경부 | D123: 수도권 | E123: 경기도 | F123: 평택시 | G123: 삼성전자㈜평택사업장 | H123: 25 | I123: 25 | J123: NOx | N123: 150768NOx25 | O123: Y | P123: 2022년 | Q123: 2024년 | R123: Y | W123: 0 | X123: 5578
A124: 미대상(24년 재산정) | B124: 150768 | C124: 환경부 | D124: 수도권 | E124: 경기도 | F124: 평택시 | G124: 삼성전자㈜평택사업장 | H124: 26 | I124: 26 | J124: NOx | N124: 150768NOx26 | O124: Y | P124: 2022년 | Q124: 2024년 | R124: Y | W124: 0 | X124: 5578
A125: 미대상(24년 재산정) | B125: 150768 | C125: 환경부 | D125: 수도권 | E125: 경기도 | F125: 평택시 | G125: 삼성전자㈜평택사업장 | H125: 27 | I125: 27 | J125: NOx | N125: 150768NOx27 | O125: Y | P125: 2022년 | Q125: 2024년 | R125: Y | W125: 0 | X125: 4881
A126: 미대상(24년 재산정) | B126: 150768 | C126: 환경부 | D126: 수도권 | E126: 경기도 | F126: 평택시 | G126: 삼성전자㈜평택사업장 | H126: 28 | I126: 28 | J126: NOx | N126: 150768NOx28 | O126: Y | P126: 2022년 | Q126: 2024년 | R126: Y | X126: 20
A127: 미대상(24년 재산정) | B127: 150768 | C127: 환경부 | D127: 수도권 | E127: 경기도 | F127: 평택시 | G127: 삼성전자㈜평택사업장 | H127: 34 | I127: 34 | J127: NOx | N127: 150768NOx34 | O127: Y | P127: 2022년 | Q127: 2024년 | R127: Y | X127: 20
A128: 미대상(24년 재산정) | B128: 150768 | C128: 환경부 | D128: 수도권 | E128: 경기도 | F128: 평택시 | G128: 삼성전자㈜평택사업장 | H128: 35 | I128: 35 | J128: NOx | N128: 150768NOx35 | O128: Y | P128: 2022년 | Q128: 2024년 | R128: Y | X128: 20
A129: 대상 | B129: 150768 | C129: 환경부 | D129: 수도권 | E129: 경기도 | F129: 평택시 | G129: 삼성전자㈜평택사업장 | H129: 36 | I129: 36 | J129: NOx | N129: 150768NOx36 | O129: Y | P129: 2023년 | Q129: 2025년 | R129: Y | W129: 2853 | X129: 2853
A130: 대상 | B130: 150768 | C130: 환경부 | D130: 수도권 | E130: 경기도 | F130: 평택시 | G130: 삼성전자㈜평택사업장 | H130: 64 | I130: 64 | J130: NOx | N130: 150768NOx64 | O130: Y | P130: 2023년 | Q130: 2025년 | R130: Y | W130: 2853 | X130: 2853
A131: 대상 | B131: 150768 | C131: 환경부 | D131: 수도권 | E131: 경기도 | F131: 평택시 | G131: 삼성전자㈜평택사업장 | H131: 80 | I131: 80 | J131: NOx | N131: 150768NOx80 | O131: Y | P131: 2023년 | Q131: 2025년 | R131: Y | W131: 2853 | X131: 2853
A132: 미대상(24년 배출량 보고 없음) < 확인필요(기타) | B132: 150768 | C132: 환경부 | D132: 수도권 | E132: 경기도 | F132: 평택시 | G132: 삼성전자㈜평택사업장 | H132: 86 | I132: 86 | J132: NOx | N132: 150768NOx86 | O132: Y | P132: 가동신고전 | Q132: 가동신고전 | R132: Y | W132: 2853 | X132: 2853
A133: 미대상(24년 배출량 보고 없음) < 확인필요(기타) | B133: 150768 | C133: 환경부 | D133: 수도권 | E133: 경기도 | F133: 평택시 | G133: 삼성전자㈜평택사업장 | H133: 87 | I133: 87 | J133: NOx | N133: 150768NOx87 | O133: Y | P133: 가동신고전 | Q133: 가동신고전 | R133: Y | W133: 2853 | X133: 2853
A134: 대상 | B134: 150768 | C134: 환경부 | D134: 수도권 | E134: 경기도 | F134: 평택시 | G134: 삼성전자㈜평택사업장 | H134: 111 | I134: 111 | J134: NOx | N134: 150768NOx111 | O134: Y | P134: 2023년 | Q134: 2025년 | R134: Y | W134: 2853 | X134: 2853
A135: 미대상(24년 재산정) | B135: 150768 | C135: 환경부 | D135: 수도권 | E135: 경기도 | F135: 평택시 | G135: 삼성전자㈜평택사업장 | H135: 119 | I135: 119 | J135: NOx | N135: 150768NOx119 | O135: Y | P135: 2022년 | Q135: 2024년 | R135: Y | W135: 2853 | X135: 2853
A136: 미대상(24년 재산정) | B136: 150768 | C136: 환경부 | D136: 수도권 | E136: 경기도 | F136: 평택시 | G136: 삼성전자㈜평택사업장 | H136: 120 | I136: 120 | J136: NOx | N136: 150768NOx120 | O136: Y | P136: 2022년 | Q136: 2024년 | R136: Y | W136: 1426 | X136: 2853
A137: 미대상(24년 재산정) | B137: 150768 | C137: 환경부 | D137: 수도권 | E137: 경기도 | F137: 평택시 | G137: 삼성전자㈜평택사업장 | H137: 133 | I137: 133 | J137: NOx | N137: 150768NOx133 | O137: Y | P137: 2022년 | Q137: 2024년 | R137: Y | W137: 1426 | X137: 2853
A138: 미대상(24년 재산정) | B138: 150768 | C138: 환경부 | D138: 수도권 | E138: 경기도 | F138: 평택시 | G138: 삼성전자㈜평택사업장 | H138: 134 | I138: 134 | J138: NOx | N138: 150768NOx134 | O138: Y | P138: 2022년 | Q138: 2024년 | R138: Y | W138: 1426 | X138: 2853
A139: 미대상(24년 재산정) | B139: 150768 | C139: 환경부 | D139: 수도권 | E139: 경기도 | F139: 평택시 | G139: 삼성전자㈜평택사업장 | H139: 135 | I139: 135 | J139: NOx | N139: 150768NOx135 | O139: Y | P139: 2022년 | Q139: 2024년 | R139: Y | W139: 1426 | X139: 2853
A140: 대상 | B140: 150768 | C140: 환경부 | D140: 수도권 | E140: 경기도 | F140: 평택시 | G140: 삼성전자㈜평택사업장 | H140: 136 | I140: 136 | J140: NOx | N140: 150768NOx136 | O140: Y | P140: 2023년 | Q140: 2025년 | R140: Y | W140: 1427 | X140: 2853
... A236: 미대상(24년 배출량 보고 없음) < 확인필요(기타) | B236: 150768 | C236: 환경부 | D236: 수도권 | E236: 경기도 | F236: 평택시 | G236: 삼성전자㈜평택사업장 | H236: 236 | I236: 236 | J236: NOx | N236: 150768NOx236 | O236: Y | P236: 설치예정 | Q236: 미설치 | R236: Y | W236: 0 | X236: 5578
A237: 미대상(24년 배출량 보고 없음) < 확인필요(기타) | B237: 150768 | C237: 환경부 | D237: 수도권 | E237: 경기도 | F237: 평택시 | G237: 삼성전자㈜평택사업장 | H237: 237 | I237: 237 | J237: NOx | N237: 150768NOx237 | O237: Y | P237: 설치예정 | Q237: 미설치 | R237: Y | X237: 938
A238: 미대상(24년 배출량 보고 없음) < 확인필요(기타) | B238: 150768 | C238: 환경부 | D238: 수도권 | E238: 경기도 | F238: 평택시 | G238: 삼성전자㈜평택사업장 | H238: 238 | I238: 238 | J238: NOx | N238: 150768NOx238 | O238: Y | P238: 설치예정 | Q238: 미설치 | R238: Y | X238: 125
A239: 미대상(24년 배출량 보고 없음) < 확인필요(기타) | B239: 150768 | C239: 환경부 | D239: 수도권 | E239: 경기도 | F239: 평택시 | G239: 삼성전자㈜평택사업장 | H239: 239 | I239: 239 | J239: NOx | N239: 150768NOx239 | O239: Y | P239: 설치예정 | Q239: 미설치 | R239: Y | X239: 2843
A240: 미대상(24년 배출량 보고 없음) < 확인필요(기타) | B240: 150768 | C240: 환경부 | D240: 수도권 | E240: 경기도 | F240: 평택시 | G240: 삼성전자㈜평택사업장 | H240: 240 | I240: 240 | J240: NOx | N240: 150768NOx240 | O240: Y | P240: 설치예정 | Q240: 미설치 | R240: Y | W240: 2843 | X240: 2843
A241: 미대상(24년 배출량 보고 없음) < 확인필요(기타) | B241: 150768 | C241: 환경부 | D241: 수도권 | E241: 경기도 | F241: 평택시 | G241: 삼성전자㈜평택사업장 | H241: 241 | I241: 241 | J241: NOx | N241: 150768NOx241 | O241: Y | P241: 설치예정 | Q241: 미설치 | R241: Y | X241: 1645
A242: 미대상(24년 배출량 보고 없음) < 확인필요(기타) | B242: 150768 | C242: 환경부 | D242: 수도권 | E242: 경기도 | F242: 평택시 | G242: 삼성전자㈜평택사업장 | H242: 242 | I242: 242 | J242: NOx | N242: 150768NOx242 | O242: Y | P242: 설치예정 | Q242: 미설치 | R242: Y | X242: 126
A243: 미대상(24년 배출량 보고 없음) < 확인필요(기타) | B243: 150768 | C243: 환경부 | D243: 수도권 | E243: 경기도 | F243: 평택시 | G243: 삼성전자㈜평택사업장 | H243: 243 | I243: 243 | J243: NOx | N243: 150768NOx243 | O243: Y | P243: 설치예정 | Q243: 미설치 | R243: Y | X243: 837
A244: 미대상(24년 배출량 보고 없음) < 확인필요(기타) | B244: 150768 | C244: 환경부 | D244: 수도권 | E244: 경기도 | F244: 평택시 | G244: 삼성전자㈜평택사업장 | H244: 244 | I244: 244 | J244: NOx | N244: 150768NOx244 | O244: Y | P244: 설치예정 | Q244: 미설치 | R244: Y | X244: 837
A245: 미대상(24년 배출량 보고 없음) < 확인필요(기타) | B245: 150768 | C245: 환경부 | D245: 수도권 | E245: 경기도 | F245: 평택시 | G245: 삼성전자㈜평택사업장 | H245: 245 | I245: 245 | J245: NOx | N245: 150768NOx245 | O245: Y | P245: 설치예정 | Q245: 미설치 | R245: Y | X245: 837
A246: 미대상(24년 배출량 보고 없음) < 확인필요(기타) | B246: 150768 | C246: 환경부 | D246: 수도권 | E246: 경기도 | F246: 평택시 | G246: 삼성전자㈜평택사업장 | H246: 246 | I246: 246 | J246: NOx | N246: 150768NOx246 | O246: Y | P246: 설치예정 | Q246: 미설치 | R246: Y | X246: 837
A247: 미대상(24년 배출량 보고 없음) < 확인필요(기타) | B247: 150768 | C247: 환경부 | D247: 수도권 | E247: 경기도 | F247: 평택시 | G247: 삼성전자㈜평택사업장 | H247: 247 | I247: 247 | J247: NOx | N247: 150768NOx247 | O247: Y | P247: 설치예정 | Q247: 미설치 | R247: Y | X247: 837
A248: 미대상(24년 재산정) | B248: 150768 | C248: 환경부 | D248: 수도권 | E248: 경기도 | F248: 평택시 | G248: 삼성전자㈜평택사업장 | H248: 250 | I248: 250 | J248: NOx | N248: 150768NOx250 | O248: Y | P248: 2022년 1월 | Q248: 2024년 | R248: Y | X248: 837
A249: 미대상(24년 재산정) | B249: 150768 | C249: 환경부 | D249: 수도권 | E249: 경기도 | F249: 평택시 | G249: 삼성전자㈜평택사업장 | H249: 251 | I249: 251 | J249: NOx | N249: 150768NOx251 | O249: Y | P249: 2022년 1월 | Q249: 2024년 | R249: Y | X249: 837
A250: 미대상(24년 재산정) | B250: 150768 | C250: 환경부 | D250: 수도권 | E250: 경기도 | F250: 평택시 | G250: 삼성전자㈜평택사업장 | H250: 252 | I250: 252 | J250: NOx | N250: 150768NOx252 | O250: Y | P250: 2022년 | Q250: 2024년 | R250: Y | X250: 837
A251: 대상(24년 배출량 보고 있음) < 확인필요(기타) | B251: 150768 | C251: 환경부 | D251: 수도권 | E251: 경기도 | F251: 평택시 | G251: 삼성전자㈜평택사업장 | H251: 255 | I251: 255 | J251: NOx | N251: 150768NOx255 | O251: Y | P251: 42856 | Q251: 미정(추후확인필요) | R251: Y | X251: 837
A252: 대상 | B252: 150768 | C252: 환경부 | D252: 수도권 | E252: 경기도 | F252: 평택시 | G252: 삼성전자㈜평택사업장 | H252: 269 | I252: 269 | J252: NOx | N252: 150768NOx269 | O252: Y | P252: 2023년 | Q252: 2025년 | R252: Y | X252: 837
A253: 미대상(24년 배출량 보고 없음) < 확인필요(기타) | B253: 150768 | C253: 환경부 | D253: 수도권 | E253: 경기도 | F253: 평택시 | G253: 삼성전자㈜평택사업장 | H253: 270 | I253: 270 | J253: NOx | N253: 150768NOx270 | O253: Y | P253: 설치예정 | Q253: 미설치 | R253: Y | X253: 837
A254: 미대상(24년 배출량 보고 없음) < 확인필요(기타) | B254: 150768 | C254: 환경부 | D254: 수도권 | E254: 경기도 | F254: 평택시 | G254: 삼성전자㈜평택사업장 | H254: 271 | I254: 271 | J254: NOx | N254: 150768NOx271 | O254: Y | P254: 설치예정 | Q254: 미설치 | R254: Y | X254: 837
A255: 미대상(24년 배출량 보고 없음) < 확인필요(기타) | B255: 150768 | C255: 환경부 | D255: 수도권 | E255: 경기도 | F255: 평택시 | G255: 삼성전자㈜평택사업장 | H255: 272 | I255: 272 | J255: NOx | N255: 150768NOx272 | O255: Y | P255: 설치예정 | Q255: 미설치 | R255: Y | X255: 837
A256: 미대상(24년 배출량 보고 없음) < 확인필요(기타) | B256: 150768 | C256: 환경부 | D256: 수도권 | E256: 경기도 | F256: 평택시 | G256: 삼성전자㈜평택사업장 | H256: 273 | I256: 273 | J256: NOx | N256: 150768NOx273 | O256: Y | P256: 설치예정 | Q256: 미설치 | R256: Y | X256: 837
A257: 미대상(24년 배출량 보고 없음) < 확인필요(기타) | B257: 150768 | C257: 환경부 | D257: 수도권 | E257: 경기도 | F257: 평택시 | G257: 삼성전자㈜평택사업장 | H257: 274 | I257: 274 | J257: NOx | N257: 150768NOx274 | O257: Y | P257: 설치예정 | Q257: 미설치 | R257: Y | X257: 837
A258: 미대상(24년 배출량 보고 없음) < 확인필요(기타) | B258: 150768 | C258: 환경부 | D258: 수도권 | E258: 경기도 | F258: 평택시 | G258: 삼성전자㈜평택사업장 | H258: 275 | I258: 275 | J258: NOx | N258: 150768NOx275 | O258: Y | P258: 설치예정 | Q258: 미설치 | R258: Y | X258: 837
A259: 미대상(24년 배출량 보고 없음) < 확인필요(기타) | B259: 150768 | C259: 환경부 | D259: 수도권 | E259: 경기도 | F259: 평택시 | G259: 삼성전자㈜평택사업장 | H259: 276 | I259: 276 | J259: NOx | N259: 150768NOx276 | O259: Y | P259: 설치예정 | Q259: 미설치 | R259: Y | X259: 837
A260: 미대상(24년 배출량 보고 없음) < 확인필요(기타) | B260: 150768 | C260: 환경부 | D260: 수도권 | E260: 경기도 | F260: 평택시 | G260: 삼성전자㈜평택사업장 | H260: 277 | I260: 277 | J260: NOx | N260: 150768NOx277 | O260: Y | P260: 설치예정 | Q260: 미설치 | R260: Y | X260: 837
A261: 미대상(24년 배출량 보고 없음) < 확인필요(기타) | B261: 150768 | C261: 환경부 | D261: 수도권 | E261: 경기도 | F261: 평택시 | G261: 삼성전자㈜평택사업장 | H261: 278 | I261: 278 | J261: NOx | N261: 150768NOx278 | O261: Y | P261: 설치예정 | Q261: 미설치 | R261: Y | X261: 837
A262: 미대상(24년 배출량 보고 없음) < 확인필요(기타) | B262: 150768 | C262: 환경부 | D262: 수도권 | E262: 경기도 | F262: 평택시 | G262: 삼성전자㈜평택사업장 | H262: 279 | I262: 279 | J262: NOx | N262: 150768NOx279 | O262: Y | P262: 설치예정 | Q262: 미설치 | R262: Y | X262: 837
A263: 미대상(24년 배출량 보고 없음) < 확인필요(기타) | B263: 150768 | C263: 환경부 | D263: 수도권 | E263: 경기도 | F263: 평택시 | G263: 삼성전자㈜평택사업장 | H263: 280 | I263: 280 | J263: NOx | N263: 150768NOx280 | O263: Y | P263: 설치예정 | Q263: 미설치 | R263: Y | X263: 837
... A665: 미대상(24년 배출량 보고 없음) < 확인필요(기타) | B665: 150768 | C665: 환경부 | D665: 수도권 | E665: 경기도 | F665: 평택시 | G665: 삼성전자㈜평택사업장 | H665: 682 | I665: 682 | J665: NOx | N665: 150768NOx682 | O665: Y | P665: 설치예정 | Q665: 미설치 | R665: Y | X665: 252
A666: 미대상(24년 배출량 보고 없음) < 확인필요(기타) | B666: 150768 | C666: 환경부 | D666: 수도권 | E666: 경기도 | F666: 평택시 | G666: 삼성전자㈜평택사업장 | H666: 683 | I666: 683 | J666: NOx | N666: 150768NOx683 | O666: Y | P666: 설치예정 | Q666: 미설치 | R666: Y | U666: 13957 | V666: 13957 | W666: 13957 | X666: 13957
A667: 미대상(24년 배출량 보고 없음) < 확인필요(기타) | B667: 150768 | C667: 환경부 | D667: 수도권 | E667: 경기도 | F667: 평택시 | G667: 삼성전자㈜평택사업장 | H667: 684 | I667: 684 | J667: NOx | N667: 150768NOx684 | O667: Y | P667: 설치예정 | Q667: 미설치 | R667: Y | W667: 49555 | X667: 49555
A668: 미대상(24년 배출량 보고 없음) < 확인필요(기타) | B668: 150768 | C668: 환경부 | D668: 수도권 | E668: 경기도 | F668: 평택시 | G668: 삼성전자㈜평택사업장 | H668: 685 | I668: 685 | J668: NOx | N668: 150768NOx685 | O668: Y | P668: 설치예정 | Q668: 미설치 | R668: Y | W668: 13788 | X668: 13788
A669: 미대상(24년 배출량 보고 없음) < 확인필요(기타) | B669: 150768 | C669: 환경부 | D669: 수도권 | E669: 경기도 | F669: 평택시 | G669: 삼성전자㈜평택사업장 | H669: 686 | I669: 686 | J669: NOx | N669: 150768NOx686 | O669: Y | P669: 설치예정 | Q669: 미설치 | R669: Y | W669: 1932 | X669: 1932
A670: 미대상(24년 배출량 보고 없음) < 확인필요(기타) | B670: 150768 | C670: 환경부 | D670: 수도권 | E670: 경기도 | F670: 평택시 | G670: 삼성전자㈜평택사업장 | H670: 687 | I670: 687 | J670: NOx | N670: 150768NOx687 | O670: Y | P670: 설치예정 | Q670: 미설치 | R670: Y | W670: 49555 | X670: 49555
A671: 미대상(24년 배출량 보고 없음) < 확인필요(기타) | B671: 150768 | C671: 환경부 | D671: 수도권 | E671: 경기도 | F671: 평택시 | G671: 삼성전자㈜평택사업장 | H671: 688 | I671: 688 | J671: NOx | N671: 150768NOx688 | O671: Y | P671: 설치예정 | Q671: 미설치 | R671: Y | W671: 13788 | X671: 13788
A672: 미대상(24년 배출량 보고 없음) < 확인필요(기타) | B672: 150768 | C672: 환경부 | D672: 수도권 | E672: 경기도 | F672: 평택시 | G672: 삼성전자㈜평택사업장 | H672: 689 | I672: 689 | J672: NOx | N672: 150768NOx689 | O672: Y | P672: 설치예정 | Q672: 미설치 | R672: Y | W672: 1932 | X672: 1932
A673: 미대상(24년 배출량 보고 없음) < 확인필요(기타) | B673: 150768 | C673: 환경부 | D673: 수도권 | E673: 경기도 | F673: 평택시 | G673: 삼성전자㈜평택사업장 | H673: 690 | I673: 690 | J673: NOx | N673: 150768NOx690 | O673: Y | P673: 설치예정 | Q673: 미설치 | R673: Y | V673: 4530 | W673: 4530 | X673: 4530
A674: 미대상(24년 배출량 보고 없음) < 확인필요(기타) | B674: 150768 | C674: 환경부 | D674: 수도권 | E674: 경기도 | F674: 평택시 | G674: 삼성전자㈜평택사업장 | H674: 691 | I674: 691 | J674: NOx | N674: 150768NOx691 | O674: Y | P674: 설치예정 | Q674: 미설치 | R674: Y | W674: 106000 | X674: 211000
A675: 미대상(24년 배출량 보고 없음) < 확인필요(기타) | B675: 150768 | C675: 환경부 | D675: 수도권 | E675: 경기도 | F675: 평택시 | G675: 삼성전자㈜평택사업장 | H675: 692 | I675: 692 | J675: NOx | N675: 150768NOx692 | O675: Y | P675: 설치예정 | Q675: 미설치 | R675: Y | W675: 106000 | X675: 211000
...

Sheet 대상_중복제거
N2: 2 | O2: 36 | P2: 37 | Q2: 38
C5: {=SUMPRODUCT(1/COUNTIF(C8:C1595,C8:C1595))} -> 198 | N5: 22343
C6: 대상 | I6: =SUBTOTAL(3,I8:I1595) -> 1588 | K6: 오염물질 | O6: 가할당 배출구('23 기준)
A7: 구분 | B7: index | C7: 사업장ID | D7: 환경부/지자체 | E7: 권역 | F7: 지역 | G7: 시도 | H7: 사업장명 | I7: 배출구 (시스템) | J7: 총량 배출구 | K7: NOx | L7: SOx | M7: TSP | N7: ID+물질+배출구 | O7: (Y/N) | P7: 가동신고 | Q7: 재산정 | R7: 시스템확인결과
A8: 확인필요(24년 재산정 되었는지) | B8: =C8&I8 -> 1500112 | C8: 150011 | D8: 환경부 | E8: 수도권 | F8: 경기도 | G8: 시흥시 | H8: 아세아제지㈜시화공장 | I8: 2 | J8: 2 | K8: =VLOOKUP(B8,#REF!,5,FALSE) -> #REF! | M8: =VLOOKUP(B8,#REF!,7,FALSE) -> #REF! | N8: 150011NOx2 | O8: Y | P8: 2022년 | Q8: 2024년
A9: 대상 | B9: =C9&I9 -> 150031136 | C9: 150031 | D9: 환경부 | E9: 수도권 | F9: 인천광역시 | G9: 중구 | H9: ㈜SUN&L | I9: 136 | J9: 137 | K9: =VLOOKUP(B9,#REF!,5,FALSE) -> #REF! | N9: 150031NOx136 | O9: Y | P9: 2023년 | Q9: 2025년
A10: 대상 | B10: =C10&I10 -> 150048168 | C10: 150048 | D10: 환경부 | E10: 수도권 | F10: 인천광역시 | G10: 서구 | H10: 한국남부발전(주)신인천빛드림본부 | I10: 168 | J10: 22 | K10: =VLOOKUP(B10,#REF!,5,FALSE) -> #REF! | N10: 150048NOx168 | O10: Y | P10: 2023년 | Q10: 2025년
A11: 확인필요(24년 재산정 되었는지) | B11: =C11&I11 -> 1707992 | C11: 170799 | D11: 지자체 | E11: 중부권 | F11: 충청남도 | G11: 서천군 | H11: 국립생태원 | I11: 2 | J11: 2 | K11: =VLOOKUP(B11,#REF!,5,FALSE) -> #REF! | N11: 170799NOx2 | O11: Y | P11: 2022년 | Q11: 2024년
A12: 대상 | B12: =C12&I12 -> 15010510 | C12: 150105 | D12: 환경부 | E12: 수도권 | F12: 경기도 | G12: 고양시 | H12: 서울특별시 난지물재생센터 | I12: 10 | J12: 10 | K12: =VLOOKUP(B12,#REF!,5,FALSE) -> #REF! | N12: 150105NOx10 | O12: Y | P12: 2021년 3월 | Q12: 2025년
A13: 대상 | B13: =C13&I13 -> 150271265 | C13: 150271 | D13: 환경부 | E13: 수도권 | F13: 경기도 | G13: 이천시 | H13: 에스케이하이닉스㈜ | I13: 265 | J13: 265 | K13: =VLOOKUP(B13,#REF!,5,FALSE) -> #REF! | L13: =VLOOKUP(B13,#REF!,6,FALSE) -> #REF! | N13: 150271NOx265 | O13: Y | P13: 미가동 | Q13: 2025년
A14: 대상 | B14: =C14&I14 -> 150271266 | C14: 150271 | D14: 환경부 | E14: 수도권 | F14: 경기도 | G14: 이천시 | H14: 에스케이하이닉스㈜ | I14: 266 | J14: 266 | K14: =VLOOKUP(B14,#REF!,5,FALSE) -> #REF! | L14: =VLOOKUP(B14,#REF!,6,FALSE) -> #REF! | N14: 150271NOx266 | O14: Y | P14: 미가동 | Q14: 2025년
A15: 대상 | B15: =C15&I15 -> 150271267 | C15: 150271 | D15: 환경부 | E15: 수도권 | F15: 경기도 | G15: 이천시 | H15: 에스케이하이닉스㈜ | I15: 267 | J15: 267 | K15: =VLOOKUP(B15,#REF!,5,FALSE) -> #REF! | L15: =VLOOKUP(B15,#REF!,6,FALSE) -> #REF! | N15: 150271NOx267 | O15: Y | P15: 미가동 | Q15: 2025년
A16: 대상 | B16: =C16&I16 -> 150271268 | C16: 150271 | D16: 환경부 | E16: 수도권 | F16: 경기도 | G16: 이천시 | H16: 에스케이하이닉스㈜ | I16: 268 | J16: 268 | K16: =VLOOKUP(B16,#REF!,5,FALSE) -> #REF! | L16: =VLOOKUP(B16,#REF!,6,FALSE) -> #REF! | N16: 150271NOx268 | O16: Y | P16: 미가동 | Q16: 2025년
A17: 대상 | B17: =C17&I17 -> 150271269 | C17: 150271 | D17: 환경부 | E17: 수도권 | F17: 경기도 | G17: 이천시 | H17: 에스케이하이닉스㈜ | I17: 269 | J17: 269 | K17: =VLOOKUP(B17,#REF!,5,FALSE) -> #REF! | L17: =VLOOKUP(B17,#REF!,6,FALSE) -> #REF! | N17: 150271NOx269 | O17: Y | P17: 미가동 | Q17: 2025년
A18: 대상 | B18: =C18&I18 -> 150271270 | C18: 150271 | D18: 환경부 | E18: 수도권 | F18: 경기도 | G18: 이천시 | H18: 에스케이하이닉스㈜ | I18: 270 | J18: 270 | K18: =VLOOKUP(B18,#REF!,5,FALSE) -> #REF! | L18: =VLOOKUP(B18,#REF!,6,FALSE) -> #REF! | N18: 150271NOx270 | O18: Y | P18: 미가동 | Q18: 2025년
A19: 대상 | B19: =C19&I19 -> 150271271 | C19: 150271 | D19: 환경부 | E19: 수도권 | F19: 경기도 | G19: 이천시 | H19: 에스케이하이닉스㈜ | I19: 271 | J19: 271 | K19: =VLOOKUP(B19,#REF!,5,FALSE) -> #REF! | L19: =VLOOKUP(B19,#REF!,6,FALSE) -> #REF! | N19: 150271NOx271 | O19: Y | P19: 미가동 | Q19: 2025년
A20: 대상 | B20: =C20&I20 -> 150271272 | C20: 150271 | D20: 환경부 | E20: 수도권 | F20: 경기도 | G20: 이천시 | H20: 에스케이하이닉스㈜ | I20: 272 | J20: 272 | K20: =VLOOKUP(B20,#REF!,5,FALSE) -> #REF! | L20: =VLOOKUP(B20,#REF!,6,FALSE) -> #REF! | N20: 150271NOx272 | O20: Y | P20: 미가동 | Q20: 2025년
A21: 대상 | B21: =C21&I21 -> 150271273 | C21: 150271 | D21: 환경부 | E21: 수도권 | F21: 경기도 | G21: 이천시 | H21: 에스케이하이닉스㈜ | I21: 273 | J21: 273 | K21: =VLOOKUP(B21,#REF!,5,FALSE) -> #REF! | L21: =VLOOKUP(B21,#REF!,6,FALSE) -> #REF! | N21: 150271NOx273 | O21: Y | P21: 미가동 | Q21: 2025년
A22: 대상 | B22: =C22&I22 -> 150271274 | C22: 150271 | D22: 환경부 | E22: 수도권 | F22: 경기도 | G22: 이천시 | H22: 에스케이하이닉스㈜ | I22: 274 | J22: 274 | K22: =VLOOKUP(B22,#REF!,5,FALSE) -> #REF! | L22: =VLOOKUP(B22,#REF!,6,FALSE) -> #REF! | N22: 150271NOx274 | O22: Y | P22: 미가동 | Q22: 2025년
A23: 대상 | B23: =C23&I23 -> 150271275 | C23: 150271 | D23: 환경부 | E23: 수도권 | F23: 경기도 | G23: 이천시 | H23: 에스케이하이닉스㈜ | I23: 275 | J23: 275 | K23: =VLOOKUP(B23,#REF!,5,FALSE) -> #REF! | L23: =VLOOKUP(B23,#REF!,6,FALSE) -> #REF! | N23: 150271NOx275 | O23: Y | P23: 미가동 | Q23: 2025년
A24: 대상 | B24: =C24&I24 -> 150271276 | C24: 150271 | D24: 환경부 | E24: 수도권 | F24: 경기도 | G24: 이천시 | H24: 에스케이하이닉스㈜ | I24: 276 | J24: 276 | K24: =VLOOKUP(B24,#REF!,5,FALSE) -> #REF! | L24: =VLOOKUP(B24,#REF!,6,FALSE) -> #REF! | N24: 150271NOx276 | O24: Y | P24: 미가동 | Q24: 2025년
... A31: 대상 | B31: =C31&I31 -> 150271283 | C31: 150271 | D31: 환경부 | E31: 수도권 | F31: 경기도 | G31: 이천시 | H31: 에스케이하이닉스㈜ | I31: 283 | J31: 283 | K31: =VLOOKUP(B31,#REF!,5,FALSE) -> #REF! | L31: =VLOOKUP(B31,#REF!,6,FALSE) -> #REF! | N31: 150271NOx283 | O31: Y | P31: 미가동 | Q31: 2025년
A32: 대상 | B32: =C32&I32 -> 150271290 | C32: 150271 | D32: 환경부 | E32: 수도권 | F32: 경기도 | G32: 이천시 | H32: 에스케이하이닉스㈜ | I32: 290 | J32: 290 | L32: =VLOOKUP(B32,#REF!,6,FALSE) -> #REF! | N32: 150271SOx290 | O32: Y | P32: 미가동 | Q32: 2025년
A33: 대상 | B33: =C33&I33 -> 150271294 | C33: 150271 | D33: 환경부 | E33: 수도권 | F33: 경기도 | G33: 이천시 | H33: 에스케이하이닉스㈜ | I33: 294 | J33: 294 | K33: =VLOOKUP(B33,#REF!,5,FALSE) -> #REF! | L33: =VLOOKUP(B33,#REF!,6,FALSE) -> #REF! | N33: 150271NOx294 | O33: Y | P33: 미가동 | Q33: 2025년
A34: 대상 | B34: =C34&I34 -> 150271295 | C34: 150271 | D34: 환경부 | E34: 수도권 | F34: 경기도 | G34: 이천시 | H34: 에스케이하이닉스㈜ | I34: 295 | J34: 295 | K34: =VLOOKUP(B34,#REF!,5,FALSE) -> #REF! | L34: =VLOOKUP(B34,#REF!,6,FALSE) -> #REF! | N34: 150271NOx295 | O34: Y | P34: 미가동 | Q34: 2025년
A35: 대상 | B35: =C35&I35 -> 150271296 | C35: 150271 | D35: 환경부 | E35: 수도권 | F35: 경기도 | G35: 이천시 | H35: 에스케이하이닉스㈜ | I35: 296 | J35: 296 | K35: =VLOOKUP(B35,#REF!,5,FALSE) -> #REF! | L35: =VLOOKUP(B35,#REF!,6,FALSE) -> #REF! | N35: 150271NOx296 | O35: Y | P35: 미가동 | Q35: 2025년
A36: 대상 | B36: =C36&I36 -> 150271297 | C36: 150271 | D36: 환경부 | E36: 수도권 | F36: 경기도 | G36: 이천시 | H36: 에스케이하이닉스㈜ | I36: 297 | J36: 297 | K36: =VLOOKUP(B36,#REF!,5,FALSE) -> #REF! | L36: =VLOOKUP(B36,#REF!,6,FALSE) -> #REF! | N36: 150271NOx297 | O36: Y | P36: 미가동 | Q36: 2025년
A37: 대상 | B37: =C37&I37 -> 150271298 | C37: 150271 | D37: 환경부 | E37: 수도권 | F37: 경기도 | G37: 이천시 | H37: 에스케이하이닉스㈜ | I37: 298 | J37: 298 | K37: =VLOOKUP(B37,#REF!,5,FALSE) -> #REF! | L37: =VLOOKUP(B37,#REF!,6,FALSE) -> #REF! | N37: 150271NOx298 | O37: Y | P37: 미가동 | Q37: 2025년
A38: 대상 | B38: =C38&I38 -> 150271300 | C38: 150271 | D38: 환경부 | E38: 수도권 | F38: 경기도 | G38: 이천시 | H38: 에스케이하이닉스㈜ | I38: 300 | J38: 300 | K38: =VLOOKUP(B38,#REF!,5,FALSE) -> #REF! | L38: =VLOOKUP(B38,#REF!,6,FALSE) -> #REF! | N38: 150271NOx300 | O38: Y | P38: 미가동 | Q38: 2025년
A39: 대상 | B39: =C39&I39 -> 150271301 | C39: 150271 | D39: 환경부 | E39: 수도권 | F39: 경기도 | G39: 이천시 | H39: 에스케이하이닉스㈜ | I39: 301 | J39: 301 | K39: =VLOOKUP(B39,#REF!,5,FALSE) -> #REF! | L39: =VLOOKUP(B39,#REF!,6,FALSE) -> #REF! | N39: 150271NOx301 | O39: Y | P39: 미가동 | Q39: 2025년
A40: 대상 | B40: =C40&I40 -> 150271302 | C40: 150271 | D40: 환경부 | E40: 수도권 | F40: 경기도 | G40: 이천시 | H40: 에스케이하이닉스㈜ | I40: 302 | J40: 302 | K40: =VLOOKUP(B40,#REF!,5,FALSE) -> #REF! | L40: =VLOOKUP(B40,#REF!,6,FALSE) -> #REF! | N40: 150271NOx302 | O40: Y | P40: 미가동 | Q40: 2025년
A41: 대상 | B41: =C41&I41 -> 150271303 | C41: 150271 | D41: 환경부 | E41: 수도권 | F41: 경기도 | G41: 이천시 | H41: 에스케이하이닉스㈜ | I41: 303 | J41: 303 | K41: =VLOOKUP(B41,#REF!,5,FALSE) -> #REF! | L41: =VLOOKUP(B41,#REF!,6,FALSE) -> #REF! | N41: 150271NOx303 | O41: Y | P41: 미가동 | Q41: 2025년
A42: 대상 | B42: =C42&I42 -> 150271304 | C42: 150271 | D42: 환경부 | E42: 수도권 | F42: 경기도 | G42: 이천시 | H42: 에스케이하이닉스㈜ | I42: 304 | J42: 304 | K42: =VLOOKUP(B42,#REF!,5,FALSE) -> #REF! | L42: =VLOOKUP(B42,#REF!,6,FALSE) -> #REF! | N42: 150271NOx304 | O42: Y | P42: 미가동 | Q42: 2025년
A43: 대상 | B43: =C43&I43 -> 150271305 | C43: 150271 | D43: 환경부 | E43: 수도권 | F43: 경기도 | G43: 이천시 | H43: 에스케이하이닉스㈜ | I43: 305 | J43: 305 | K43: =VLOOKUP(B43,#REF!,5,FALSE) -> #REF! | L43: =VLOOKUP(B43,#REF!,6,FALSE) -> #REF! | N43: 150271NOx305 | O43: Y | P43: 미가동 | Q43: 2025년
A44: 대상 | B44: =C44&I44 -> 150271306 | C44: 150271 | D44: 환경부 | E44: 수도권 | F44: 경기도 | G44: 이천시 | H44: 에스케이하이닉스㈜ | I44: 306 | J44: 306 | K44: =VLOOKUP(B44,#REF!,5,FALSE) -> #REF! | L44: =VLOOKUP(B44,#REF!,6,FALSE) -> #REF! | N44: 150271NOx306 | O44: Y | P44: 미가동 | Q44: 2025년
... A58: 대상 | B58: =C58&I58 -> 150271338 | C58: 150271 | D58: 환경부 | E58: 수도권 | F58: 경기도 | G58: 이천시 | H58: 에스케이하이닉스㈜ | I58: 338 | J58: 338 | K58: =VLOOKUP(B58,#REF!,5,FALSE) -> #REF! | L58: =VLOOKUP(B58,#REF!,6,FALSE) -> #REF! | N58: 150271NOx338 | O58: Y | P58: 미가동 | Q58: 2025년
A59: 대상 | B59: =C59&I59 -> 1505827 | C59: 150582 | D59: 환경부 | E59: 수도권 | F59: 경기도 | G59: 김포시 | H59: 김포시 자원화센터 | I59: 7 | J59: 7 | K59: =VLOOKUP(B59,#REF!,5,FALSE) -> #REF! | M59: =VLOOKUP(B59,#REF!,7,FALSE) -> #REF! | N59: 150582NOx7 | O59: Y | P59: 2023년 | Q59: 2025년
A60: 확인필요(24년 재산정 되었는지) | B60: =C60&I60 -> 15063477 | C60: 150634 | D60: 지자체 | E60: 수도권 | F60: 인천광역시 | G60: 연수구 | H60: 삼성바이오로직스㈜ | I60: 77 | J60: 77 | K60: =VLOOKUP(B60,#REF!,5,FALSE) -> #REF! | N60: 150634NOx77 | O60: Y | Q60: 2024년
A61: 확인필요(24년 재산정 되었는지) | B61: =C61&I61 -> 15063478 | C61: 150634 | D61: 지자체 | E61: 수도권 | F61: 인천광역시 | G61: 연수구 | H61: 삼성바이오로직스㈜ | I61: 78 | J61: 78 | K61: =VLOOKUP(B61,#REF!,5,FALSE) -> #REF! | N61: 150634NOx78 | O61: Y | Q61: 2024년
A62: 확인필요(24년 재산정 되었는지) | B62: =C62&I62 -> 15063479 | C62: 150634 | D62: 지자체 | E62: 수도권 | F62: 인천광역시 | G62: 연수구 | H62: 삼성바이오로직스㈜ | I62: 79 | J62: 79 | K62: =VLOOKUP(B62,#REF!,5,FALSE) -> #REF! | N62: 150634NOx79 | O62: Y | Q62: 2024년
A63: 대상 | B63: =C63&I63 -> 1506457 | C63: 150645 | D63: 지자체 | E63: 수도권 | F63: 서울특별시 | G63: 종로구 | H63: 서울대학교병원 | I63: 7 | K63: =VLOOKUP(B63,#REF!,5,FALSE) -> #REF! | N63: 150645NOx7 | O63: Y | P63: 2023년 | Q63: 2025년
A64: 대상 | B64: =C64&I64 -> 1506458 | C64: 150645 | D64: 지자체 | E64: 수도권 | F64: 서울특별시 | G64: 종로구 | H64: 서울대학교병원 | I64: 8 | K64: =VLOOKUP(B64,#REF!,5,FALSE) -> #REF! | N64: 150645NOx8 | O64: Y | P64: 2023년 | Q64: 2025년
A65: 확인필요(기타) | B65: =C65&I65 -> 1506949 | C65: 150694 | D65: 환경부 | E65: 수도권 | F65: 경기도 | G65: 평택시 | H65: ㈜동우에너지소재 | I65: 9 | J65: 9 | K65: =VLOOKUP(B65,#REF!,5,FALSE) -> #REF! | L65: =VLOOKUP(B65,#REF!,6,FALSE) -> #REF! | M65: =VLOOKUP(B65,#REF!,7,FALSE) -> #REF! | N65: 150694NOx9 | O65: Y | P65: 미설치 | Q65: 미설치(24년 설치 예정)
A66: 확인필요(기타) | B66: =C66&I66 -> 1507621 | C66: 150762 | D66: 지자체 | E66: 수도권 | F66: 경기도 | G66: 여주시 | H66: ㈜이에스여주 | I66: 1 | J66: 1 | M66: =VLOOKUP(B66,#REF!,7,FALSE) -> #REF! | N66: 150762TSP1 | O66: Y | P66: 미설치 | Q66: 미설치
A67: 확인필요(기타) | B67: =C67&I67 -> 1507633 | C67: 150763 | D67: 지자체 | E67: 수도권 | F67: 인천광역시 | G67: 중구 | H67: 제이셋스태츠칩팩코리아(유) | I67: 3 | J67: 3 | K67: =VLOOKUP(B67,#REF!,5,FALSE) -> #REF! | N67: 150763NOx3 | O67: Y | P67: 2021년 예정 | Q67: 미설치
A68: 확인필요(기타) | B68: =C68&I68 -> 1507671 | C68: 150767 | D68: 지자체 | E68: 수도권 | F68: 경기도 | G68: 양주시 | H68: ㈜와이에스에너지 | I68: 1 | J68: 1 | K68: =VLOOKUP(B68,#REF!,5,FALSE) -> #REF! | L68: =VLOOKUP(B68,#REF!,6,FALSE) -> #REF! | M68: =VLOOKUP(B68,#REF!,7,FALSE) -> #REF! | N68: 150767NOx1 | O68: Y | P68: 미설치 | Q68: 미설치
A69: 확인필요(24년 재산정 되었는지) | B69: =C69&I69 -> 15076823 | C69: 150768 | D69: 환경부 | E69: 수도권 | F69: 경기도 | G69: 평택시 | H69: 삼성전자㈜평택사업장 | I69: 23 | J69: 23 | K69: =VLOOKUP(B69,#REF!,5,FALSE) -> #REF! | N69: 150768NOx23 | O69: Y | P69: 2022년 | Q69: 2024년
A70: 확인필요(24년 재산정 되었는지) | B70: =C70&I70 -> 15076824 | C70: 150768 | D70: 환경부 | E70: 수도권 | F70: 경기도 | G70: 평택시 | H70: 삼성전자㈜평택사업장 | I70: 24 | J70: 24 | K70: =VLOOKUP(B70,#REF!,5,FALSE) -> #REF! | N70: 150768NOx24 | O70: Y | P70: 2022년 | Q70: 2024년
A71: 확인필요(24년 재산정 되었는지) | B71: =C71&I71 -> 15076825 | C71: 150768 | D71: 환경부 | E71: 수도권 | F71: 경기도 | G71: 평택시 | H71: 삼성전자㈜평택사업장 | I71: 25 | J71: 25 | K71: =VLOOKUP(B71,#REF!,5,FALSE) -> #REF! | N71: 150768NOx25 | O71: Y | P71: 2022년 | Q71: 2024년
A72: 확인필요(24년 재산정 되었는지) | B72: =C72&I72 -> 15076826 | C72: 150768 | D72: 환경부 | E72: 수도권 | F72: 경기도 | G72: 평택시 | H72: 삼성전자㈜평택사업장 | I72: 26 | J72: 26 | K72: =VLOOKUP(B72,#REF!,5,FALSE) -> #REF! | N72: 150768NOx26 | O72: Y | P72: 2022년 | Q72: 2024년
A73: 확인필요(24년 재산정 되었는지) | B73: =C73&I73 -> 15076827 | C73: 150768 | D73: 환경부 | E73: 수도권 | F73: 경기도 | G73: 평택시 | H73: 삼성전자㈜평택사업장 | I73: 27 | J73: 27 | K73: =VLOOKUP(B73,#REF!,5,FALSE) -> #REF! | N73: 150768NOx27 | O73: Y | P73: 2022년 | Q73: 2024년
A74: 확인필요(24년 재산정 되었는지) | B74: =C74&I74 -> 15076828 | C74: 150768 | D74: 환경부 | E74: 수도권 | F74: 경기도 | G74: 평택시 | H74: 삼성전자㈜평택사업장 | I74: 28 | J74: 28 | K74: =VLOOKUP(B74,#REF!,5,FALSE) -> #REF! | N74: 150768NOx28 | O74: Y | P74: 2022년 | Q74: 2024년
A75: 확인필요(24년 재산정 되었는지) | B75: =C75&I75 -> 15076834 | C75: 150768 | D75: 환경부 | E75: 수도권 | F75: 경기도 | G75: 평택시 | H75: 삼성전자㈜평택사업장 | I75: 34 | J75: 34 | K75: =VLOOKUP(B75,#REF!,5,FALSE) -> #REF! | N75: 150768NOx34 | O75: Y | P75: 2022년 | Q75: 2024년
A76: 확인필요(24년 재산정 되었는지) | B76: =C76&I76 -> 15076835 | C76: 150768 | D76: 환경부 | E76: 수도권 | F76: 경기도 | G76: 평택시 | H76: 삼성전자㈜평택사업장 | I76: 35 | J76: 35 | K76: =VLOOKUP(B76,#REF!,5,FALSE) -> #REF! | N76: 150768NOx35 | O76: Y | P76: 2022년 | Q76: 2024년
A77: 대상 | B77: =C77&I77 -> 15076836 | C77: 150768 | D77: 환경부 | E77: 수도권 | F77: 경기도 | G77: 평택시 | H77: 삼성전자㈜평택사업장 | I77: 36 | J77: 36 | K77: =VLOOKUP(B77,#REF!,5,FALSE) -> #REF! | N77: 150768NOx36 | O77: Y | P77: 2023년 | Q77: 2025년
A78: 대상 | B78: =C78&I78 -> 15076864 | C78: 150768 | D78: 환경부 | E78: 수도권 | F78: 경기도 | G78: 평택시 | H78: 삼성전자㈜평택사업장 | I78: 64 | J78: 64 | K78: =VLOOKUP(B78,#REF!,5,FALSE) -> #REF! | N78: 150768NOx64 | O78: Y | P78: 2023년 | Q78: 2025년
A79: 대상 | B79: =C79&I79 -> 15076880 | C79: 150768 | D79: 환경부 | E79: 수도권 | F79: 경기도 | G79: 평택시 | H79: 삼성전자㈜평택사업장 | I79: 80 | J79: 80 | K79: =VLOOKUP(B79,#REF!,5,FALSE) -> #REF! | N79: 150768NOx80 | O79: Y | P79: 2023년 | Q79: 2025년
A80: 확인필요(기타) | B80: =C80&I80 -> 15076886 | C80: 150768 | D80: 환경부 | E80: 수도권 | F80: 경기도 | G80: 평택시 | H80: 삼성전자㈜평택사업장 | I80: 86 | J80: 86 | K80: =VLOOKUP(B80,#REF!,5,FALSE) -> #REF! | N80: 150768NOx86 | O80: Y | P80: 가동신고전 | Q80: 가동신고전
... A188: 확인필요(24년 재산정 되었는지) | B188: =C188&I188 -> 150768252 | C188: 150768 | D188: 환경부 | E188: 수도권 | F188: 경기도 | G188: 평택시 | H188: 삼성전자㈜평택사업장 | I188: 252 | J188: 252 | K188: =VLOOKUP(B188,#REF!,5,FALSE) -> #REF! | N188: 150768NOx252 | O188: Y | P188: 2022년 | Q188: 2024년
A189: 확인필요(기타) | B189: =C189&I189 -> 150768255 | C189: 150768 | D189: 환경부 | E189: 수도권 | F189: 경기도 | G189: 평택시 | H189: 삼성전자㈜평택사업장 | I189: 255 | J189: 255 | K189: =VLOOKUP(B189,#REF!,5,FALSE) -> #REF! | N189: 150768NOx255 | O189: Y | P189: 42856 | Q189: 미정(추후확인필요)
A190: 대상 | B190: =C190&I190 -> 150768269 | C190: 150768 | D190: 환경부 | E190: 수도권 | F190: 경기도 | G190: 평택시 | H190: 삼성전자㈜평택사업장 | I190: 269 | J190: 269 | K190: =VLOOKUP(B190,#REF!,5,FALSE) -> #REF! | N190: 150768NOx269 | O190: Y | P190: 2023년 | Q190: 2025년
A191: 확인필요(기타) | B191: =C191&I191 -> 150768270 | C191: 150768 | D191: 환경부 | E191: 수도권 | F191: 경기도 | G191: 평택시 | H191: 삼성전자㈜평택사업장 | I191: 270 | J191: 270 | K191: =VLOOKUP(B191,#REF!,5,FALSE) -> #REF! | N191: 150768NOx270 | O191: Y | P191: 설치예정 | Q191: 미설치
A192: 확인필요(기타) | B192: =C192&I192 -> 150768271 | C192: 150768 | D192: 환경부 | E192: 수도권 | F192: 경기도 | G192: 평택시 | H192: 삼성전자㈜평택사업장 | I192: 271 | J192: 271 | K192: =VLOOKUP(B192,#REF!,5,FALSE) -> #REF! | N192: 150768NOx271 | O192: Y | P192: 설치예정 | Q192: 미설치
A193: 확인필요(기타) | B193: =C193&I193 -> 150768272 | C193: 150768 | D193: 환경부 | E193: 수도권 | F193: 경기도 | G193: 평택시 | H193: 삼성전자㈜평택사업장 | I193: 272 | J193: 272 | K193: =VLOOKUP(B193,#REF!,5,FALSE) -> #REF! | N193: 150768NOx272 | O193: Y | P193: 설치예정 | Q193: 미설치
A194: 확인필요(기타) | B194: =C194&I194 -> 150768273 | C194: 150768 | D194: 환경부 | E194: 수도권 | F194: 경기도 | G194: 평택시 | H194: 삼성전자㈜평택사업장 | I194: 273 | J194: 273 | K194: =VLOOKUP(B194,#REF!,5,FALSE) -> #REF! | N194: 150768NOx273 | O194: Y | P194: 설치예정 | Q194: 미설치
A195: 확인필요(기타) | B195: =C195&I195 -> 150768274 | C195: 150768 | D195: 환경부 | E195: 수도권 | F195: 경기도 | G195: 평택시 | H195: 삼성전자㈜평택사업장 | I195: 274 | J195: 274 | K195: =VLOOKUP(B195,#REF!,5,FALSE) -> #REF! | N195: 150768NOx274 | O195: Y | P195: 설치예정 | Q195: 미설치
A196: 확인필요(기타) | B196: =C196&I196 -> 150768275 | C196: 150768 | D196: 환경부 | E196: 수도권 | F196: 경기도 | G196: 평택시 | H196: 삼성전자㈜평택사업장 | I196: 275 | J196: 275 | K196: =VLOOKUP(B196,#REF!,5,FALSE) -> #REF! | N196: 150768NOx275 | O196: Y | P196: 설치예정 | Q196: 미설치
A197: 확인필요(기타) | B197: =C197&I197 -> 150768276 | C197: 150768 | D197: 환경부 | E197: 수도권 | F197: 경기도 | G197: 평택시 | H197: 삼성전자㈜평택사업장 | I197: 276 | J197: 276 | K197: =VLOOKUP(B197,#REF!,5,FALSE) -> #REF! | N197: 150768NOx276 | O197: Y | P197: 설치예정 | Q197: 미설치
A198: 확인필요(기타) | B198: =C198&I198 -> 150768277 | C198: 150768 | D198: 환경부 | E198: 수도권 | F198: 경기도 | G198: 평택시 | H198: 삼성전자㈜평택사업장 | I198: 277 | J198: 277 | K198: =VLOOKUP(B198,#REF!,5,FALSE) -> #REF! | N198: 150768NOx277 | O198: Y | P198: 설치예정 | Q198: 미설치
A199: 확인필요(기타) | B199: =C199&I199 -> 150768278 | C199: 150768 | D199: 환경부 | E199: 수도권 | F199: 경기도 | G199: 평택시 | H199: 삼성전자㈜평택사업장 | I199: 278 | J199: 278 | K199: =VLOOKUP(B199,#REF!,5,FALSE) -> #REF! | N199: 150768NOx278 | O199: Y | P199: 설치예정 | Q199: 미설치
A200: 확인필요(기타) | B200: =C200&I200 -> 150768279 | C200: 150768 | D200: 환경부 | E200: 수도권 | F200: 경기도 | G200: 평택시 | H200: 삼성전자㈜평택사업장 | I200: 279 | J200: 279 | K200: =VLOOKUP(B200,#REF!,5,FALSE) -> #REF! | N200: 150768NOx279 | O200: Y | P200: 설치예정 | Q200: 미설치
A201: 확인필요(기타) | B201: =C201&I201 -> 150768280 | C201: 150768 | D201: 환경부 | E201: 수도권 | F201: 경기도 | G201: 평택시 | H201: 삼성전자㈜평택사업장 | I201: 280 | J201: 280 | K201: =VLOOKUP(B201,#REF!,5,FALSE) -> #REF! | N201: 150768NOx280 | O201: Y | P201: 설치예정 | Q201: 미설치
... A613: 확인필요(기타) | B613: =C613&I613 -> 150768725 | C613: 150768 | D613: 환경부 | E613: 수도권 | F613: 경기도 | G613: 평택시 | H613: 삼성전자㈜평택사업장 | I613: 725 | J613: 725 | K613: =VLOOKUP(B613,#REF!,5,FALSE) -> #REF! | N613: 150768NOx725 | O613: Y | P613: 설치예정 | Q613: 미설치
A614: 확인필요(24년 재산정 되었는지) | B614: =C614&I614 -> 15066624 | C614: 150666 | D614: 지자체 | E614: 수도권 | F614: 서울특별시 | G614: 서대문구 | H614: 이화여자대학교 | I614: 24 | J614: 24 | K614: =VLOOKUP(B614,#REF!,5,FALSE) -> #REF! | N614: 150666NOx24 | O614: Y | P614: 2022년 | Q614: 2024년
A615: 확인필요(기타>미대상) | B615: =C615&I615 -> 1508061 | C615: 150806 | D615: 지자체 | E615: 수도권 | F615: 경기도 | G615: 파주시 | H615: ㈜파주열에너지 | I615: 1 | J615: 1 | K615: =VLOOKUP(B615,#REF!,5,FALSE) -> #REF! | N615: 150806NOx1 | O615: Y | P615: 미설치 | Q615: 미설치 | R615: 24년 배출량 보고 없음
A616: 확인필요(기타>미대상) | B616: =C616&I616 -> 1508502 | C616: 150850 | D616: 지자체 | E616: 수도권 | F616: 경기도 | G616: 평택시 | H616: (주)화진케미칼 | I616: 2 | J616: 2 | K616: =VLOOKUP(B616,#REF!,5,FALSE) -> #REF! | L616: =VLOOKUP(B616,#REF!,6,FALSE) -> #REF! | M616: =VLOOKUP(B616,#REF!,7,FALSE) -> #REF! | N616: 150850NOx2 | O616: Y | P616: 미설치('21 가동개시 예정) | Q616: 미설치 | R616: 24년 배출량 보고 없음
A617: 확인필요(기타>미대상) | B617: =C617&I617 -> 1508503 | C617: 150850 | D617: 지자체 | E617: 수도권 | F617: 경기도 | G617: 평택시 | H617: (주)화진케미칼 | I617: 3 | J617: 3 | K617: =VLOOKUP(B617,#REF!,5,FALSE) -> #REF! | L617: =VLOOKUP(B617,#REF!,6,FALSE) -> #REF! | M617: =VLOOKUP(B617,#REF!,7,FALSE) -> #REF! | N617: 150850NOx3 | O617: Y | P617: 미설치('21 가동개시 예정) | Q617: 미설치 | R617: 24년 배출량 보고 없음
A618: 확인필요(기타>미대상) | B618: =C618&I618 -> 1508511 | C618: 150851 | D618: 지자체 | E618: 수도권 | F618: 경기도 | G618: 동두천시 | H618: 우진섬유 | I618: 1 | J618: 1 | K618: =VLOOKUP(B618,#REF!,5,FALSE) -> #REF! | N618: 150851NOx1 | O618: Y | P618: 미설치 | Q618: 미설치 | R618: 24년 배출량 보고 없음
A619: 대상 | B619: =C619&I619 -> 1508531 | C619: 150853 | D619: 환경부 | E619: 수도권 | F619: 경기도 | G619: 여주시 | H619: 여주에너지서비스(주) | I619: 1 | J619: 1 | K619: =VLOOKUP(B619,#REF!,5,FALSE) -> #REF! | N619: 150853NOx1 | O619: Y | P619: 45014 | Q619: 2025년
A620: 대상 | B620: =C620&I620 -> 1508532 | C620: 150853 | D620: 환경부 | E620: 수도권 | F620: 경기도 | G620: 여주시 | H620: 여주에너지서비스(주) | I620: 2 | J620: 2 | K620: =VLOOKUP(B620,#REF!,5,FALSE) -> #REF! | N620: 150853NOx2 | O620: Y | P620: 45014 | Q620: 2025년
A621: 대상 | B621: =C621&I621 -> 15085624 | C621: 150856 | D621: 환경부 | E621: 수도권 | F621: 경기도 | G621: 평택시 | H621: 이구산업㈜ | I621: 24 | J621: 24 | K621: =VLOOKUP(B621,#REF!,5,FALSE) -> #REF! | L621: =VLOOKUP(B621,#REF!,6,FALSE) -> #REF! | N621: 150856NOx24 | O621: Y | P621: 2023-04-00 | Q621: 2025년
A622: 대상 | B622: =C622&I622 -> 15085625 | C622: 150856 | D622: 환경부 | E622: 수도권 | F622: 경기도 | G622: 평택시 | H622: 이구산업㈜ | I622: 25 | J622: 25 | K622: =VLOOKUP(B622,#REF!,5,FALSE) -> #REF! | L622: =VLOOKUP(B622,#REF!,6,FALSE) -> #REF! | N622: 150856NOx25 | O622: Y | P622: 2023-04-00 | Q622: 2025년
A623: 대상 | B623: =C623&I623 -> 15085626 | C623: 150856 | D623: 환경부 | E623: 수도권 | F623: 경기도 | G623: 평택시 | H623: 이구산업㈜ | I623: 26 | J623: 26 | K623: =VLOOKUP(B623,#REF!,5,FALSE) -> #REF! | L623: =VLOOKUP(B623,#REF!,6,FALSE) -> #REF! | N623: 150856NOx26 | O623: Y | P623: 2023-04-00 | Q623: 2025년
A624: 대상 | B624: =C624&I624 -> 15085627 | C624: 150856 | D624: 환경부 | E624: 수도권 | F624: 경기도 | G624: 평택시 | H624: 이구산업㈜ | I624: 27 | J624: 27 | K624: =VLOOKUP(B624,#REF!,5,FALSE) -> #REF! | L624: =VLOOKUP(B624,#REF!,6,FALSE) -> #REF! | N624: 150856NOx27 | O624: Y | P624: 2023-04-00 | Q624: 2025년
A625: 대상 | B625: =C625&I625 -> 15085628 | C625: 150856 | D625: 환경부 | E625: 수도권 | F625: 경기도 | G625: 평택시 | H625: 이구산업㈜ | I625: 28 | J625: 28 | K625: =VLOOKUP(B625,#REF!,5,FALSE) -> #REF! | L625: =VLOOKUP(B625,#REF!,6,FALSE) -> #REF! | N625: 150856NOx28 | O625: Y | P625: 2023-04-00 | Q625: 2025년
A626: 대상 | B626: =C626&I626 -> 1508581 | C626: 150858 | D626: 환경부 | E626: 수도권 | F626: 경기도 | G626: 김포시 | H626: 한국서부발전 김포건설본부 | I626: 1 | J626: 1 | K626: =VLOOKUP(B626,#REF!,5,FALSE) -> #REF! | N626: 150858NOx1 | O626: Y | P626: 2023년7월 | Q626: 2025년
A627: 대상 | B627: =C627&I627 -> 1508582 | C627: 150858 | D627: 환경부 | E627: 수도권 | F627: 경기도 | G627: 김포시 | H627: 한국서부발전 김포건설본부 | I627: 2 | J627: 2 | K627: =VLOOKUP(B627,#REF!,5,FALSE) -> #REF! | N627: 150858NOx2 | O627: Y | P627: 2023년7월 | Q627: 2025년
A628: 대상 | B628: =C628&I628 -> 1508583 | C628: 150858 | D628: 환경부 | E628: 수도권 | F628: 경기도 | G628: 김포시 | H628: 한국서부발전 김포건설본부 | I628: 3 | J628: 3 | K628: =VLOOKUP(B628,#REF!,5,FALSE) -> #REF! | N628: 150858NOx3 | O628: Y | P628: 2023년7월 | Q628: 2025년
A629: 대상 | B629: =C629&I629 -> 1508584 | C629: 150858 | D629: 환경부 | E629: 수도권 | F629: 경기도 | G629: 김포시 | H629: 한국서부발전 김포건설본부 | I629: 4 | J629: 4 | K629: =VLOOKUP(B629,#REF!,5,FALSE) -> #REF! | N629: 150858NOx4 | O629: Y | P629: 2023년7월 | Q629: 2025년
A630: 대상 | B630: =C630&I630 -> 1508608 | C630: 150860 | D630: 환경부 | E630: 수도권 | F630: 경기도 | G630: 평택시 | H630: 강남제비스코(주)평택 | I630: 8 | J630: 8 | K630: =VLOOKUP(B630,#REF!,5,FALSE) -> #REF! | N630: 150860NOx8 | O630: Y | P630: 45078 | Q630: 2025년
A631: 대상 | B631: =C631&I631 -> 1130141 | C631: 113014 | D631: 환경부 | E631: 중부권 | F631: 전라북도 | G631: 전주시 | H631: ㈜개암에너지 | I631: 1 | J631: 1 | K631: =VLOOKUP(B631,#REF!,5,FALSE) -> #REF! | L631: =VLOOKUP(B631,#REF!,6,FALSE) -> #REF! | M631: =VLOOKUP(B631,#REF!,7,FALSE) -> #REF! | N631: 113014NOx1 | O631: Y | P631: 미가동 | Q631: 2025년
A632: 대상 | B632: =C632&I632 -> 1131035 | C632: 113103 | D632: 환경부 | E632: 중부권 | F632: 전라북도 | G632: 군산시 | H632: 오씨아이 주식회사 군산공장 | I632: 5 | J632: 5 | K632: =VLOOKUP(B632,#REF!,5,FALSE) -> #REF! | N632: 113103NOx5 | O632: Y | P632: 2023년 | Q632: 2025년
A633: 대상 | B633: =C633&I633 -> 1131036 | C633: 113103 | D633: 환경부 | E633: 중부권 | F633: 전라북도 | G633: 군산시 | H633: 오씨아이 주식회사 군산공장 | I633: 6 | J633: 6 | K633: =VLOOKUP(B633,#REF!,5,FALSE) -> #REF! | N633: 113103NOx6 | O633: Y | P633: 2023년 | Q633: 2025년
A634: 대상 | B634: =C634&I634 -> 11310313 | C634: 113103 | D634: 환경부 | E634: 중부권 | F634: 전라북도 | G634: 군산시 | H634: 오씨아이 주식회사 군산공장 | I634: 13 | J634: 7 | K634: =VLOOKUP(B634,#REF!,5,FALSE) -> #REF! | N634: 113103NOx13 | O634: Y | P634: 2023년 | Q634: 2025년
A635: 대상 | B635: =C635&I635 -> 11310359 | C635: 113103 | D635: 환경부 | E635: 중부권 | F635: 전라북도 | G635: 군산시 | H635: 오씨아이 주식회사 군산공장 | I635: 59 | J635: 38 | K635: =VLOOKUP(B635,#REF!,5,FALSE) -> #REF! | N635: 113103NOx59 | O635: Y | P635: 2023년 | Q635: 2025년
A636: 대상 | B636: =C636&I636 -> 11310368 | C636: 113103 | D636: 환경부 | E636: 중부권 | F636: 전라북도 | G636: 군산시 | H636: 오씨아이 주식회사 군산공장 | I636: 68 | J636: 39 | K636: =VLOOKUP(B636,#REF!,5,FALSE) -> #REF! | N636: 113103NOx68 | O636: Y | P636: 2023년 | Q636: 2025년
A637: 대상 | B637: =C637&I637 -> 11310386 | C637: 113103 | D637: 환경부 | E637: 중부권 | F637: 전라북도 | G637: 군산시 | H637: 오씨아이 주식회사 군산공장 | I637: 86 | J637: 51 | K637: =VLOOKUP(B637,#REF!,5,FALSE) -> #REF! | N637: 113103NOx86 | O637: Y | P637: 2023년 | Q637: 2025년
A638: 대상 | B638: =C638&I638 -> 113103137 | C638: 113103 | D638: 환경부 | E638: 중부권 | F638: 전라북도 | G638: 군산시 | H638: 오씨아이 주식회사 군산공장 | I638: 137 | J638: 16 | K638: =VLOOKUP(B638,#REF!,5,FALSE) -> #REF! | N638: 113103NOx137 | O638: Y | P638: 2023년 | Q638: 2025년
A639: 대상 | B639: =C639&I639 -> 113103171 | C639: 113103 | D639: 환경부 | E639: 중부권 | F639: 전라북도 | G639: 군산시 | H639: 오씨아이 주식회사 군산공장 | I639: 171 | J639: 32 | K639: =VLOOKUP(B639,#REF!,5,FALSE) -> #REF! | N639: 113103NOx171 | O639: Y | P639: 2023년 | Q639: 2025년
A640: 대상 | B640: =C640&I640 -> 11310579 | C640: 113105 | D640: 지자체 | E640: 중부권 | F640: 전라북도 | G640: 군산시 | H640: 대상㈜ | I640: 79 | J640: 79 | L640: =VLOOKUP(B640,#REF!,6,FALSE) -> #REF! | N640: 113105SOx79 | O640: Y | P640: 2023년 | Q640: 2025년
...

Sheet (시스템검토)대상_중복제거
N2: 2 | O2: 36 | P2: 37 | Q2: 38
C5: {=SUMPRODUCT(1/COUNTIF(C8:C1595,C8:C1595))} -> 198 | N5: 22343
C6: 대상 | I6: =SUBTOTAL(3,I8:I1595) -> 1588 | K6: 오염물질 | O6: 가할당 배출구('23 기준)
A7: 구분 | B7: index | C7: 사업장ID | D7: 환경부/지자체 | E7: 권역 | F7: 지역 | G7: 시도 | H7: 사업장명 | I7: 배출구 (시스템) | J7: 총량 배출구 | K7: NOx | L7: SOx | M7: TSP | N7: ID+물질+배출구 | O7: (Y/N) | P7: 가동신고 | Q7: 재산정 | R7: 시스템확인결과
A8: 확인필요(24년 재산정 되었는지) | B8: =C8&I8 -> 1500112 | C8: 150011 | D8: 환경부 | E8: 수도권 | F8: 경기도 | G8: 시흥시 | H8: 아세아제지㈜시화공장 | I8: 2 | J8: 2 | K8: =VLOOKUP(B8,#REF!,5,FALSE) -> #REF! | M8: =VLOOKUP(B8,#REF!,7,FALSE) -> #REF! | N8: 150011NOx2 | O8: Y | P8: 2022년 | Q8: 2024년
A9: 대상 | B9: =C9&I9 -> 150031136 | C9: 150031 | D9: 환경부 | E9: 수도권 | F9: 인천광역시 | G9: 중구 | H9: ㈜SUN&L | I9: 136 | J9: 137 | K9: =VLOOKUP(B9,#REF!,5,FALSE) -> #REF! | N9: 150031NOx136 | O9: Y | P9: 2023년 | Q9: 2025년
A10: 대상 | B10: =C10&I10 -> 150048168 | C10: 150048 | D10: 환경부 | E10: 수도권 | F10: 인천광역시 | G10: 서구 | H10: 한국남부발전(주)신인천빛드림본부 | I10: 168 | J10: 22 | K10: =VLOOKUP(B10,#REF!,5,FALSE) -> #REF! | N10: 150048NOx168 | O10: Y | P10: 2023년 | Q10: 2025년
A11: 확인필요(24년 재산정 되었는지) | B11: =C11&I11 -> 1707992 | C11: 170799 | D11: 지자체 | E11: 중부권 | F11: 충청남도 | G11: 서천군 | H11: 국립생태원 | I11: 2 | J11: 2 | K11: =VLOOKUP(B11,#REF!,5,FALSE) -> #REF! | N11: 170799NOx2 | O11: Y | P11: 2022년 | Q11: 2024년
A12: 대상 | B12: =C12&I12 -> 15010510 | C12: 150105 | D12: 환경부 | E12: 수도권 | F12: 경기도 | G12: 고양시 | H12: 서울특별시 난지물재생센터 | I12: 10 | J12: 10 | K12: =VLOOKUP(B12,#REF!,5,FALSE) -> #REF! | N12: 150105NOx10 | O12: Y | P12: 2021년 3월 | Q12: 2025년
A13: 대상 | B13: =C13&I13 -> 150271265 | C13: 150271 | D13: 환경부 | E13: 수도권 | F13: 경기도 | G13: 이천시 | H13: 에스케이하이닉스㈜ | I13: 265 | J13: 265 | K13: =VLOOKUP(B13,#REF!,5,FALSE) -> #REF! | L13: =VLOOKUP(B13,#REF!,6,FALSE) -> #REF! | N13: 150271NOx265 | O13: Y | P13: 미가동 | Q13: 2025년
A14: 대상 | B14: =C14&I14 -> 150271266 | C14: 150271 | D14: 환경부 | E14: 수도권 | F14: 경기도 | G14: 이천시 | H14: 에스케이하이닉스㈜ | I14: 266 | J14: 266 | K14: =VLOOKUP(B14,#REF!,5,FALSE) -> #REF! | L14: =VLOOKUP(B14,#REF!,6,FALSE) -> #REF! | N14: 150271NOx266 | O14: Y | P14: 미가동 | Q14: 2025년
A15: 대상 | B15: =C15&I15 -> 150271267 | C15: 150271 | D15: 환경부 | E15: 수도권 | F15: 경기도 | G15: 이천시 | H15: 에스케이하이닉스㈜ | I15: 267 | J15: 267 | K15: =VLOOKUP(B15,#REF!,5,FALSE) -> #REF! | L15: =VLOOKUP(B15,#REF!,6,FALSE) -> #REF! | N15: 150271NOx267 | O15: Y | P15: 미가동 | Q15: 2025년
A16: 대상 | B16: =C16&I16 -> 150271268 | C16: 150271 | D16: 환경부 | E16: 수도권 | F16: 경기도 | G16: 이천시 | H16: 에스케이하이닉스㈜ | I16: 268 | J16: 268 | K16: =VLOOKUP(B16,#REF!,5,FALSE) -> #REF! | L16: =VLOOKUP(B16,#REF!,6,FALSE) -> #REF! | N16: 150271NOx268 | O16: Y | P16: 미가동 | Q16: 2025년
A17: 대상 | B17: =C17&I17 -> 150271269 | C17: 150271 | D17: 환경부 | E17: 수도권 | F17: 경기도 | G17: 이천시 | H17: 에스케이하이닉스㈜ | I17: 269 | J17: 269 | K17: =VLOOKUP(B17,#REF!,5,FALSE) -> #REF! | L17: =VLOOKUP(B17,#REF!,6,FALSE) -> #REF! | N17: 150271NOx269 | O17: Y | P17: 미가동 | Q17: 2025년
A18: 대상 | B18: =C18&I18 -> 150271270 | C18: 150271 | D18: 환경부 | E18: 수도권 | F18: 경기도 | G18: 이천시 | H18: 에스케이하이닉스㈜ | I18: 270 | J18: 270 | K18: =VLOOKUP(B18,#REF!,5,FALSE) -> #REF! | L18: =VLOOKUP(B18,#REF!,6,FALSE) -> #REF! | N18: 150271NOx270 | O18: Y | P18: 미가동 | Q18: 2025년
A19: 대상 | B19: =C19&I19 -> 150271271 | C19: 150271 | D19: 환경부 | E19: 수도권 | F19: 경기도 | G19: 이천시 | H19: 에스케이하이닉스㈜ | I19: 271 | J19: 271 | K19: =VLOOKUP(B19,#REF!,5,FALSE) -> #REF! | L19: =VLOOKUP(B19,#REF!,6,FALSE) -> #REF! | N19: 150271NOx271 | O19: Y | P19: 미가동 | Q19: 2025년
A20: 대상 | B20: =C20&I20 -> 150271272 | C20: 150271 | D20: 환경부 | E20: 수도권 | F20: 경기도 | G20: 이천시 | H20: 에스케이하이닉스㈜ | I20: 272 | J20: 272 | K20: =VLOOKUP(B20,#REF!,5,FALSE) -> #REF! | L20: =VLOOKUP(B20,#REF!,6,FALSE) -> #REF! | N20: 150271NOx272 | O20: Y | P20: 미가동 | Q20: 2025년
A21: 대상 | B21: =C21&I21 -> 150271273 | C21: 150271 | D21: 환경부 | E21: 수도권 | F21: 경기도 | G21: 이천시 | H21: 에스케이하이닉스㈜ | I21: 273 | J21: 273 | K21: =VLOOKUP(B21,#REF!,5,FALSE) -> #REF! | L21: =VLOOKUP(B21,#REF!,6,FALSE) -> #REF! | N21: 150271NOx273 | O21: Y | P21: 미가동 | Q21: 2025년
A22: 대상 | B22: =C22&I22 -> 150271274 | C22: 150271 | D22: 환경부 | E22: 수도권 | F22: 경기도 | G22: 이천시 | H22: 에스케이하이닉스㈜ | I22: 274 | J22: 274 | K22: =VLOOKUP(B22,#REF!,5,FALSE) -> #REF! | L22: =VLOOKUP(B22,#REF!,6,FALSE) -> #REF! | N22: 150271NOx274 | O22: Y | P22: 미가동 | Q22: 2025년
A23: 대상 | B23: =C23&I23 -> 150271275 | C23: 150271 | D23: 환경부 | E23: 수도권 | F23: 경기도 | G23: 이천시 | H23: 에스케이하이닉스㈜ | I23: 275 | J23: 275 | K23: =VLOOKUP(B23,#REF!,5,FALSE) -> #REF! | L23: =VLOOKUP(B23,#REF!,6,FALSE) -> #REF! | N23: 150271NOx275 | O23: Y | P23: 미가동 | Q23: 2025년
A24: 대상 | B24: =C24&I24 -> 150271276 | C24: 150271 | D24: 환경부 | E24: 수도권 | F24: 경기도 | G24: 이천시 | H24: 에스케이하이닉스㈜ | I24: 276 | J24: 276 | K24: =VLOOKUP(B24,#REF!,5,FALSE) -> #REF! | L24: =VLOOKUP(B24,#REF!,6,FALSE) -> #REF! | N24: 150271NOx276 | O24: Y | P24: 미가동 | Q24: 2025년
... A31: 대상 | B31: =C31&I31 -> 150271283 | C31: 150271 | D31: 환경부 | E31: 수도권 | F31: 경기도 | G31: 이천시 | H31: 에스케이하이닉스㈜ | I31: 283 | J31: 283 | K31: =VLOOKUP(B31,#REF!,5,FALSE) -> #REF! | L31: =VLOOKUP(B31,#REF!,6,FALSE) -> #REF! | N31: 150271NOx283 | O31: Y | P31: 미가동 | Q31: 2025년
A32: 대상 | B32: =C32&I32 -> 150271290 | C32: 150271 | D32: 환경부 | E32: 수도권 | F32: 경기도 | G32: 이천시 | H32: 에스케이하이닉스㈜ | I32: 290 | J32: 290 | L32: =VLOOKUP(B32,#REF!,6,FALSE) -> #REF! | N32: 150271SOx290 | O32: Y | P32: 미가동 | Q32: 2025년
A33: 대상 | B33: =C33&I33 -> 150271294 | C33: 150271 | D33: 환경부 | E33: 수도권 | F33: 경기도 | G33: 이천시 | H33: 에스케이하이닉스㈜ | I33: 294 | J33: 294 | K33: =VLOOKUP(B33,#REF!,5,FALSE) -> #REF! | L33: =VLOOKUP(B33,#REF!,6,FALSE) -> #REF! | N33: 150271NOx294 | O33: Y | P33: 미가동 | Q33: 2025년
A34: 대상 | B34: =C34&I34 -> 150271295 | C34: 150271 | D34: 환경부 | E34: 수도권 | F34: 경기도 | G34: 이천시 | H34: 에스케이하이닉스㈜ | I34: 295 | J34: 295 | K34: =VLOOKUP(B34,#REF!,5,FALSE) -> #REF! | L34: =VLOOKUP(B34,#REF!,6,FALSE) -> #REF! | N34: 150271NOx295 | O34: Y | P34: 미가동 | Q34: 2025년
A35: 대상 | B35: =C35&I35 -> 150271296 | C35: 150271 | D35: 환경부 | E35: 수도권 | F35: 경기도 | G35: 이천시 | H35: 에스케이하이닉스㈜ | I35: 296 | J35: 296 | K35: =VLOOKUP(B35,#REF!,5,FALSE) -> #REF! | L35: =VLOOKUP(B35,#REF!,6,FALSE) -> #REF! | N35: 150271NOx296 | O35: Y | P35: 미가동 | Q35: 2025년
A36: 대상 | B36: =C36&I36 -> 150271297 | C36: 150271 | D36: 환경부 | E36: 수도권 | F36: 경기도 | G36: 이천시 | H36: 에스케이하이닉스㈜ | I36: 297 | J36: 297 | K36: =VLOOKUP(B36,#REF!,5,FALSE) -> #REF! | L36: =VLOOKUP(B36,#REF!,6,FALSE) -> #REF! | N36: 150271NOx297 | O36: Y | P36: 미가동 | Q36: 2025년
A37: 대상 | B37: =C37&I37 -> 150271298 | C37: 150271 | D37: 환경부 | E37: 수도권 | F37: 경기도 | G37: 이천시 | H37: 에스케이하이닉스㈜ | I37: 298 | J37: 298 | K37: =VLOOKUP(B37,#REF!,5,FALSE) -> #REF! | L37: =VLOOKUP(B37,#REF!,6,FALSE) -> #REF! | N37: 150271NOx298 | O37: Y | P37: 미가동 | Q37: 2025년
A38: 대상 | B38: =C38&I38 -> 150271300 | C38: 150271 | D38: 환경부 | E38: 수도권 | F38: 경기도 | G38: 이천시 | H38: 에스케이하이닉스㈜ | I38: 300 | J38: 300 | K38: =VLOOKUP(B38,#REF!,5,FALSE) -> #REF! | L38: =VLOOKUP(B38,#REF!,6,FALSE) -> #REF! | N38: 150271NOx300 | O38: Y | P38: 미가동 | Q38: 2025년
A39: 대상 | B39: =C39&I39 -> 150271301 | C39: 150271 | D39: 환경부 | E39: 수도권 | F39: 경기도 | G39: 이천시 | H39: 에스케이하이닉스㈜ | I39: 301 | J39: 301 | K39: =VLOOKUP(B39,#REF!,5,FALSE) -> #REF! | L39: =VLOOKUP(B39,#REF!,6,FALSE) -> #REF! | N39: 150271NOx301 | O39: Y | P39: 미가동 | Q39: 2025년
A40: 대상 | B40: =C40&I40 -> 150271302 | C40: 150271 | D40: 환경부 | E40: 수도권 | F40: 경기도 | G40: 이천시 | H40: 에스케이하이닉스㈜ | I40: 302 | J40: 302 | K40: =VLOOKUP(B40,#REF!,5,FALSE) -> #REF! | L40: =VLOOKUP(B40,#REF!,6,FALSE) -> #REF! | N40: 150271NOx302 | O40: Y | P40: 미가동 | Q40: 2025년
A41: 대상 | B41: =C41&I41 -> 150271303 | C41: 150271 | D41: 환경부 | E41: 수도권 | F41: 경기도 | G41: 이천시 | H41: 에스케이하이닉스㈜ | I41: 303 | J41: 303 | K41: =VLOOKUP(B41,#REF!,5,FALSE) -> #REF! | L41: =VLOOKUP(B41,#REF!,6,FALSE) -> #REF! | N41: 150271NOx303 | O41: Y | P41: 미가동 | Q41: 2025년
A42: 대상 | B42: =C42&I42 -> 150271304 | C42: 150271 | D42: 환경부 | E42: 수도권 | F42: 경기도 | G42: 이천시 | H42: 에스케이하이닉스㈜ | I42: 304 | J42: 304 | K42: =VLOOKUP(B42,#REF!,5,FALSE) -> #REF! | L42: =VLOOKUP(B42,#REF!,6,FALSE) -> #REF! | N42: 150271NOx304 | O42: Y | P42: 미가동 | Q42: 2025년
A43: 대상 | B43: =C43&I43 -> 150271305 | C43: 150271 | D43: 환경부 | E43: 수도권 | F43: 경기도 | G43: 이천시 | H43: 에스케이하이닉스㈜ | I43: 305 | J43: 305 | K43: =VLOOKUP(B43,#REF!,5,FALSE) -> #REF! | L43: =VLOOKUP(B43,#REF!,6,FALSE) -> #REF! | N43: 150271NOx305 | O43: Y | P43: 미가동 | Q43: 2025년
A44: 대상 | B44: =C44&I44 -> 150271306 | C44: 150271 | D44: 환경부 | E44: 수도권 | F44: 경기도 | G44: 이천시 | H44: 에스케이하이닉스㈜ | I44: 306 | J44: 306 | K44: =VLOOKUP(B44,#REF!,5,FALSE) -> #REF! | L44: =VLOOKUP(B44,#REF!,6,FALSE) -> #REF! | N44: 150271NOx306 | O44: Y | P44: 미가동 | Q44: 2025년
... A58: 대상 | B58: =C58&I58 -> 150271338 | C58: 150271 | D58: 환경부 | E58: 수도권 | F58: 경기도 | G58: 이천시 | H58: 에스케이하이닉스㈜ | I58: 338 | J58: 338 | K58: =VLOOKUP(B58,#REF!,5,FALSE) -> #REF! | L58: =VLOOKUP(B58,#REF!,6,FALSE) -> #REF! | N58: 150271NOx338 | O58: Y | P58: 미가동 | Q58: 2025년
A59: 대상 | B59: =C59&I59 -> 1505827 | C59: 150582 | D59: 환경부 | E59: 수도권 | F59: 경기도 | G59: 김포시 | H59: 김포시 자원화센터 | I59: 7 | J59: 7 | K59: =VLOOKUP(B59,#REF!,5,FALSE) -> #REF! | M59: =VLOOKUP(B59,#REF!,7,FALSE) -> #REF! | N59: 150582NOx7 | O59: Y | P59: 2023년 | Q59: 2025년
A60: 확인필요(24년 재산정 되었는지) | B60: =C60&I60 -> 15063477 | C60: 150634 | D60: 지자체 | E60: 수도권 | F60: 인천광역시 | G60: 연수구 | H60: 삼성바이오로직스㈜ | I60: 77 | J60: 77 | K60: =VLOOKUP(B60,#REF!,5,FALSE) -> #REF! | N60: 150634NOx77 | O60: Y | Q60: 2024년
A61: 확인필요(24년 재산정 되었는지) | B61: =C61&I61 -> 15063478 | C61: 150634 | D61: 지자체 | E61: 수도권 | F61: 인천광역시 | G61: 연수구 | H61: 삼성바이오로직스㈜ | I61: 78 | J61: 78 | K61: =VLOOKUP(B61,#REF!,5,FALSE) -> #REF! | N61: 150634NOx78 | O61: Y | Q61: 2024년
A62: 확인필요(24년 재산정 되었는지) | B62: =C62&I62 -> 15063479 | C62: 150634 | D62: 지자체 | E62: 수도권 | F62: 인천광역시 | G62: 연수구 | H62: 삼성바이오로직스㈜ | I62: 79 | J62: 79 | K62: =VLOOKUP(B62,#REF!,5,FALSE) -> #REF! | N62: 150634NOx79 | O62: Y | Q62: 2024년
A63: 대상 | B63: =C63&I63 -> 1506457 | C63: 150645 | D63: 지자체 | E63: 수도권 | F63: 서울특별시 | G63: 종로구 | H63: 서울대학교병원 | I63: 7 | K63: =VLOOKUP(B63,#REF!,5,FALSE) -> #REF! | N63: 150645NOx7 | O63: Y | P63: 2023년 | Q63: 2025년
A64: 대상 | B64: =C64&I64 -> 1506458 | C64: 150645 | D64: 지자체 | E64: 수도권 | F64: 서울특별시 | G64: 종로구 | H64: 서울대학교병원 | I64: 8 | K64: =VLOOKUP(B64,#REF!,5,FALSE) -> #REF! | N64: 150645NOx8 | O64: Y | P64: 2023년 | Q64: 2025년
A65: 미대상(24년 배출량 보고 없음) < 확인필요(기타) | B65: =C65&I65 -> 1506949 | C65: 150694 | D65: 환경부 | E65: 수도권 | F65: 경기도 | G65: 평택시 | H65: ㈜동우에너지소재 | I65: 9 | J65: 9 | K65: =VLOOKUP(B65,#REF!,5,FALSE) -> #REF! | L65: =VLOOKUP(B65,#REF!,6,FALSE) -> #REF! | M65: =VLOOKUP(B65,#REF!,7,FALSE) -> #REF! | N65: 150694NOx9 | O65: Y | P65: 미설치 | Q65: 미설치(24년 설치 예정) | R65: 24년 배출량 보고 없음
A66: 확인필요(기타) | B66: =C66&I66 -> 1507621 | C66: 150762 | D66: 지자체 | E66: 수도권 | F66: 경기도 | G66: 여주시 | H66: ㈜이에스여주 | I66: 1 | J66: 1 | M66: =VLOOKUP(B66,#REF!,7,FALSE) -> #REF! | N66: 150762TSP1 | O66: Y | P66: 미설치 | Q66: 미설치
A67: 확인필요(기타) | B67: =C67&I67 -> 1507633 | C67: 150763 | D67: 지자체 | E67: 수도권 | F67: 인천광역시 | G67: 중구 | H67: 제이셋스태츠칩팩코리아(유) | I67: 3 | J67: 3 | K67: =VLOOKUP(B67,#REF!,5,FALSE) -> #REF! | N67: 150763NOx3 | O67: Y | P67: 2021년 예정 | Q67: 미설치
A68: 확인필요(기타) | B68: =C68&I68 -> 1507671 | C68: 150767 | D68: 지자체 | E68: 수도권 | F68: 경기도 | G68: 양주시 | H68: ㈜와이에스에너지 | I68: 1 | J68: 1 | K68: =VLOOKUP(B68,#REF!,5,FALSE) -> #REF! | L68: =VLOOKUP(B68,#REF!,6,FALSE) -> #REF! | M68: =VLOOKUP(B68,#REF!,7,FALSE) -> #REF! | N68: 150767NOx1 | O68: Y | P68: 미설치 | Q68: 미설치
A69: 확인필요(24년 재산정 되었는지) | B69: =C69&I69 -> 15076823 | C69: 150768 | D69: 환경부 | E69: 수도권 | F69: 경기도 | G69: 평택시 | H69: 삼성전자㈜평택사업장 | I69: 23 | J69: 23 | K69: =VLOOKUP(B69,#REF!,5,FALSE) -> #REF! | N69: 150768NOx23 | O69: Y | P69: 2022년 | Q69: 2024년
A70: 확인필요(24년 재산정 되었는지) | B70: =C70&I70 -> 15076824 | C70: 150768 | D70: 환경부 | E70: 수도권 | F70: 경기도 | G70: 평택시 | H70: 삼성전자㈜평택사업장 | I70: 24 | J70: 24 | K70: =VLOOKUP(B70,#REF!,5,FALSE) -> #REF! | N70: 150768NOx24 | O70: Y | P70: 2022년 | Q70: 2024년
A71: 확인필요(24년 재산정 되었는지) | B71: =C71&I71 -> 15076825 | C71: 150768 | D71: 환경부 | E71: 수도권 | F71: 경기도 | G71: 평택시 | H71: 삼성전자㈜평택사업장 | I71: 25 | J71: 25 | K71: =VLOOKUP(B71,#REF!,5,FALSE) -> #REF! | N71: 150768NOx25 | O71: Y | P71: 2022년 | Q71: 2024년
A72: 확인필요(24년 재산정 되었는지) | B72: =C72&I72 -> 15076826 | C72: 150768 | D72: 환경부 | E72: 수도권 | F72: 경기도 | G72: 평택시 | H72: 삼성전자㈜평택사업장 | I72: 26 | J72: 26 | K72: =VLOOKUP(B72,#REF!,5,FALSE) -> #REF! | N72: 150768NOx26 | O72: Y | P72: 2022년 | Q72: 2024년
A73: 확인필요(24년 재산정 되었는지) | B73: =C73&I73 -> 15076827 | C73: 150768 | D73: 환경부 | E73: 수도권 | F73: 경기도 | G73: 평택시 | H73: 삼성전자㈜평택사업장 | I73: 27 | J73: 27 | K73: =VLOOKUP(B73,#REF!,5,FALSE) -> #REF! | N73: 150768NOx27 | O73: Y | P73: 2022년 | Q73: 2024년
A74: 확인필요(24년 재산정 되었는지) | B74: =C74&I74 -> 15076828 | C74: 150768 | D74: 환경부 | E74: 수도권 | F74: 경기도 | G74: 평택시 | H74: 삼성전자㈜평택사업장 | I74: 28 | J74: 28 | K74: =VLOOKUP(B74,#REF!,5,FALSE) -> #REF! | N74: 150768NOx28 | O74: Y | P74: 2022년 | Q74: 2024년
A75: 확인필요(24년 재산정 되었는지) | B75: =C75&I75 -> 15076834 | C75: 150768 | D75: 환경부 | E75: 수도권 | F75: 경기도 | G75: 평택시 | H75: 삼성전자㈜평택사업장 | I75: 34 | J75: 34 | K75: =VLOOKUP(B75,#REF!,5,FALSE) -> #REF! | N75: 150768NOx34 | O75: Y | P75: 2022년 | Q75: 2024년
A76: 확인필요(24년 재산정 되었는지) | B76: =C76&I76 -> 15076835 | C76: 150768 | D76: 환경부 | E76: 수도권 | F76: 경기도 | G76: 평택시 | H76: 삼성전자㈜평택사업장 | I76: 35 | J76: 35 | K76: =VLOOKUP(B76,#REF!,5,FALSE) -> #REF! | N76: 150768NOx35 | O76: Y | P76: 2022년 | Q76: 2024년
A77: 대상 | B77: =C77&I77 -> 15076836 | C77: 150768 | D77: 환경부 | E77: 수도권 | F77: 경기도 | G77: 평택시 | H77: 삼성전자㈜평택사업장 | I77: 36 | J77: 36 | K77: =VLOOKUP(B77,#REF!,5,FALSE) -> #REF! | N77: 150768NOx36 | O77: Y | P77: 2023년 | Q77: 2025년
A78: 대상 | B78: =C78&I78 -> 15076864 | C78: 150768 | D78: 환경부 | E78: 수도권 | F78: 경기도 | G78: 평택시 | H78: 삼성전자㈜평택사업장 | I78: 64 | J78: 64 | K78: =VLOOKUP(B78,#REF!,5,FALSE) -> #REF! | N78: 150768NOx64 | O78: Y | P78: 2023년 | Q78: 2025년
A79: 대상 | B79: =C79&I79 -> 15076880 | C79: 150768 | D79: 환경부 | E79: 수도권 | F79: 경기도 | G79: 평택시 | H79: 삼성전자㈜평택사업장 | I79: 80 | J79: 80 | K79: =VLOOKUP(B79,#REF!,5,FALSE) -> #REF! | N79: 150768NOx80 | O79: Y | P79: 2023년 | Q79: 2025년
A80: 확인필요(기타) | B80: =C80&I80 -> 15076886 | C80: 150768 | D80: 환경부 | E80: 수도권 | F80: 경기도 | G80: 평택시 | H80: 삼성전자㈜평택사업장 | I80: 86 | J80: 86 | K80: =VLOOKUP(B80,#REF!,5,FALSE) -> #REF! | N80: 150768NOx86 | O80: Y | P80: 가동신고전 | Q80: 가동신고전
... A188: 확인필요(24년 재산정 되었는지) | B188: =C188&I188 -> 150768252 | C188: 150768 | D188: 환경부 | E188: 수도권 | F188: 경기도 | G188: 평택시 | H188: 삼성전자㈜평택사업장 | I188: 252 | J188: 252 | K188: =VLOOKUP(B188,#REF!,5,FALSE) -> #REF! | N188: 150768NOx252 | O188: Y | P188: 2022년 | Q188: 2024년
A189: 확인필요(기타) | B189: =C189&I189 -> 150768255 | C189: 150768 | D189: 환경부 | E189: 수도권 | F189: 경기도 | G189: 평택시 | H189: 삼성전자㈜평택사업장 | I189: 255 | J189: 255 | K189: =VLOOKUP(B189,#REF!,5,FALSE) -> #REF! | N189: 150768NOx255 | O189: Y | P189: 42856 | Q189: 미정(추후확인필요)
A190: 대상 | B190: =C190&I190 -> 150768269 | C190: 150768 | D190: 환경부 | E190: 수도권 | F190: 경기도 | G190: 평택시 | H190: 삼성전자㈜평택사업장 | I190: 269 | J190: 269 | K190: =VLOOKUP(B190,#REF!,5,FALSE) -> #REF! | N190: 150768NOx269 | O190: Y | P190: 2023년 | Q190: 2025년
A191: 확인필요(기타) | B191: =C191&I191 -> 150768270 | C191: 150768 | D191: 환경부 | E191: 수도권 | F191: 경기도 | G191: 평택시 | H191: 삼성전자㈜평택사업장 | I191: 270 | J191: 270 | K191: =VLOOKUP(B191,#REF!,5,FALSE) -> #REF! | N191: 150768NOx270 | O191: Y | P191: 설치예정 | Q191: 미설치
A192: 확인필요(기타) | B192: =C192&I192 -> 150768271 | C192: 150768 | D192: 환경부 | E192: 수도권 | F192: 경기도 | G192: 평택시 | H192: 삼성전자㈜평택사업장 | I192: 271 | J192: 271 | K192: =VLOOKUP(B192,#REF!,5,FALSE) -> #REF! | N192: 150768NOx271 | O192: Y | P192: 설치예정 | Q192: 미설치
A193: 확인필요(기타) | B193: =C193&I193 -> 150768272 | C193: 150768 | D193: 환경부 | E193: 수도권 | F193: 경기도 | G193: 평택시 | H193: 삼성전자㈜평택사업장 | I193: 272 | J193: 272 | K193: =VLOOKUP(B193,#REF!,5,FALSE) -> #REF! | N193: 150768NOx272 | O193: Y | P193: 설치예정 | Q193: 미설치
A194: 확인필요(기타) | B194: =C194&I194 -> 150768273 | C194: 150768 | D194: 환경부 | E194: 수도권 | F194: 경기도 | G194: 평택시 | H194: 삼성전자㈜평택사업장 | I194: 273 | J194: 273 | K194: =VLOOKUP(B194,#REF!,5,FALSE) -> #REF! | N194: 150768NOx273 | O194: Y | P194: 설치예정 | Q194: 미설치
A195: 확인필요(기타) | B195: =C195&I195 -> 150768274 | C195: 150768 | D195: 환경부 | E195: 수도권 | F195: 경기도 | G195: 평택시 | H195: 삼성전자㈜평택사업장 | I195: 274 | J195: 274 | K195: =VLOOKUP(B195,#REF!,5,FALSE) -> #REF! | N195: 150768NOx274 | O195: Y | P195: 설치예정 | Q195: 미설치
A196: 확인필요(기타) | B196: =C196&I196 -> 150768275 | C196: 150768 | D196: 환경부 | E196: 수도권 | F196: 경기도 | G196: 평택시 | H196: 삼성전자㈜평택사업장 | I196: 275 | J196: 275 | K196: =VLOOKUP(B196,#REF!,5,FALSE) -> #REF! | N196: 150768NOx275 | O196: Y | P196: 설치예정 | Q196: 미설치
A197: 확인필요(기타) | B197: =C197&I197 -> 150768276 | C197: 150768 | D197: 환경부 | E197: 수도권 | F197: 경기도 | G197: 평택시 | H197: 삼성전자㈜평택사업장 | I197: 276 | J197: 276 | K197: =VLOOKUP(B197,#REF!,5,FALSE) -> #REF! | N197: 150768NOx276 | O197: Y | P197: 설치예정 | Q197: 미설치
A198: 확인필요(기타) | B198: =C198&I198 -> 150768277 | C198: 150768 | D198: 환경부 | E198: 수도권 | F198: 경기도 | G198: 평택시 | H198: 삼성전자㈜평택사업장 | I198: 277 | J198: 277 | K198: =VLOOKUP(B198,#REF!,5,FALSE) -> #REF! | N198: 150768NOx277 | O198: Y | P198: 설치예정 | Q198: 미설치
A199: 확인필요(기타) | B199: =C199&I199 -> 150768278 | C199: 150768 | D199: 환경부 | E199: 수도권 | F199: 경기도 | G199: 평택시 | H199: 삼성전자㈜평택사업장 | I199: 278 | J199: 278 | K199: =VLOOKUP(B199,#REF!,5,FALSE) -> #REF! | N199: 150768NOx278 | O199: Y | P199: 설치예정 | Q199: 미설치
A200: 확인필요(기타) | B200: =C200&I200 -> 150768279 | C200: 150768 | D200: 환경부 | E200: 수도권 | F200: 경기도 | G200: 평택시 | H200: 삼성전자㈜평택사업장 | I200: 279 | J200: 279 | K200: =VLOOKUP(B200,#REF!,5,FALSE) -> #REF! | N200: 150768NOx279 | O200: Y | P200: 설치예정 | Q200: 미설치
A201: 확인필요(기타) | B201: =C201&I201 -> 150768280 | C201: 150768 | D201: 환경부 | E201: 수도권 | F201: 경기도 | G201: 평택시 | H201: 삼성전자㈜평택사업장 | I201: 280 | J201: 280 | K201: =VLOOKUP(B201,#REF!,5,FALSE) -> #REF! | N201: 150768NOx280 | O201: Y | P201: 설치예정 | Q201: 미설치
... A613: 확인필요(기타) | B613: =C613&I613 -> 150768725 | C613: 150768 | D613: 환경부 | E613: 수도권 | F613: 경기도 | G613: 평택시 | H613: 삼성전자㈜평택사업장 | I613: 725 | J613: 725 | K613: =VLOOKUP(B613,#REF!,5,FALSE) -> #REF! | N613: 150768NOx725 | O613: Y | P613: 설치예정 | Q613: 미설치
A614: 확인필요(24년 재산정 되었는지) | B614: =C614&I614 -> 15066624 | C614: 150666 | D614: 지자체 | E614: 수도권 | F614: 서울특별시 | G614: 서대문구 | H614: 이화여자대학교 | I614: 24 | J614: 24 | K614: =VLOOKUP(B614,#REF!,5,FALSE) -> #REF! | N614: 150666NOx24 | O614: Y | P614: 2022년 | Q614: 2024년
A615: 확인필요(기타>미대상) | B615: =C615&I615 -> 1508061 | C615: 150806 | D615: 지자체 | E615: 수도권 | F615: 경기도 | G615: 파주시 | H615: ㈜파주열에너지 | I615: 1 | J615: 1 | K615: =VLOOKUP(B615,#REF!,5,FALSE) -> #REF! | N615: 150806NOx1 | O615: Y | P615: 미설치 | Q615: 미설치 | R615: 24년 배출량 보고 없음
A616: 확인필요(기타>미대상) | B616: =C616&I616 -> 1508502 | C616: 150850 | D616: 지자체 | E616: 수도권 | F616: 경기도 | G616: 평택시 | H616: (주)화진케미칼 | I616: 2 | J616: 2 | K616: =VLOOKUP(B616,#REF!,5,FALSE) -> #REF! | L616: =VLOOKUP(B616,#REF!,6,FALSE) -> #REF! | M616: =VLOOKUP(B616,#REF!,7,FALSE) -> #REF! | N616: 150850NOx2 | O616: Y | P616: 미설치('21 가동개시 예정) | Q616: 미설치 | R616: 24년 배출량 보고 없음
A617: 확인필요(기타>미대상) | B617: =C617&I617 -> 1508503 | C617: 150850 | D617: 지자체 | E617: 수도권 | F617: 경기도 | G617: 평택시 | H617: (주)화진케미칼 | I617: 3 | J617: 3 | K617: =VLOOKUP(B617,#REF!,5,FALSE) -> #REF! | L617: =VLOOKUP(B617,#REF!,6,FALSE) -> #REF! | M617: =VLOOKUP(B617,#REF!,7,FALSE) -> #REF! | N617: 150850NOx3 | O617: Y | P617: 미설치('21 가동개시 예정) | Q617: 미설치 | R617: 24년 배출량 보고 없음
A618: 확인필요(기타>미대상) | B618: =C618&I618 -> 1508511 | C618: 150851 | D618: 지자체 | E618: 수도권 | F618: 경기도 | G618: 동두천시 | H618: 우진섬유 | I618: 1 | J618: 1 | K618: =VLOOKUP(B618,#REF!,5,FALSE) -> #REF! | N618: 150851NOx1 | O618: Y | P618: 미설치 | Q618: 미설치 | R618: 24년 배출량 보고 없음
A619: 대상 | B619: =C619&I619 -> 1508531 | C619: 150853 | D619: 환경부 | E619: 수도권 | F619: 경기도 | G619: 여주시 | H619: 여주에너지서비스(주) | I619: 1 | J619: 1 | K619: =VLOOKUP(B619,#REF!,5,FALSE) -> #REF! | N619: 150853NOx1 | O619: Y | P619: 45014 | Q619: 2025년
A620: 대상 | B620: =C620&I620 -> 1508532 | C620: 150853 | D620: 환경부 | E620: 수도권 | F620: 경기도 | G620: 여주시 | H620: 여주에너지서비스(주) | I620: 2 | J620: 2 | K620: =VLOOKUP(B620,#REF!,5,FALSE) -> #REF! | N620: 150853NOx2 | O620: Y | P620: 45014 | Q620: 2025년
A621: 대상 | B621: =C621&I621 -> 15085624 | C621: 150856 | D621: 환경부 | E621: 수도권 | F621: 경기도 | G621: 평택시 | H621: 이구산업㈜ | I621: 24 | J621: 24 | K621: =VLOOKUP(B621,#REF!,5,FALSE) -> #REF! | L621: =VLOOKUP(B621,#REF!,6,FALSE) -> #REF! | N621: 150856NOx24 | O621: Y | P621: 2023-04-00 | Q621: 2025년
A622: 대상 | B622: =C622&I622 -> 15085625 | C622: 150856 | D622: 환경부 | E622: 수도권 | F622: 경기도 | G622: 평택시 | H622: 이구산업㈜ | I622: 25 | J622: 25 | K622: =VLOOKUP(B622,#REF!,5,FALSE) -> #REF! | L622: =VLOOKUP(B622,#REF!,6,FALSE) -> #REF! | N622: 150856NOx25 | O622: Y | P622: 2023-04-00 | Q622: 2025년
A623: 대상 | B623: =C623&I623 -> 15085626 | C623: 150856 | D623: 환경부 | E623: 수도권 | F623: 경기도 | G623: 평택시 | H623: 이구산업㈜ | I623: 26 | J623: 26 | K623: =VLOOKUP(B623,#REF!,5,FALSE) -> #REF! | L623: =VLOOKUP(B623,#REF!,6,FALSE) -> #REF! | N623: 150856NOx26 | O623: Y | P623: 2023-04-00 | Q623: 2025년
A624: 대상 | B624: =C624&I624 -> 15085627 | C624: 150856 | D624: 환경부 | E624: 수도권 | F624: 경기도 | G624: 평택시 | H624: 이구산업㈜ | I624: 27 | J624: 27 | K624: =VLOOKUP(B624,#REF!,5,FALSE) -> #REF! | L624: =VLOOKUP(B624,#REF!,6,FALSE) -> #REF! | N624: 150856NOx27 | O624: Y | P624: 2023-04-00 | Q624: 2025년
A625: 대상 | B625: =C625&I625 -> 15085628 | C625: 150856 | D625: 환경부 | E625: 수도권 | F625: 경기도 | G625: 평택시 | H625: 이구산업㈜ | I625: 28 | J625: 28 | K625: =VLOOKUP(B625,#REF!,5,FALSE) -> #REF! | L625: =VLOOKUP(B625,#REF!,6,FALSE) -> #REF! | N625: 150856NOx28 | O625: Y | P625: 2023-04-00 | Q625: 2025년
A626: 대상 | B626: =C626&I626 -> 1508581 | C626: 150858 | D626: 환경부 | E626: 수도권 | F626: 경기도 | G626: 김포시 | H626: 한국서부발전 김포건설본부 | I626: 1 | J626: 1 | K626: =VLOOKUP(B626,#REF!,5,FALSE) -> #REF! | N626: 150858NOx1 | O626: Y | P626: 2023년7월 | Q626: 2025년
A627: 대상 | B627: =C627&I627 -> 1508582 | C627: 150858 | D627: 환경부 | E627: 수도권 | F627: 경기도 | G627: 김포시 | H627: 한국서부발전 김포건설본부 | I627: 2 | J627: 2 | K627: =VLOOKUP(B627,#REF!,5,FALSE) -> #REF! | N627: 150858NOx2 | O627: Y | P627: 2023년7월 | Q627: 2025년
A628: 대상 | B628: =C628&I628 -> 1508583 | C628: 150858 | D628: 환경부 | E628: 수도권 | F628: 경기도 | G628: 김포시 | H628: 한국서부발전 김포건설본부 | I628: 3 | J628: 3 | K628: =VLOOKUP(B628,#REF!,5,FALSE) -> #REF! | N628: 150858NOx3 | O628: Y | P628: 2023년7월 | Q628: 2025년
A629: 대상 | B629: =C629&I629 -> 1508584 | C629: 150858 | D629: 환경부 | E629: 수도권 | F629: 경기도 | G629: 김포시 | H629: 한국서부발전 김포건설본부 | I629: 4 | J629: 4 | K629: =VLOOKUP(B629,#REF!,5,FALSE) -> #REF! | N629: 150858NOx4 | O629: Y | P629: 2023년7월 | Q629: 2025년
A630: 대상 | B630: =C630&I630 -> 1508608 | C630: 150860 | D630: 환경부 | E630: 수도권 | F630: 경기도 | G630: 평택시 | H630: 강남제비스코(주)평택 | I630: 8 | J630: 8 | K630: =VLOOKUP(B630,#REF!,5,FALSE) -> #REF! | N630: 150860NOx8 | O630: Y | P630: 45078 | Q630: 2025년
A631: 대상 | B631: =C631&I631 -> 1130141 | C631: 113014 | D631: 환경부 | E631: 중부권 | F631: 전라북도 | G631: 전주시 | H631: ㈜개암에너지 | I631: 1 | J631: 1 | K631: =VLOOKUP(B631,#REF!,5,FALSE) -> #REF! | L631: =VLOOKUP(B631,#REF!,6,FALSE) -> #REF! | M631: =VLOOKUP(B631,#REF!,7,FALSE) -> #REF! | N631: 113014NOx1 | O631: Y | P631: 미가동 | Q631: 2025년
A632: 대상 | B632: =C632&I632 -> 1131035 | C632: 113103 | D632: 환경부 | E632: 중부권 | F632: 전라북도 | G632: 군산시 | H632: 오씨아이 주식회사 군산공장 | I632: 5 | J632: 5 | K632: =VLOOKUP(B632,#REF!,5,FALSE) -> #REF! | N632: 113103NOx5 | O632: Y | P632: 2023년 | Q632: 2025년
A633: 대상 | B633: =C633&I633 -> 1131036 | C633: 113103 | D633: 환경부 | E633: 중부권 | F633: 전라북도 | G633: 군산시 | H633: 오씨아이 주식회사 군산공장 | I633: 6 | J633: 6 | K633: =VLOOKUP(B633,#REF!,5,FALSE) -> #REF! | N633: 113103NOx6 | O633: Y | P633: 2023년 | Q633: 2025년
A634: 대상 | B634: =C634&I634 -> 11310313 | C634: 113103 | D634: 환경부 | E634: 중부권 | F634: 전라북도 | G634: 군산시 | H634: 오씨아이 주식회사 군산공장 | I634: 13 | J634: 7 | K634: =VLOOKUP(B634,#REF!,5,FALSE) -> #REF! | N634: 113103NOx13 | O634: Y | P634: 2023년 | Q634: 2025년
A635: 대상 | B635: =C635&I635 -> 11310359 | C635: 113103 | D635: 환경부 | E635: 중부권 | F635: 전라북도 | G635: 군산시 | H635: 오씨아이 주식회사 군산공장 | I635: 59 | J635: 38 | K635: =VLOOKUP(B635,#REF!,5,FALSE) -> #REF! | N635: 113103NOx59 | O635: Y | P635: 2023년 | Q635: 2025년
A636: 대상 | B636: =C636&I636 -> 11310368 | C636: 113103 | D636: 환경부 | E636: 중부권 | F636: 전라북도 | G636: 군산시 | H636: 오씨아이 주식회사 군산공장 | I636: 68 | J636: 39 | K636: =VLOOKUP(B636,#REF!,5,FALSE) -> #REF! | N636: 113103NOx68 | O636: Y | P636: 2023년 | Q636: 2025년
A637: 대상 | B637: =C637&I637 -> 11310386 | C637: 113103 | D637: 환경부 | E637: 중부권 | F637: 전라북도 | G637: 군산시 | H637: 오씨아이 주식회사 군산공장 | I637: 86 | J637: 51 | K637: =VLOOKUP(B637,#REF!,5,FALSE) -> #REF! | N637: 113103NOx86 | O637: Y | P637: 2023년 | Q637: 2025년
A638: 대상 | B638: =C638&I638 -> 113103137 | C638: 113103 | D638: 환경부 | E638: 중부권 | F638: 전라북도 | G638: 군산시 | H638: 오씨아이 주식회사 군산공장 | I638: 137 | J638: 16 | K638: =VLOOKUP(B638,#REF!,5,FALSE) -> #REF! | N638: 113103NOx137 | O638: Y | P638: 2023년 | Q638: 2025년
A639: 대상 | B639: =C639&I639 -> 113103171 | C639: 113103 | D639: 환경부 | E639: 중부권 | F639: 전라북도 | G639: 군산시 | H639: 오씨아이 주식회사 군산공장 | I639: 171 | J639: 32 | K639: =VLOOKUP(B639,#REF!,5,FALSE) -> #REF! | N639: 113103NOx171 | O639: Y | P639: 2023년 | Q639: 2025년
A640: 대상 | B640: =C640&I640 -> 11310579 | C640: 113105 | D640: 지자체 | E640: 중부권 | F640: 전라북도 | G640: 군산시 | H640: 대상㈜ | I640: 79 | J640: 79 | L640: =VLOOKUP(B640,#REF!,6,FALSE) -> #REF! | N640: 113105SOx79 | O640: Y | P640: 2023년 | Q640: 2025년
...

Sheet 대상 배출구 현황
B1: □ 2025년 가할당재산정 대상 배출구 현황
B2: * 허가증(검토서) 상 설치일자 or 시스템 활동도 시작일을 기준으로 파악한 것으로, 실제 가동개시일에 따라 재산정 대상 변경될 수 있음
B3: 연번 | C3: 관할 행정기관 | D3: 대기관리권역 | E3: 지역 | F3: 시군구 | G3: 사업장ID | H3: 사업장명 | I3: 시스템배출구 (참고) | J3: 총량배출구 | K3: 재산정 대상 여부
K4: NOx | L4: SOx | M4: TSP
B5: 1 | C5: 지자체 | D5: 남부권 | E5: 전라남도 | F5: 여수시 | G5: 110009 | H5: ㈜케이씨씨 여천공장 | I5: 26 | J5: 방면-3 | K5: O
B6: 2 | C6: 지자체 | D6: 남부권 | E6: 전라남도 | F6: 광양시 | G6: 110123 | H6: ㈜포스코퓨처엠 양극재광양공장(구.㈜포스코케미칼) | I6: 8 | J6: 8 | K6: O
B7: 3 | C7: 지자체 | D7: 남부권 | E7: 전라남도 | F7: 광양시 | G7: 110123 | H7: ㈜포스코퓨처엠 양극재광양공장(구.㈜포스코케미칼) | I7: 9 | J7: 9 | K7: O
B8: 4 | C8: 지자체 | D8: 남부권 | E8: 전라남도 | F8: 광양시 | G8: 110123 | H8: ㈜포스코퓨처엠 양극재광양공장(구.㈜포스코케미칼) | I8: 10 | J8: 10 | K8: O
B9: 5 | C9: 지자체 | D9: 남부권 | E9: 전라남도 | F9: 광양시 | G9: 110123 | H9: ㈜포스코퓨처엠 양극재광양공장(구.㈜포스코케미칼) | I9: 13 | J9: 13 | K9: O
B10: 6 | C10: 지자체 | D10: 남부권 | E10: 전라남도 | F10: 광양시 | G10: 110123 | H10: ㈜포스코퓨처엠 양극재광양공장(구.㈜포스코케미칼) | I10: 14 | J10: 14 | K10: O
B11: 7 | C11: 지자체 | D11: 남부권 | E11: 전라남도 | F11: 광양시 | G11: 110123 | H11: ㈜포스코퓨처엠 양극재광양공장(구.㈜포스코케미칼) | I11: 60 | J11: 60 | K11: O
B12: 8 | C12: 지자체 | D12: 남부권 | E12: 전라남도 | F12: 광양시 | G12: 110123 | H12: ㈜포스코퓨처엠 양극재광양공장(구.㈜포스코케미칼) | I12: 61 | J12: 61 | K12: O
B13: 9 | C13: 지자체 | D13: 남부권 | E13: 전라남도 | F13: 광양시 | G13: 110123 | H13: ㈜포스코퓨처엠 양극재광양공장(구.㈜포스코케미칼) | I13: 62 | J13: 62 | K13: O
B14: 10 | C14: 지자체 | D14: 남부권 | E14: 전라남도 | F14: 광양시 | G14: 110123 | H14: ㈜포스코퓨처엠 양극재광양공장(구.㈜포스코케미칼) | I14: 63 | J14: 63 | K14: O
B15: 11 | C15: 지자체 | D15: 남부권 | E15: 전라남도 | F15: 광양시 | G15: 110123 | H15: ㈜포스코퓨처엠 양극재광양공장(구.㈜포스코케미칼) | I15: 64 | J15: 64 | K15: O
B16: 12 | C16: 지자체 | D16: 남부권 | E16: 전라남도 | F16: 광양시 | G16: 110123 | H16: ㈜포스코퓨처엠 양극재광양공장(구.㈜포스코케미칼) | I16: 65 | J16: 65 | K16: O
B17: 13 | C17: 지자체 | D17: 남부권 | E17: 전라남도 | F17: 광양시 | G17: 110123 | H17: ㈜포스코퓨처엠 양극재광양공장(구.㈜포스코케미칼) | I17: 66 | J17: 66 | K17: O
... B111: 107 | C111: 지자체 | D111: 남부권 | E111: 광주광역시 | F111: 광산구 | G111: 111022 | H111: 한국가스공사 | I111: 1 | J111: 1 | K111: O
B112: 108 | C112: 지자체 | D112: 남부권 | E112: 전라남도 | F112: 영암군 | G112: 112214 | H112: 현대삼호중공업㈜ | I112: 273 | K112: O
B113: 109 | C113: 지자체 | D113: 남부권 | E113: 전라남도 | F113: 영암군 | G113: 112214 | H113: 현대삼호중공업㈜ | I113: 375 | K113: O
B114: 110 | C114: 지자체 | D114: 남부권 | E114: 전라남도 | F114: 영암군 | G114: 112214 | H114: 현대삼호중공업㈜ | I114: 376 | K114: O
B115: 111 | C115: 지자체 | D115: 남부권 | E115: 전라남도 | F115: 영암군 | G115: 112214 | H115: 현대삼호중공업㈜ | I115: 512 | K115: O
B116: 112 | C116: 지자체 | D116: 남부권 | E116: 전라남도 | F116: 영암군 | G116: 112214 | H116: 현대삼호중공업㈜ | I116: 513 | K116: O
B117: 113 | C117: 지자체 | D117: 남부권 | E117: 전라남도 | F117: 영암군 | G117: 112214 | H117: 현대삼호중공업㈜ | I117: 514 | K117: O
B118: 114 | C118: 지자체 | D118: 남부권 | E118: 전라남도 | F118: 영암군 | G118: 112214 | H118: 현대삼호중공업㈜ | I118: 515 | K118: O
B119: 115 | C119: 지자체 | D119: 남부권 | E119: 전라남도 | F119: 영암군 | G119: 112214 | H119: 현대삼호중공업㈜ | I119: 516 | K119: O
B120: 116 | C120: 지자체 | D120: 남부권 | E120: 전라남도 | F120: 영암군 | G120: 112214 | H120: 현대삼호중공업㈜ | I120: 522 | K120: O
B121: 117 | C121: 지자체 | D121: 남부권 | E121: 전라남도 | F121: 영암군 | G121: 112214 | H121: 현대삼호중공업㈜ | I121: 523 | K121: O
B122: 118 | C122: 지자체 | D122: 남부권 | E122: 전라남도 | F122: 영암군 | G122: 112214 | H122: 현대삼호중공업㈜ | I122: 524 | K122: O
B123: 119 | C123: 지자체 | D123: 남부권 | E123: 전라남도 | F123: 영암군 | G123: 112214 | H123: 현대삼호중공업㈜ | I123: 525 | K123: O
B124: 120 | C124: 지자체 | D124: 남부권 | E124: 전라남도 | F124: 영암군 | G124: 112214 | H124: 현대삼호중공업㈜ | I124: 526 | K124: O
B125: 121 | C125: 지자체 | D125: 남부권 | E125: 전라남도 | F125: 영암군 | G125: 112214 | H125: 현대삼호중공업㈜ | I125: 511 | J125: 18629 | K125: O
B126: 122 | C126: 지자체 | D126: 남부권 | E126: 전라남도 | F126: 영암군 | G126: 112214 | H126: 현대삼호중공업㈜ | I126: 521 | J126: 18994 | K126: O
B127: 123 | C127: 지자체 | D127: 남부권 | E127: 전라남도 | F127: 영암군 | G127: 112214 | H127: 현대삼호중공업㈜ | I127: 531 | J127: 19360 | K127: O
B128: 124 | C128: 지자체 | D128: 남부권 | E128: 전라남도 | F128: 영암군 | G128: 112214 | H128: 현대삼호중공업㈜ | I128: 532 | J128: 19391 | K128: O
B129: 125 | C129: 지자체 | D129: 남부권 | E129: 전라남도 | F129: 영암군 | G129: 112214 | H129: 현대삼호중공업㈜ | I129: 533 | J129: 19419 | K129: O
B130: 126 | C130: 지자체 | D130: 남부권 | E130: 전라남도 | F130: 영암군 | G130: 112214 | H130: 현대삼호중공업㈜ | I130: 534 | J130: 19450 | K130: O
B131: 127 | C131: 지자체 | D131: 남부권 | E131: 전라남도 | F131: 영암군 | G131: 112214 | H131: 현대삼호중공업㈜ | I131: 535 | J131: 19480 | K131: O
B132: 128 | C132: 지자체 | D132: 남부권 | E132: 전라남도 | F132: 영암군 | G132: 112214 | H132: 현대삼호중공업㈜ | I132: 536 | J132: 19511 | K132: O
B133: 129 | C133: 지자체 | D133: 중부권 | E133: 전라북도 | F133: 군산시 | G133: 113105 | H133: 대상㈜ | I133: 79 | J133: 79 | L133: O
B134: 130 | C134: 지자체 | D134: 동남권 | E134: 울산광역시 | F134: 동구 | G134: 130164 | H134: 에이치디현대중공업(주)(구.현대중공업(주)) | I134: 763 | J134: 763 | K134: O
B135: 131 | C135: 지자체 | D135: 동남권 | E135: 울산광역시 | F135: 동구 | G135: 130164 | H135: 에이치디현대중공업(주)(구.현대중공업(주)) | I135: 764 | J135: 764 | K135: O
B136: 132 | C136: 지자체 | D136: 동남권 | E136: 울산광역시 | F136: 동구 | G136: 130164 | H136: 에이치디현대중공업(주)(구.현대중공업(주)) | I136: 765 | J136: 765 | K136: O
B137: 133 | C137: 지자체 | D137: 동남권 | E137: 울산광역시 | F137: 동구 | G137: 130164 | H137: 에이치디현대중공업(주)(구.현대중공업(주)) | I137: 766 | J137: 766 | K137: O
B138: 134 | C138: 지자체 | D138: 동남권 | E138: 울산광역시 | F138: 동구 | G138: 130164 | H138: 에이치디현대중공업(주)(구.현대중공업(주)) | I138: 767 | J138: 767 | K138: O
B139: 135 | C139: 지자체 | D139: 동남권 | E139: 울산광역시 | F139: 동구 | G139: 130164 | H139: 에이치디현대중공업(주)(구.현대중공업(주)) | I139: 768 | J139: 768 | K139: O
B140: 136 | C140: 지자체 | D140: 동남권 | E140: 울산광역시 | F140: 동구 | G140: 130164 | H140: 에이치디현대중공업(주)(구.현대중공업(주)) | I140: 781 | J140: 781 | K140: O
B141: 137 | C141: 지자체 | D141: 동남권 | E141: 울산광역시 | F141: 동구 | G141: 130164 | H141: 에이치디현대중공업(주)(구.현대중공업(주)) | I141: 782 | J141: 782 | K141: O
B142: 138 | C142: 지자체 | D142: 동남권 | E142: 울산광역시 | F142: 동구 | G142: 130164 | H142: 에이치디현대중공업(주)(구.현대중공업(주)) | I142: 783 | J142: 783 | K142: O
B143: 139 | C143: 지자체 | D143: 동남권 | E143: 울산광역시 | F143: 동구 | G143: 130164 | H143: 에이치디현대중공업(주)(구.현대중공업(주)) | I143: 784 | J143: 784 | K143: O
B144: 140 | C144: 지자체 | D144: 동남권 | E144: 울산광역시 | F144: 동구 | G144: 130164 | H144: 에이치디현대중공업(주)(구.현대중공업(주)) | I144: 785 | J144: 785 | K144: O
B145: 141 | C145: 지자체 | D145: 동남권 | E145: 울산광역시 | F145: 동구 | G145: 130164 | H145: 에이치디현대중공업(주)(구.현대중공업(주)) | I145: 786 | J145: 786 | K145: O
... B150: 146 | C150: 지자체 | D150: 동남권 | E150: 울산광역시 | F150: 동구 | G150: 130164 | H150: 에이치디현대중공업(주)(구.현대중공업(주)) | I150: 796 | J150: 796 | K150: O
B151: 147 | C151: 지자체 | D151: 동남권 | E151: 경상북도 | F151: 포항시 | G151: 130564 | H151: 이비덴그라파이트㈜ | I151: 58 | J151: 53 | L151: O
B152: 148 | C152: 지자체 | D152: 동남권 | E152: 울산광역시 | F152: 울주군 | G152: 131006 | H152: 삼성SDI㈜ | I152: 125 | J152: 1125 | K152: O
B153: 149 | C153: 지자체 | D153: 동남권 | E153: 울산광역시 | F153: 울주군 | G153: 131006 | H153: 삼성SDI㈜ | I153: 134 | J153: 1134 | K153: O
B154: 150 | C154: 지자체 | D154: 동남권 | E154: 울산광역시 | F154: 울주군 | G154: 131006 | H154: 삼성SDI㈜ | I154: 135 | J154: 1135 | K154: O
B155: 151 | C155: 지자체 | D155: 동남권 | E155: 울산광역시 | F155: 울주군 | G155: 131006 | H155: 삼성SDI㈜ | I155: 136 | J155: 1136 | K155: O
B156: 152 | C156: 지자체 | D156: 동남권 | E156: 울산광역시 | F156: 울주군 | G156: 131006 | H156: 삼성SDI㈜ | I156: 137 | J156: 1137 | K156: O
B157: 153 | C157: 지자체 | D157: 동남권 | E157: 울산광역시 | F157: 동구 | G157: 131023 | H157: 에이치디현대미포㈜ | I157: 69 | J157: 69 | K157: O
B158: 154 | C158: 지자체 | D158: 동남권 | E158: 울산광역시 | F158: 북구 | G158: 131042 | H158: 현대자동차㈜ 울산공장 | I158: 452 | J158: 2338 | K158: O
B159: 155 | C159: 지자체 | D159: 동남권 | E159: 울산광역시 | F159: 북구 | G159: 131042 | H159: 현대자동차㈜ 울산공장 | I159: 453 | J159: 1936 | K159: O
B160: 156 | C160: 지자체 | D160: 동남권 | E160: 울산광역시 | F160: 북구 | G160: 131042 | H160: 현대자동차㈜ 울산공장 | I160: 454 | J160: 2307 | K160: O
B161: 157 | C161: 지자체 | D161: 동남권 | E161: 울산광역시 | F161: 동구 | G161: 131067 | H161: 에이치디현대중공업(주) 해양사업부(구.현대중공업 해양사업부) | I161: 88 | J161: 88 | K161: O
B162: 158 | C162: 지자체 | D162: 동남권 | E162: 울산광역시 | F162: 동구 | G162: 131067 | H162: 에이치디현대중공업(주) 해양사업부(구.현대중공업 해양사업부) | I162: 89 | J162: 89 | K162: O
B163: 159 | C163: 지자체 | D163: 동남권 | E163: 울산광역시 | F163: 동구 | G163: 131067 | H163: 에이치디현대중공업(주) 해양사업부(구.현대중공업 해양사업부) | I163: 90 | J163: 90 | K163: O
... B211: 207 | C211: 지자체 | D211: 수도권 | E211: 경기도 | F211: 광명시 | G211: 150227 | H211: 기아㈜ 광명공장 | I211: 219 | J211: 219 | K211: O
B212: 208 | C212: 지자체 | D212: 수도권 | E212: 서울특별시 | F212: 종로구 | G212: 150645 | H212: 서울대학교병원 | I212: 7 | K212: O
B213: 209 | C213: 지자체 | D213: 수도권 | E213: 서울특별시 | F213: 종로구 | G213: 150645 | H213: 서울대학교병원 | I213: 8 | K213: O
B214: 210 | C214: 지자체 | D214: 수도권 | E214: 서울특별시 | F214: 서대문구 | G214: 150666 | H214: 이화여자대학교 | I214: 24 | J214: 24 | K214: O
B215: 211 | C215: 지자체 | D215: 수도권 | E215: 경기도 | F215: 평택시 | G215: 150680 | H215: 매일유업㈜평택공장 | I215: 5 | J215: 5 | K215: O
B216: 212 | C216: 지자체 | D216: 수도권 | E216: 경기도 | F216: 안산시 | G216: 150859 | H216: 서울바이오시스(주) 제2공장 | I216: 2 | K216: O
B217: 213 | C217: 지자체 | D217: 중부권 | E217: 충청남도 | F217: 천안시 | G217: 170043 | H217: 케이씨글라스㈜ | I217: 34 | J217: 34 | K217: O | L217: O
B218: 214 | C218: 지자체 | D218: 중부권 | E218: 충청남도 | F218: 천안시 | G218: 170044 | H218: 에스지씨솔루션(주) 천안유리공장 | I218: 24 | J218: 24 | L218: O
B219: 215 | C219: 지자체 | D219: 중부권 | E219: 충청북도 | F219: 진천군 | G219: 170080 | H219: ㈜삼양패키징 광혜원공장 | I219: 17 | J219: 17 | K219: O
B220: 216 | C220: 지자체 | D220: 중부권 | E220: 충청북도 | F220: 진천군 | G220: 170080 | H220: ㈜삼양패키징 광혜원공장 | I220: 18 | J220: 18 | K220: O
B221: 217 | C221: 지자체 | D221: 중부권 | E221: 충청북도 | F221: 진천군 | G221: 170080 | H221: ㈜삼양패키징 광혜원공장 | I221: 19 | J221: 19 | K221: O
B222: 218 | C222: 지자체 | D222: 중부권 | E222: 충청북도 | F222: 진천군 | G222: 170080 | H222: ㈜삼양패키징 광혜원공장 | I222: 20 | J222: 20 | K222: O
B223: 219 | C223: 지자체 | D223: 중부권 | E223: 충청북도 | F223: 진천군 | G223: 170080 | H223: ㈜삼양패키징 광혜원공장 | I223: 21 | J223: 21 | K223: O | M223: O
B224: 220 | C224: 지자체 | D224: 중부권 | E224: 충청북도 | F224: 진천군 | G224: 170080 | H224: ㈜삼양패키징 광혜원공장 | I224: 22 | J224: 22 | K224: O | M224: O
B225: 221 | C225: 지자체 | D225: 중부권 | E225: 충청북도 | F225: 충주시 | G225: 170542 | H225: 더블유씨피㈜ | I225: 11 | J225: 11 | K225: O
B226: 222 | C226: 지자체 | D226: 중부권 | E226: 충청북도 | F226: 충주시 | G226: 170542 | H226: 더블유씨피㈜ | I226: 12 | J226: 12 | K226: O
B227: 223 | C227: 지자체 | D227: 중부권 | E227: 충청북도 | F227: 충주시 | G227: 170545 | H227: 코스모신소재㈜ | I227: 88 | J227: 88 | K227: O
B228: 224 | C228: 지자체 | D228: 중부권 | E228: 충청북도 | F228: 충주시 | G228: 170545 | H228: 코스모신소재㈜ | I228: 89 | J228: 89 | K228: O
B229: 225 | C229: 지자체 | D229: 중부권 | E229: 전라북도 | F229: 군산시 | G229: 170554 | H229: 타타대우상용차㈜ | I229: 56 | J229: 56 | K229: O
B230: 226 | C230: 지자체 | D230: 중부권 | E230: 전라북도 | F230: 군산시 | G230: 170554 | H230: 타타대우상용차㈜ | I230: 57 | J230: 57 | K230: O
B231: 227 | C231: 지자체 | D231: 중부권 | E231: 전라북도 | F231: 군산시 | G231: 170556 | H231: (주)명신 | I231: 5 | J231: 5 | K231: O
B232: 228 | C232: 지자체 | D232: 중부권 | E232: 전라북도 | F232: 군산시 | G232: 170556 | H232: (주)명신 | I232: 6 | J232: 6 | K232: O
B233: 229 | C233: 지자체 | D233: 중부권 | E233: 전라북도 | F233: 군산시 | G233: 170556 | H233: (주)명신 | I233: 7 | J233: 7 | K233: O
B234: 230 | C234: 지자체 | D234: 중부권 | E234: 전라북도 | F234: 군산시 | G234: 170556 | H234: (주)명신 | I234: 8 | J234: 8 | K234: O
B235: 231 | C235: 지자체 | D235: 중부권 | E235: 전라북도 | F235: 군산시 | G235: 170556 | H235: (주)명신 | I235: 9 | J235: 9 | K235: O
B236: 232 | C236: 지자체 | D236: 중부권 | E236: 전라북도 | F236: 군산시 | G236: 170556 | H236: (주)명신 | I236: 40 | J236: 40 | K236: O | M236: O
B237: 233 | C237: 지자체 | D237: 중부권 | E237: 전라북도 | F237: 군산시 | G237: 170556 | H237: (주)명신 | I237: 42 | J237: 42 | K237: O | M237: O
B238: 234 | C238: 지자체 | D238: 중부권 | E238: 전라북도 | F238: 군산시 | G238: 170556 | H238: (주)명신 | I238: 43 | J238: 43 | K238: O | M238: O
B239: 235 | C239: 지자체 | D239: 중부권 | E239: 전라북도 | F239: 군산시 | G239: 170556 | H239: (주)명신 | I239: 44 | J239: 44 | K239: O | M239: O
B240: 236 | C240: 지자체 | D240: 중부권 | E240: 전라북도 | F240: 군산시 | G240: 170556 | H240: (주)명신 | I240: 68 | J240: 68 | K240: O
B241: 237 | C241: 지자체 | D241: 중부권 | E241: 전라북도 | F241: 군산시 | G241: 170556 | H241: (주)명신 | I241: 70 | J241: 70 | K241: O
B242: 238 | C242: 지자체 | D242: 중부권 | E242: 전라북도 | F242: 군산시 | G242: 170556 | H242: (주)명신 | I242: 72 | J242: 72 | K242: O
B243: 239 | C243: 지자체 | D243: 중부권 | E243: 전라북도 | F243: 군산시 | G243: 170556 | H243: (주)명신 | I243: 76 | J243: 76 | K243: O
B244: 240 | C244: 지자체 | D244: 중부권 | E244: 전라북도 | F244: 군산시 | G244: 170556 | H244: (주)명신 | I244: 78 | J244: 78 | K244: O
...

Sheet 대상 사업장 현황
B1: □ 2025년 가할당재산정 대상 사업장 현황
B2: * 허가증(검토서) 상 설치일자 or 시스템 활동도 시작일을 기준으로 파악한 것으로, 실제 가동개시일에 따라 재산정 대상 변경될 수 있음 | I2: =SUBTOTAL(9,I5:I160) -> 13
B3: 연번 | C3: 관할 행정기관 | D3: 대기관리권역 | E3: 시도 | F3: 시군구 | G3: 사업장관리시스템 사업장ID | H3: 사업장명 | I3: 가할당재산정 대상 배출구수
B5: 1 | C5: 지자체 | D5: 남부권 | E5: 전라남도 | F5: 여수시 | G5: 110009 | H5: ㈜케이씨씨 여천공장 | I5: =COUNTIF('대상 배출구 현황'!$G$5:$G$776,'대상 사업장 현황'!G5) -> 1
B6: 2 | C6: 지자체 | D6: 남부권 | E6: 전라남도 | F6: 광양시 | G6: 110123 | H6: ㈜포스코퓨처엠 양극재광양공장(구.㈜포스코케미칼) | I6: =COUNTIF('대상 배출구 현황'!$G$5:$G$776,'대상 사업장 현황'!G6) -> 55
B7: 3 | C7: 지자체 | D7: 남부권 | E7: 광주광역시 | F7: 서구 | G7: 111018 | H7: 기아㈜ 광주1공장 | I7: =COUNTIF('대상 배출구 현황'!$G$5:$G$776,'대상 사업장 현황'!G7) -> 1
B8: 4 | C8: 지자체 | D8: 남부권 | E8: 광주광역시 | F8: 함평군 | G8: 111020 | H8: (주)광주글로벌모터스 | I8: =COUNTIF('대상 배출구 현황'!$G$5:$G$776,'대상 사업장 현황'!G8) -> 49
B9: 5 | C9: 지자체 | D9: 남부권 | E9: 광주광역시 | F9: 광산구 | G9: 111022 | H9: 한국가스공사 | I9: =COUNTIF('대상 배출구 현황'!$G$5:$G$776,'대상 사업장 현황'!G9) -> 1
B10: 6 | C10: 지자체 | D10: 남부권 | E10: 전라남도 | F10: 영암군 | G10: 112214 | H10: 현대삼호중공업㈜ | I10: =COUNTIF('대상 배출구 현황'!$G$5:$G$776,'대상 사업장 현황'!G10) -> 21
B11: 7 | C11: 지자체 | D11: 중부권 | E11: 전라북도 | F11: 군산시 | G11: 113105 | H11: 대상㈜ | I11: =COUNTIF('대상 배출구 현황'!$G$5:$G$776,'대상 사업장 현황'!G11) -> 1
B12: 8 | C12: 지자체 | D12: 동남권 | E12: 울산광역시 | F12: 동구 | G12: 130164 | H12: 에이치디현대중공업(주)(구.현대중공업(주)) | I12: =COUNTIF('대상 배출구 현황'!$G$5:$G$776,'대상 사업장 현황'!G12) -> 17
B13: 9 | C13: 지자체 | D13: 동남권 | E13: 경상북도 | F13: 포항시 | G13: 130564 | H13: 이비덴그라파이트㈜ | I13: =COUNTIF('대상 배출구 현황'!$G$5:$G$776,'대상 사업장 현황'!G13) -> 1
B14: 10 | C14: 지자체 | D14: 동남권 | E14: 울산광역시 | F14: 울주군 | G14: 131006 | H14: 삼성SDI㈜ | I14: =COUNTIF('대상 배출구 현황'!$G$5:$G$776,'대상 사업장 현황'!G14) -> 5
B15: 11 | C15: 지자체 | D15: 동남권 | E15: 울산광역시 | F15: 동구 | G15: 131023 | H15: 에이치디현대미포㈜ | I15: =COUNTIF('대상 배출구 현황'!$G$5:$G$776,'대상 사업장 현황'!G15) -> 1
B16: 12 | C16: 지자체 | D16: 동남권 | E16: 울산광역시 | F16: 북구 | G16: 131042 | H16: 현대자동차㈜ 울산공장 | I16: =COUNTIF('대상 배출구 현황'!$G$5:$G$776,'대상 사업장 현황'!G16) -> 3
... B160: 156 | C160: 환경부 | D160: 중부권 | E160: 충청남도 | F160: 공주시 | G160: 170926 | H160: ㈜피앤오케미칼 | I160: =COUNTIF('대상 배출구 현황'!$G$5:$G$776,'대상 사업장 현황'!G160) -> 3

Sheet 권역,관할기관별 현황
B1: □ 2025년 가할당 재산정 대상 사업장
B2: 구분 | C2: 전체 | E2: 수도권 | G2: 중부권 | I2: 남부권 | K2: 동남권
C3: 사업장수 | D3: 배출구수 | E3: 사업장수 | F3: 배출구수 | G3: 사업장수 | H3: 배출구수 | I3: 사업장수 | J3: 배출구수 | K3: 사업장수 | L3: 배출구수
B4: 전체 | C4: =SUM(C5:C6) -> 156 | D4: =SUM(D5:D6) -> 772 | E4: =SUM(E5:E6) -> 17 | F4: =SUM(F5:F6) -> 142 | G4: =SUM(G5:G6) -> 65 | H4: =SUM(H5:H6) -> 241 | I4: =SUM(I5:I6) -> 23 | J4: =SUM(J5:J6) -> 200 | ... L4: =SUM(L5:L6) -> 189
B5: 환경부 | C5: =SUM(E5,G5,I5,K5) -> 96 | D5: =SUM(F5,H5,J5,L5) -> 421 | E5: =COUNTIFS('대상 사업장 현황'!$C:$C,'권역,관할기관별 현황'!$B$5,'대상 사업장 현황'!$D:$D,'권역,관할기관별 현황'!E2) -> 12 | F5: =SUMIFS('대상 사업장 현황'!$I:$I,'대상 사업장 현황'!$C:$C,'권역,관할기관별 현황'!$B$5,'대상 사업장 현황'!$D:$D,'권역,관할기관별 현황'!E2) -> 116 | G5: =COUNTIFS('대상 사업장 현황'!$C:$C,'권역,관할기관별 현황'!$B$5,'대상 사업장 현황'!$D:$D,'권역,관할기관별 현황'!G2) -> 28 | H5: =SUMIFS('대상 사업장 현황'!$I:$I,'대상 사업장 현황'!$C:$C,'권역,관할기관별 현황'!$B$5,'대상 사업장 현황'!$D:$D,'권역,관할기관별 현황'!G2) -> 101 | I5: =COUNTIFS('대상 사업장 현황'!$C:$C,'권역,관할기관별 현황'!$B$5,'대상 사업장 현황'!$D:$D,'권역,관할기관별 현황'!I2) -> 17 | J5: =SUMIFS('대상 사업장 현황'!$I:$I,'대상 사업장 현황'!$C:$C,'권역,관할기관별 현황'!$B$5,'대상 사업장 현황'!$D:$D,'권역,관할기관별 현황'!I2) -> 72 | K5: =COUNTIFS('대상 사업장 현황'!$C:$C,'권역,관할기관별 현황'!$B$5,'대상 사업장 현황'!$D:$D,'권역,관할기관별 현황'!K2) -> 39 | L5: =SUMIFS('대상 사업장 현황'!$I:$I,'대상 사업장 현황'!$C:$C,'권역,관할기관별 현황'!$B$5,'대상 사업장 현황'!$D:$D,'권역,관할기관별 현황'!K2) -> 132
B6: 지자체 | C6: =SUM(E6,G6,I6,K6) -> 60 | D6: =SUM(F6,H6,J6,L6) -> 351 | E6: =COUNTIFS('대상 사업장 현황'!$C:$C,'권역,관할기관별 현황'!$B$6,'대상 사업장 현황'!$D:$D,'권역,관할기관별 현황'!E2) -> 5 | F6: =SUMIFS('대상 사업장 현황'!$I:$I,'대상 사업장 현황'!$C:$C,'권역,관할기관별 현황'!$B$6,'대상 사업장 현황'!$D:$D,'권역,관할기관별 현황'!E2) -> 26 | G6: =COUNTIFS('대상 사업장 현황'!$C:$C,'권역,관할기관별 현황'!$B$6,'대상 사업장 현황'!$D:$D,'권역,관할기관별 현황'!G2) -> 37 | H6: =SUMIFS('대상 사업장 현황'!$I:$I,'대상 사업장 현황'!$C:$C,'권역,관할기관별 현황'!$B$6,'대상 사업장 현황'!$D:$D,'권역,관할기관별 현황'!G2) -> 140 | I6: =COUNTIFS('대상 사업장 현황'!$C:$C,'권역,관할기관별 현황'!$B$6,'대상 사업장 현황'!$D:$D,'권역,관할기관별 현황'!I2) -> 6 | J6: =SUMIFS('대상 사업장 현황'!$I:$I,'대상 사업장 현황'!$C:$C,'권역,관할기관별 현황'!$B$6,'대상 사업장 현황'!$D:$D,'권역,관할기관별 현황'!I2) -> 128 | K6: =COUNTIFS('대상 사업장 현황'!$C:$C,'권역,관할기관별 현황'!$B$6,'대상 사업장 현황'!$D:$D,'권역,관할기관별 현황'!K2) -> 12 | L6: =SUMIFS('대상 사업장 현황'!$I:$I,'대상 사업장 현황'!$C:$C,'권역,관할기관별 현황'!$B$6,'대상 사업장 현황'!$D:$D,'권역,관할기관별 현황'!K2) -> 57

Sheet 사업장리스트
B2: ## 총량관리사업장 등록 및 변경 현황
D3: 1 | E3: 2 | F3: 3 | G3: 4 | H3: 5 | I3: 6 | J3: 7 | K3: 8 | L3: 9 | M3: 10 | N3: 11 | O3: 환경부 | P3: =COUNTIF($P$6:$P$1310,O3)-COUNTIFS($P$6:$P$1310,O3,$X$6:$X$1310,"o") -> 540 | R3: 15 | S3: 16 | T3: 17 | U3: 18 | V3: 19 | W3: 20 | X3: 21 | Y3: 22 | Z3: 23 | AA3: 24
D4: =COUNTA(D6:D1319)-COUNTIF(X6:X1319,"o") -> 1184 | G4: =SUBTOTAL(3,G6:G1304) -> 1299 | O4: 지자체 | P4: =COUNTIF($P$6:$P$1310,O4)-COUNTIFS($P$6:$P$1310,O4,$X$6:$X$1310,"o") -> 636 | Q4: =COUNTIFS(Q6:Q1310,"통합허가")-COUNTIFS(Q6:Q1310,"통합허가",X6:X1310,"o") -> 606 | S4: =SUBTOTAL(3,S6:S1310) -> 1261 | W4: =SUBTOTAL(3,W6:W1310) -> 80 | X4: =SUBTOTAL(3,X6:X1428) -> 130 | Y4: =SUBTOTAL(3,Y6:Y1310) -> 1209 | AB4: 대상물질
B5: 연번 | C5: 폴더용 | D5: 사업장ID | E5: 사업자등록번호 | F5: 사업장명 | G5: 권역 | H5: 지역 | I5: 시도 | J5: 관할청 | K5: 주소 | L5: 종 | M5: 대/중/소/공공 | N5: 통계업종 | O5: 업종(세세분류) | P5: 허가주체 | Q5: 통합허가/공동설치 | R5: 통합허가일 | S5: 허가번호 | T5: 최초허가일 | U5: 최신허가일 | V5: 비고 | W5: 신규 | X5: 제외 | Y5: 22년 정산대상 | Z5: 23년 정산대상 | AA5: 사유 | AB5: NOx | AC5: SOx | AD5: TSP
B6: 1 | C6: 512 | D6: 150001 | E6: 120-81-38186 | F6: ㈜그린스코 | G6: 수도권 | H6: 인천광역시 | I6: 남동구 | J6: 수도권대기환경청 | K6: 21689) 인천광역시 남동구 앵고개로654번길 99 (고잔동) | L6: 1종 | M6: 중소기업 | N6: 폐기물처리업 | O6: 지정 폐기물 처리업 | P6: 환경부 | Q6: 통합허가 | R6: 44140 | S6: 2022-139호 | T6: 40184 | U6: 44970 | Y6: o | AB6: O | AD6: O
B7: 2 | C7: 513 | D7: 150002 | E7: 143-81-15565 | F7: 경인환경에너지㈜ | G7: 수도권 | H7: 인천광역시 | I7: 서구 | J7: 수도권대기환경청 | K7: 22743) 인천광역시 서구 사렴로65번길 24 (경서동) | L7: 1종 | M7: 대기업 | N7: 폐기물처리업 | O7: 지정 폐기물 처리업 | P7: 환경부 | Q7: 통합허가 | R7: 43958 | S7: 2022-138호 | T7: 39498 | U7: 44922 | Y7: o | AB7: O | AD7: O
B8: 3 | C8: 514 | D8: 150003 | E8: 121-86-00257 | F8: 이건에너지㈜ | G8: 수도권 | H8: 인천광역시 | I8: 남구 | J8: 수도권대기환경청 | K8: 22108) 인천광역시 남구 송림로307번길 132 (도화동) | L8: 1종 | M8: 중견기업 | N8: 전기가스증기업(기타발전_난방) | O8: 증기, 냉ㆍ온수 및 공기 조절 공급업 | P8: 환경부 | Q8: 통합허가 | R8: 44162 | S8: 2022-141호 | T8: 40280 | U8: 44922 | Y8: o | AB8: O | AD8: O
B9: 4 | C9: 515 | D9: 150004 | E9: 123-81-00184 | F9: 대양제지공업㈜ | G9: 수도권 | H9: 경기도 | I9: 안산시 | J9: 수도권대기환경청 | K9: 15408) 경기도 안산시 단원구 신원로 50 (신길동) (신길동) | L9: 1종 | M9: 대기업 | N9: 종이제품제조업 | O9: 기타 종이 및 판지 제조업 | P9: 지자체 | Q9: 통합허가 | R9: 45288 | S9: - | T9: 39447 | U9: 44942 | Y9: o | AB9: O | AD9: O
B10: 5 | C10: 516 | D10: 150005 | E10: 134-81-08890 | F10: 대일개발㈜ | G10: 수도권 | H10: 경기도 | I10: 안산시 | J10: 수도권대기환경청 | K10: 15619) 경기도 안산시 단원구 지원로 7 (성곡동) (성곡동) | L10: 1종 | M10: 중소기업 | N10: 폐기물처리업 | O10: 지정 폐기물 처리업 | P10: 환경부 | Q10: 통합허가 | R10: 44165 | S10: 2022-154호 | T10: 39447 | U10: 44922 | Y10: o | AB10: O | AD10: O
B11: 6 | C11: 517 | D11: 150006 | E11: 134-81-22290 | F11: 성림유화㈜ | G11: 수도권 | H11: 경기도 | I11: 안산시 | J11: 수도권대기환경청 | K11: 15619) 경기도 안산시 단원구 첨단로 215 (성곡동) (성곡동) | L11: 1종 | M11: 중소기업 | N11: 폐기물처리업 | O11: 건설 폐기물 처리업 | P11: 환경부 | Q11: 통합허가 | R11: 43909 | S11: 2022-160호 | T11: 39447 | U11: 45260 | Y11: o | AA11: 23년 Sox 총량 제외(배출량 4톤 미만) | AB11: O | AC11: O | AD11: O
B12: 7 | C12: 518 | D12: 150007 | E12: 134-81-05796 | F12: 태림페이퍼㈜ | G12: 수도권 | H12: 경기도 | I12: 안산시 | J12: 수도권대기환경청 | K12: 15609) 경기도 안산시 단원구 해안로 104 (목내동) | L12: 1종 | M12: 대기업 | N12: 종이제품제조업 | O12: 기타 종이 및 판지 제조업 | P12: 지자체 | Q12: 통합허가 | R12: 45287 | S12: - | T12: 40178 | U12: 44942 | Y12: o | AB12: O | AD12: O
B13: 8 | C13: 519 | D13: 150008 | E13: 134-81-40584 | F13: 부경산업㈜ | G13: 수도권 | H13: 경기도 | I13: 안산시 | J13: 수도권대기환경청 | K13: 15409) 경기도 안산시 단원구 신원로91번길 16 (성곡동) | L13: 1종 | M13: 중소기업 | N13: 폐기물처리업 | O13: 지정 폐기물 처리업 | P13: 환경부 | Q13: 통합허가 | R13: 44000 | S13: 2022-157호 | T13: 39447 | U13: 44922 | Y13: o | AB13: O | AD13: O
B14: 9 | C14: 520 | D14: 150009 | E14: 134-81-02858 | F14: 신대양제지㈜ | G14: 수도권 | H14: 경기도 | I14: 안산시 | J14: 수도권대기환경청 | K14: 15417) 경기도 안산시 단원구 별망로 129 (성곡동) | L14: 1종 | M14: 중견기업 | N14: 종이제품제조업 | O14: 기타 종이 및 판지 제조업 | P14: 지자체 | Q14: 통합허가 | R14: 45288 | S14: - | T14: 39447 | U14: 44942 | Y14: o | AB14: O | AC14: O | AD14: O
B15: 10 | C15: 521 | D15: 150010 | E15: 261-86-01535 | F15: 신대양제지반월㈜ | G15: 수도권 | H15: 경기도 | I15: 안산시 | J15: 수도권대기환경청 | K15: 15609) 경기도 안산시 단원구 목내로 29 (목내동) | L15: 1종 | M15: 중소기업 | N15: 종이제품제조업 | O15: 그 외 기타 종이 및 판지 제품 제조업 | P15: 지자체 | Q15: 통합허가 | R15: 45279 | S15: - | T15: 39482 | U15: 44942 | Y15: o | AB15: O | AD15: O
B16: 11 | C16: 522 | D16: 150011 | E16: 140-85-19288 | F16: 아세아제지㈜시화공장 | G16: 수도권 | H16: 경기도 | I16: 시흥시 | J16: 수도권대기환경청 | K16: 15013) 경기도 시흥시 서해안로 231 (정왕동) | L16: 1종 | M16: 대기업 | N16: 종이제품제조업 | O16: 크라프트지 및 상자용 판지 제조업 | P16: 지자체 | Q16: 통합허가 | R16: 45279 | S16: - | T16: 39447 | U16: 44942 | Y16: o | AB16: O | AD16: O
B17: 12 | C17: 523 | D17: 150012 | E17: 739-86-02584 | F17: 코어엔텍㈜ | G17: 수도권 | H17: 경기도 | I17: 시흥시 | J17: 수도권대기환경청 | K17: 15087) 경기도 시흥시 소망공원로 5 (정왕동) 정왕동 | L17: 1종 | M17: 중소기업 | N17: 폐기물처리업 | O17: 지정 폐기물 처리업 | P17: 환경부 | Q17: 통합허가 | R17: 43910 | S17: 2021-56호 | T17: 40907 | U17: 45119 | V17: 사업장명 변경(케이지이티에스㈜ → 코어엔텍㈜): 법인분할에 따른 상호명 변경 | Y17: o | AB17: O | AC17: O | AD17: O
B18: 13 | C18: 524 | D18: 150013 | E18: 140-82-00212 | F18: 시흥그린센터 | G18: 수도권 | H18: 경기도 | I18: 시흥시 | J18: 수도권대기환경청 | K18: 15100) 경기도 시흥시 옥구천서로9번길 45 (정왕동) | L18: 1종 | M18: 공공기관 | N18: 폐기물처리업 | O18: 지정 외 폐기물 처리업 | P18: 환경부 | Q18: 통합허가 | R18: 44137 | S18: 2022-163호 | T18: 40178 | U18: 44922 | V18: 사업장명 변경(시흥도시공사→시흥그린센터) | Y18: o | AB18: O | AD18: O
B19: 14 | C19: 525 | D19: 150014 | E19: 134-81-78493 | F19: ㈜지에스이앤알 | G19: 수도권 | H19: 경기도 | I19: 안산시 | J19: 수도권대기환경청 | K19: 15614) 경기도 안산시 단원구 해안로 404 (초지동) 지에스이앤알 | L19: 1종 | M19: 대기업 | N19: 전기가스증기업(기타발전_난방) | O19: 증기, 냉ㆍ온수 및 공기 조절 공급업 | P19: 환경부 | Q19: 통합허가 | R19: 43178 | S19: 2022-166호 | T19: 39447 | U19: 44922 | Y19: o | AB19: O | AC19: O | AD19: O
B20: 15 | C20: 526 | D20: 150015 | E20: 134-81-02799 | F20: 한국환경개발㈜시화공장 | G20: 수도권 | H20: 경기도 | I20: 안산시 | J20: 수도권대기환경청 | K20: 15619) 경기도 안산시 단원구 첨단로207번길 5 (성곡동) (성곡동 724 시화공단 5바 626호 ) | L20: 1종 | M20: 중소기업 | N20: 폐기물처리업 | O20: 지정 폐기물 처리업 | P20: 환경부 | Q20: 통합허가 | R20: 43886 | S20: 2021-58호 | T20: 39447 | U20: 44922 | Y20: o | AB20: O | AD20: O
B21: 16 | C21: 527 | D21: 150016 | E21: 133-81-22400 | F21: ㈜고려제지 | G21: 수도권 | H21: 경기도 | I21: 시흥시 | J21: 수도권대기환경청 | K21: 15098) 경기도 시흥시 군자천로 99 (정왕동) | L21: 1종 | M21: 중견기업 | N21: 종이제품제조업 | O21: 기타 종이 및 판지 제조업 | P21: 지자체 | Q21: 통합허가 | R21: 45279 | S21: - | T21: 39447 | U21: 44942 | Y21: o | AB21: O | AD21: O
B22: 17 | C22: 528 | D22: 150017 | E22: 140-85-17621 | F22: 코어엔텍(주)에너지공장 | G22: 수도권 | H22: 경기도 | I22: 시흥시 | J22: 수도권대기환경청 | K22: 15101) 경기도 시흥시 옥구천동로 46 (정왕동) (정왕동) | L22: 1종 | M22: 중견기업 | N22: 전기가스증기업(기타발전_난방) | O22: 증기, 냉ㆍ온수 및 공기 조절 공급업 | P22: 환경부 | Q22: 통합허가 | R22: 43629 | S22: 2022-50호 | T22: 39447 | U22: 44922 | V22: 사업장명 변경(KGETS㈜에너지공장 → 코어엔텍(주)에너지공장) | Y22: o | AB22: O | AC22: O | AD22: O
B23: 18 | C23: 529 | D23: 150020 | E23: 289-88-00504 | F23: 서울에너지공사 동부지사(노원열병합발전소) | G23: 수도권 | H23: 서울특별시 | I23: 노원구 | J23: 수도권대기환경청 | K23: 01772) 서울특별시 노원구 덕릉로70길 99 (상계동) 서울에너지공사 동부지사(노원열병합발전소) | L23: 1종 | M23: 공공기관 | N23: 전기가스증기업(기타발전_난방) | O23: 증기, 냉ㆍ온수 및 공기 조절 공급업 | P23: 환경부 | Q23: 통합허가 | R23: 44116 | S23: 2021-21호 | T23: 39464 | U23: 44922 | Y23: o | AB23: O
B24: 19 | C24: 530 | D24: 150021 | E24: 104-83-00469 | F24: 노원자원회수시설 | G24: 수도권 | H24: 서울특별시 | I24: 노원구 | J24: 수도권대기환경청 | K24: 01772) 서울특별시 노원구 덕릉로70길 99 (상계동) | L24: 1종 | M24: 공공기관 | N24: 폐기물처리업 | O24: 지정 외 폐기물 처리업 | P24: 환경부 | Q24: 통합허가 | R24: 43859 | S24: 2020-119호 | T24: 39554 | U24: 44922 | Y24: o | AB24: O | AD24: O
B25: 20 | C25: 531 | D25: 150022 | E25: 104-83-00469 | F25: 양천자원회수시설 | G25: 수도권 | H25: 서울특별시 | I25: 양천구 | J25: 수도권대기환경청 | K25: 07978) 서울특별시 양천구 안양천로 1121 (목동) (목동) | L25: 1종 | M25: 공공기관 | N25: 폐기물처리업 | O25: 지정 외 폐기물 처리업 | P25: 환경부 | Q25: 통합허가 | R25: 43769 | S25: 2020-123호 | T25: 39554 | U25: 44922 | Y25: o | AB25: O | AD25: O
B26: 21 | C26: 532 | D26: 150023 | E26: 289-88-00504 | F26: 서울에너지공사 (목동열병합발전소) | G26: 수도권 | H26: 서울특별시 | I26: 양천구 | J26: 수도권대기환경청 | K26: 07978) 서울특별시 양천구 목동서로 20 (목동) | L26: 1종 | M26: 공공기관 | N26: 전기가스증기업(기타발전_난방) | O26: 증기, 냉ㆍ온수 및 공기 조절 공급업 | P26: 환경부 | Q26: 통합허가 | R26: 44070 | S26: 2021-18호 | T26: 40144 | U26: 44922 | Y26: o | AB26: O
B27: 22 | C27: 533 | D27: 150024 | E27: 105-85-14956 | F27: 한국중부발전㈜서울발전본부 | G27: 수도권 | H27: 서울특별시 | I27: 마포구 | J27: 수도권대기환경청 | K27: 04082) 서울특별시 마포구 토정로 56 (합정동) | L27: 1종 | M27: 공공기관 | N27: 전기가스증기업(발전_기력_복합) | O27: 화력 발전업 | P27: 환경부 | Q27: 통합허가 | R27: 43851 | S27: 2022-137호 | T27: 39464 | U27: 44922 | Y27: o | AB27: O
B28: 23 | C28: 534 | D28: 150028 | E28: 104-83-00469 | F28: 강남자원회수시설 | G28: 수도권 | H28: 서울특별시 | I28: 강남구 | J28: 수도권대기환경청 | K28: 06340) 서울특별시 강남구 남부순환로 3318 (일원동) | L28: 1종 | M28: 공공기관 | N28: 폐기물처리업 | O28: 지정 외 폐기물 처리업 | P28: 환경부 | Q28: 통합허가 | R28: 43682 | S28: 2022-135호 | T28: 39553 | U28: 44922 | Y28: o | AB28: O | AD28: O
B29: 24 | C29: 535 | D29: 150030 | E29: 219-85-00014 | F29: ㈜호텔롯데(롯데월드) | G29: 수도권 | H29: 서울특별시 | I29: 송파구 | J29: 수도권대기환경청 | K29: 05554) 서울특별시 송파구 올림픽로 240 (잠실동) | L29: 2종 | M29: 대기업 | N29: 기타 | O29: 호텔업 | P29: 지자체 | Q29: - | R29: - | S29: - | T29: 39553 | U29: 44666 | Y29: o | AB29: O
B30: 25 | C30: 536 | D30: 150031 | E30: 109-81-33530 | F30: ㈜SUN&L | G30: 수도권 | H30: 인천광역시 | I30: 중구 | J30: 수도권대기환경청 | K30: 22300) 인천광역시 중구 월미로 96 (북성동1가) (구주소 : 중구 북성동1가 6-32 ) | L30: 1종 | M30: 중견기업 | N30: 기타 | O30: 박판, 합판 및 유사 적층판 제조업 | P30: 환경부 | Q30: 통합허가 | R30: 44187 | S30: 2021-22호 | T30: 39444 | U30: 45063 | V30: 사업장명 변경(선창산업㈜ → ㈜SUN&L) | Y30: o | AB30: O | AD30: O
B31: 26 | C31: 537 | D31: 150032 | E31: 121-81-10309 | F31: 대성목재공업㈜ | G31: 수도권 | H31: 인천광역시 | I31: 중구 | J31: 수도권대기환경청 | K31: 22300) 인천광역시 중구 월미로 164 (북성동1가) 대성목재공업 주식회사 | L31: 1종 | M31: 대기업 | N31: 기타 | O31: 강화 및 재생 목재 제조업 | P31: 지자체 | Q31: - | R31: - | S31: - | T31: 39444 | U31: 2023-01-00 | V31: 23총량제외(사업장폐쇄) | X31: o | Y31: o | AA31: 23총량제외(동화기업(주)중구로 편입)
B32: 27 | C32: 538 | D32: 150033 | E32: 121-85-28165 | F32: 씨제이제일제당㈜ 인천1공장 | G32: 수도권 | H32: 인천광역시 | I32: 중구 | J32: 수도권대기환경청 | K32: 22332) 인천광역시 중구 아암대로 20 (신흥동3가) (지번: 신흥동3가 7-121) | L32: 1종 | M32: 대기업 | N32: 기타 | O32: 설탕 제조업 | P32: 지자체 | Q32: - | R32: - | S32: - | T32: 39444 | U32: 2023-01-00 | Y32: o | AB32: O
B33: 28 | C33: 539 | D33: 150034 | E33: 121-81-07309 | F33: 대한제당 | G33: 수도권 | H33: 인천광역시 | I33: 중구 | J33: 수도권대기환경청 | K33: 22300) 인천광역시 중구 월미로 116 (북성동1가) | L33: 1종 | M33: 중견기업 | N33: 기타 | O33: 설탕 제조업 | P33: 지자체 | Q33: - | R33: - | S33: - | T33: 39444 | U33: 2023-01-00 | Y33: o | AB33: O
B34: 29 | C34: 540 | D34: 150035 | E34: 121-81-10385 | F34: 현대제철㈜ 인천공장 | G34: 수도권 | H34: 인천광역시 | I34: 동구 | J34: 수도권대기환경청 | K34: 22525) 인천광역시 동구 중봉대로 63 (송현동) | L34: 1종 | M34: 대기업 | N34: 1차금속제조업(철강) | O34: 기타 1차 비철금속 제조업 | P34: 환경부 | Q34: 통합허가 | R34: 44365 | S34: 2021-60호 | T34: 39444 | U34: 45266 | Y34: o | AB34: O | AC34: O
B35: 30 | C35: 541 | D35: 150036 | E35: 492-85-02432 | F35: 동국제강㈜ 인천공장 | G35: 수도권 | H35: 인천광역시 | I35: 동구 | J35: 수도권대기환경청 | K35: 22524) 인천광역시 동구 중봉대로 15 (송현동) (구주소 : 동구 송현동 1) | L35: 1종 | M35: 중견기업 | N35: 1차금속제조업(철강) | O35: 열간 압연 및 압출제품 제조업 | P35: 환경부 | Q35: 통합허가 | R35: 44293 | S35: 2021-44호 | T35: 39444 | U35: 45154 | V35: 상호변경(동국제강㈜ → 동국제강㈜ 인천공장) | Y35: o | AB35: O | AC35: O
B36: 31 | C36: 542 | D36: 150041 | E36: 202-81-62692 | F36: 인그리디언코리아(유) 부평공장 | G36: 수도권 | H36: 인천광역시 | I36: 부평구 | J36: 수도권대기환경청 | K36: 21448) 인천광역시 부평구 백범로 584 (십정동) 인그리디언코리아 부평공장 | L36: 1종 | M36: 대기업 | N36: 기타 | O36: 전분제품 및 당류 제조업 | P36: 지자체 | Q36: - | R36: - | S36: - | T36: 39383 | U36: 2023-01-00 | Y36: o | AB36: O | AC36: O | AD36: O
B37: 32 | C37: 543 | D37: 150043 | E37: 137-86-33904 | F37: SK인천석유화학㈜ | G37: 수도권 | H37: 인천광역시 | I37: 서구 | J37: 수도권대기환경청 | K37: 22771) 인천광역시 서구 봉수대로 415 (원창동) | L37: 1종 | M37: 대기업 | N37: 화학물질제조업(석유정제) | O37: 원유 정제처리업 | P37: 환경부 | Q37: 통합허가 | R37: 44900 | S37: 2023-79호 | T37: 39444 | U37: 45133 | Y37: o | AB37: O | AC37: O | AD37: O
B38: 33 | C38: 544 | D38: 150044 | E38: 137-81-09582 | F38: ㈜케이비아이텍 | G38: 수도권 | H38: 인천광역시 | I38: 서구 | J38: 수도권대기환경청 | K38: 22774) 인천광역시 서구 건지로153번길 54 (석남동) (구주소 : 서구 석남동 223-21 ) | L38: 1종 | M38: 중소기업 | N38: 폐기물처리업 | O38: 지정 폐기물 처리업 | P38: 환경부 | Q38: 통합허가 | R38: 43957 | S38: 2022-122호 | T38: 39444 | U38: 44922 | Y38: o | AB38: O | AD38: O
B39: 34 | C39: 545 | D39: 150045 | E39: 104-81-58195 | F39: ㈜포스코인터내셔널 | G39: 수도권 | H39: 인천광역시 | I39: 서구 | J39: 수도권대기환경청 | K39: 22852) 인천광역시 서구 중봉대로405번길 314 (원창동) | L39: 1종 | M39: 대기업 | N39: 전기가스증기업(발전_기력_복합) | O39: 화력 발전업 | P39: 환경부 | Q39: 통합허가 | R39: 43781 | S39: 2022-145호 | T39: 39444 | U39: 45260 | V39: 사업장명 변경(포스코에너지㈜ → ㈜포스코인터내셔널), 23년 Sox 총량제외(배출량 4톤 미만) | Y39: o | AB39: O | AC39: O
B40: 35 | C40: 546 | D40: 150047 | E40: 137-85-10020 | F40: 한국중부발전㈜ 인천발전본부 | G40: 수도권 | H40: 인천광역시 | I40: 서구 | J40: 수도권대기환경청 | K40: 22852) 인천광역시 서구 중봉대로405번길 411 (원창동) | L40: 1종 | M40: 공공기관 | N40: 전기가스증기업(발전_기력_복합) | O40: 화력 발전업 | P40: 환경부 | Q40: 통합허가 | R40: 43731 | S40: 2021-36호 | T40: 39444 | U40: 44922 | Y40: o | AB40: O
B41: 36 | C41: 547 | D41: 150048 | E41: 137-85-10054 | F41: 한국남부발전(주)신인천빛드림본부 | G41: 수도권 | H41: 인천광역시 | I41: 서구 | J41: 수도권대기환경청 | K41: 22755) 인천광역시 서구 장도로 57 (경서동) | L41: 1종 | M41: 공공기관 | N41: 전기가스증기업(발전_기력_복합) | O41: 화력 발전업 | P41: 환경부 | Q41: 통합허가 | R41: 43646 | S41: 2020-131호 | T41: 39444 | U41: 45112 | V41: 사업장명 변경: 한국남부발전(주)신인천발전본부 → 한국남부발전(주)신인천빛드림본부 | Y41: o | AB41: O
B42: 37 | C42: 548 | D42: 150049 | E42: 137-85-10035 | F42: 한국서부발전㈜ 서인천발전본부 | G42: 수도권 | H42: 인천광역시 | I42: 서구 | J42: 수도권대기환경청 | K42: 22755) 인천광역시 서구 장도로 57 (경서동) | L42: 1종 | M42: 공공기관 | N42: 전기가스증기업(발전_기력_복합) | O42: 화력 발전업 | P42: 환경부 | Q42: 통합허가 | R42: 43565 | S42: 2022-44호 | T42: 39444 | U42: 44964 | Y42: o | AB42: O
B43: 38 | C43: 549 | D43: 150050 | E43: 862-85-00180 | F43: ㈜삼양사 인천1공장 | G43: 수도권 | H43: 인천광역시 | I43: 서구 | J43: 수도권대기환경청 | K43: 22826) 인천광역시 서구 백범로 726 (가좌동) | L43: 1종 | M43: 중견기업 | N43: 기타 | O43: 전분제품 및 당류 제조업 | P43: 지자체 | Q43: - | R43: - | S43: - | T43: 39444 | U43: 44945 | Y43: o | AB43: O | AC43: O | AD43: O
B44: 39 | C44: 550 | D44: 150052 | E44: 109-81-50510 | F44: 인천공항에너지㈜ | G44: 수도권 | H44: 인천광역시 | I44: 중구 | J44: 수도권대기환경청 | K44: 22379) 인천광역시 중구 영종해안북로1050번길 78-43 (운서동) | L44: 1종 | M44: 중견기업 | N44: 전기가스증기업(기타발전_난방) | O44: 화력 발전업 | P44: 환경부 | Q44: 통합허가 | R44: 44141 | S44: 2022-143호 | T44: 39444 | U44: 45014 | Y44: o | AB44: O
B45: 40 | C45: 551 | D45: 150053 | E45: 137-82-05981 | F45: 인천환경공단 청라사업소 | G45: 수도권 | H45: 인천광역시 | I45: 서구 | J45: 수도권대기환경청 | K45: 22756) 인천광역시 서구 로봇랜드로249번길 38 (경서동) | L45: 1종 | M45: 공공기관 | N45: 폐기물처리업 | O45: 지정 외 폐기물 수집, 운반업 | P45: 환경부 | Q45: 통합허가 | R45: 43825 | S45: 2022-144호 | T45: 39444 | U45: 44922 | Y45: o | AB45: O | AD45: O
B46: 41 | C46: 552 | D46: 150054 | E46: 121-81-29114 | F46: 인천국제공항공사 | G46: 수도권 | H46: 인천광역시 | I46: 중구 | J46: 수도권대기환경청 | K46: 22379) 인천광역시 중구 영종해안북로1050번길 78-13 (운서동) (운서동) 1824-3 | L46: 1종 | M46: 공공기관 | N46: 폐기물처리업 | O46: 지정 외 폐기물 처리업 | P46: 환경부 | Q46: 통합허가 | R46: 44516 | S46: 2022-10호 | T46: 43118 | U46: 44922 | Y46: o | AD46: O
B47: 42 | C47: 553 | D47: 150055 | E47: 132-83-00047 | F47: 구리자원회수시설 | G47: 수도권 | H47: 경기도 | I47: 구리시 | J47: 한강유역환경청 | K47: 11960) 경기도 구리시 왕숙천로 49 (토평동) 구리자원회수시설 | L47: 1종 | M47: 공공기관 | N47: 폐기물처리업 | O47: 지정 외 폐기물 처리업 | P47: 환경부 | Q47: 통합허가 | R47: 43646 | S47: 2022-150호 | T47: 40184 | U47: 44922 | Y47: o | AB47: O | AD47: O
B48: 43 | C48: 554 | D48: 150057 | E48: 124-81-00998 | F48: 삼성전자㈜수원사업장 | G48: 수도권 | H48: 경기도 | I48: 수원시 | J48: 수도권대기환경청 | K48: 16677) 경기도 수원시 영통구 삼성로 129 (매탄동) (매탄동) 삼성전자㈜환경안전센터 | L48: 1종 | M48: 대기업 | N48: 기타 | O48: 방송장비 제조업 | P48: 지자체 | Q48: - | R48: - | S48: - | T48: 39449 | U48: 45251 | V48: 23 먼지제외(2톤미만) | Y48: o | AA48: 23 먼지제외(2톤미만) | AB48: O
B49: 44 | C49: 555 | D49: 150058 | E49: 124-83-01609 | F49: 수원시자원회수시설 | G49: 수도권 | H49: 경기도 | I49: 수원시 | J49: 수도권대기환경청 | K49: 16706) 경기도 수원시 영통구 영통로 383 (영통동) 수원시자원회수시설 | L49: 1종 | M49: 공공기관 | N49: 폐기물처리업 | O49: 지정 외 폐기물 처리업 | P49: 환경부 | Q49: 통합허가 | R49: 43825 | S49: 2022-161호 | T49: 39528 | U49: 44922 | Y49: o | AB49: O | AD49: O
B50: 45 | C50: 556 | D50: 150059 | E50: 124-82-07611 | F50: 한국지역난방공사 수원지사 영통열원 | G50: 수도권 | H50: 경기도 | I50: 수원시 | J50: 수도권대기환경청 | K50: 16703) 경기도 수원시 영통구 매영로 293 (영통동) | L50: 1종 | M50: 공공기관 | N50: 전기가스증기업(기타발전_난방) | O50: 기타 발전업 | P50: 환경부 | Q50: 통합허가 | R50: 43921 | S50: 2022-168호 | T50: 39449 | U50: 44979 | Y50: o | AB50: O | AC50: O | AD50: O
B51: 46 | C51: 557 | D51: 150061 | E51: 129-83-00153 | F51: 성남시청(성남시환경에너지시설) | G51: 수도권 | H51: 경기도 | I51: 성남시 | J51: 한강유역환경청 | K51: 13214) 경기도 성남시 중원구 둔촌대로 567 (상대원동) 성남시환경에너지시설 | L51: 1종 | M51: 공공기관 | N51: 폐기물처리업 | O51: 지정 외 폐기물 처리업 | P51: 환경부 | Q51: 통합허가 | R51: 44137 | S51: 2022-159호 | T51: 40014 | U51: 44922 | Y51: o | AB51: O | AD51: O
B52: 47 | C52: 558 | D52: 150063 | E52: 123-81-57770 | F52: GS파워㈜안양열병합발전처 | G52: 수도권 | H52: 경기도 | I52: 안양시 | J52: 수도권대기환경청 | K52: 14065) 경기도 안양시 동안구 부림로 100 (평촌동) 평촌동 | L52: 1종 | M52: 대기업 | N52: 전기가스증기업(기타발전_난방) | O52: 기타 발전업 | P52: 환경부 | Q52: 통합허가 | R52: 44015 | S52: 2020-91호 | T52: 39449 | U52: 45035 | Y52: o | AB52: O
B53: 48 | C53: 559 | D53: 150064 | E53: 129-85-22923 | F53: 한국남동발전㈜분당발전본부 | G53: 수도권 | H53: 경기도 | I53: 성남시 | J53: 한강유역환경청 | K53: 13585) 경기도 성남시 분당구 분당로 336 (분당동) | L53: 1종 | M53: 공공기관 | N53: 전기가스증기업(발전_기력_복합) | O53: 화력 발전업 | P53: 환경부 | Q53: 통합허가 | R53: 43735 | S53: 2020-2호 | T53: 39449 | U53: 44922 | Y53: o | AB53: O
B54: 49 | C54: 560 | D54: 150065 | E54: 138-85-05985 | F54: 안양시자원회수시설 | G54: 수도권 | H54: 경기도 | I54: 안양시 | J54: 수도권대기환경청 | K54: 14065) 경기도 안양시 동안구 시민대로 328 (평촌동) 평촌동 | L54: 1종 | M54: 공공기관 | N54: 폐기물처리업 | O54: 지정 외 폐기물 수집, 운반업 | P54: 환경부 | Q54: 통합허가 | R54: 43921 | S54: 2022-13호 | T54: 40186 | U54: 44922 | Y54: o | AB54: O | AD54: O
B55: 50 | C55: 561 | D55: 150066 | E55: 138-85-00239 | F55: 효성㈜ | G55: 수도권 | H55: 경기도 | I55: 안양시 | J55: 수도권대기환경청 | K55: 14080) 경기도 안양시 동안구 시민대로 74 (호계동) | L55: 2종 | M55: 대기업 | N55: 기타 | O55: 그 외 기타 분류 안된 섬유제품 제조업 | P55: 지자체 | Q55: - | R55: - | S55: - | T55: 40536 | U55: 45092 | Y55: o | AB55: O
B56: 51 | C56: 562 | D56: 150067 | E56: 123-81-57770 | F56: GS파워㈜부천열병합발전처 | G56: 수도권 | H56: 경기도 | I56: 부천시 | J56: 수도권대기환경청 | K56: 14449) 경기도 부천시 삼작로 21 (삼정동) (삼정동) | L56: 1종 | M56: 대기업 | N56: 전기가스증기업(기타발전_난방) | O56: 화력 발전업 | P56: 환경부 | Q56: 통합허가 | R56: 44015 | S56: 2020-90호 | T56: 39454 | U56: 44922 | Y56: o | AB56: O
B57: 52 | C57: 563 | D57: 150069 | E57: 130-83-00018 | F57: 부천시자원순환센터 | G57: 수도권 | H57: 경기도 | I57: 부천시 | J57: 수도권대기환경청 | K57: 14400) 경기도 부천시 벌말로 122 (대장동) | L57: 1종 | M57: 공공기관 | N57: 폐기물처리업 | O57: 지정 외 폐기물 처리업 | P57: 환경부 | Q57: 통합허가 | R57: 43958 | S57: 2020-93호 | T57: 39745 | U57: 44922 | Y57: o | AB57: O | AD57: O
B58: 53 | C58: 564 | D58: 150070 | E58: 133-83-00244 | F58: 광명시자원회수시설 | G58: 수도권 | H58: 경기도 | I58: 광명시 | J58: 수도권대기환경청 | K58: 14341) 경기도 광명시 가학로85번길 142 (가학동) (가학동) | L58: 1종 | M58: 공공기관 | N58: 폐기물처리업 | O58: 지정 외 폐기물 처리업 | P58: 환경부 | Q58: 통합허가 | R58: 43886 | S58: 2022-149호 | T58: 39916 | U58: 44922 | Y58: o | AB58: O | AD58: O
B59: 54 | C59: 565 | D59: 150072 | E59: 128-86-59424 | F59: 고양시환경에너지시설 | G59: 수도권 | H59: 경기도 | I59: 고양시 | J59: 한강유역환경청 | K59: 10443) 경기도 고양시 일산동구 경의로 115 (백석동) | L59: 1종 | M59: 공공기관 | N59: 폐기물처리업 | O59: 지정 외 폐기물 처리업 | P59: 환경부 | Q59: 통합허가 | R59: 44137 | S59: 2022-147호 | T59: 40143 | U59: 44922 | Y59: o | AB59: O | AD59: O
B60: 55 | C60: 566 | D60: 150073 | E60: 128-85-22615 | F60: 한국동서발전㈜일산발전본부 | G60: 수도권 | H60: 경기도 | I60: 고양시 | J60: 한강유역환경청 | K60: 10443) 경기도 고양시 일산동구 경의로 201 (백석동) | L60: 1종 | M60: 공공기관 | N60: 전기가스증기업(발전_기력_복합) | O60: 화력 발전업 | P60: 환경부 | Q60: 통합허가 | R60: 43565 | S60: 2020-94호 | T60: 39457 | U60: 44922 | Y60: o | AB60: O
B61: 56 | C61: 567 | D61: 150074 | E61: 134-81-27219 | F61: 안산도시개발㈜ | G61: 수도권 | H61: 경기도 | I61: 안산시 | J61: 수도권대기환경청 | K61: 15615) 경기도 안산시 단원구 첨단로 670 (초지동) (초지동) | L61: 1종 | M61: 중견기업 | N61: 전기가스증기업(기타발전_난방) | O61: 증기, 냉ㆍ온수 및 공기 조절 공급업 | P61: 환경부 | Q61: 통합허가 | R61: 43921 | S61: 2023-56호 | T61: 39449 | U61: 45035 | V61: 22 총량제외 | AA61: 총량제외(4톤미만)(2023.01.01.)(재편입) | AB61: O
B62: 57 | C62: 568 | D62: 150075 | E62: 134-83-00039 | F62: 안산시자원회수시설 | G62: 수도권 | H62: 경기도 | I62: 안산시 | J62: 수도권대기환경청 | K62: 15615) 경기도 안산시 단원구 첨단로 726 (초지동) 안산시자원회수시설 | L62: 1종 | M62: 공공기관 | N62: 폐기물처리업 | O62: 지정 외 폐기물 처리업 | P62: 환경부 | Q62: 통합허가 | R62: 43921 | S62: 2022-164호 | T62: 40227 | U62: 44922 | Y62: o | AB62: O | AD62: O
B63: 58 | C63: 569 | D63: 150076 | E63: 138-83-00797 | F63: ML | G63: 수도권 | H63: 경기도 | I63: 과천시 | J63: 수도권대기환경청 | K63: 13824) 경기도 과천시 구리안로 177 (갈현동) (갈현동) | L63: 1종 | M63: 공공기관 | N63: 폐기물처리업 | O63: 지정 외 폐기물 처리업 | P63: 환경부 | Q63: 통합허가 | R63: 44078 | S63: 2022-148호 | T63: 40795 | U63: 44922 | V63: 23 먼지제외(0.2톤미만) | Y63: o | AA63: 23 먼지제외(0.2톤미만) | AB63: O
B64: 59 | C64: 570 | D64: 150078 | E64: 123-83-02546 | F64: 군포환경관리소 | G64: 수도권 | H64: 경기도 | I64: 군포시 | J64: 수도권대기환경청 | K64: 15868) 경기도 군포시 초막골길 101-58 (산본동) (산본동 962-1) | L64: 1종 | M64: 공공기관 | N64: 폐기물처리업 | O64: 지정 외 폐기물 처리업 | P64: 환경부 | Q64: 통합허가 | R64: 43893 | S64: 2022-151호 | T64: 40186 | U64: 44922 | Y64: o | AB64: O | AD64: O
B65: 60 | C65: 571 | D65: 150080 | E65: 127-83-00026 | F65: 의정부시생활폐기물소각시설 | G65: 수도권 | H65: 경기도 | I65: 의정부시 | J65: 한강유역환경청 | K65: 11717) 경기도 의정부시 장곡로 147 (장암동) | L65: 1종 | M65: 공공기관 | N65: 폐기물처리업 | O65: 지정 외 폐기물 처리업 | P65: 환경부 | Q65: 통합허가 | R65: 43893 | S65: 2021-72호 | T65: 40178 | U65: 44922 | Y65: o | AB65: O | AD65: O
B66: 61 | C66: 572 | D66: 150101 | E66: 752-82-00349 | F66: 서울물재생시설공단 | G66: 수도권 | H66: 서울특별시 | I66: 강서구 | J66: 수도권대기환경청 | K66: 07520) 서울특별시 강서구 양천로 201 (마곡동) | L66: 1종 | M66: 공공기관 | N66: 폐기물처리업 | O66: 하수 처리업 | P66: 환경부 | Q66: 공동설치 | R66: - | S66: 2020-92호 | T66: 37644 | U66: 45093 | V66: 사업장명 변경(서울특별시 서남물재생센터 → 서울물재생시설공단), 사업자등록번호 변경(104-83-00469 → 752-82-00349) | Y66: o | AB66: O | AD66: O
B67: 62 | C67: 573 | D67: 150102 | E67: 121-85-16465 | F67: 한국남동발전㈜ 영흥발전본부 | G67: 수도권 | H67: 인천광역시 | I67: 옹진군 | J67: 수도권대기환경청 | K67: 23120) 인천광역시 옹진군 영흥면 영흥남로293번길 75 | L67: 1종 | M67: 공공기관 | N67: 전기가스증기업(발전_기력_복합) | O67: 화력 발전업 | P67: 환경부 | Q67: 통합허가 | R67: 43880 | S67: 2021-33호 | T67: 39444 | U67: 44922 | Y67: o | AB67: O | AC67: O | AD67: O
B68: 63 | C68: 574 | D68: 150103 | E68: 204-81-12790 | F68: ㈜수석 | G68: 수도권 | H68: 경기도 | I68: 안양시 | J68: 수도권대기환경청 | K68: 13977) 경기도 안양시 만안구 박달로 313 (박달동) | L68: 1종 | M68: 대기업 | N68: 비금속광물제조업(유리) | O68: 포장용 유리용기 제조업 | P68: 지자체 | Q68: - | R68: - | S68: - | T68: 40925 | U68: 44945 | Y68: o | AB68: O | AC68: O
B69: 64 | C69: 575 | D69: 150104 | E69: 369-85-01171 | F69: ㈜케이씨씨글라스 여주공장 | G69: 수도권 | H69: 경기도 | I69: 여주시 | J69: 수도권대기환경청 | K69: 12646) 경기도 여주시 가남읍 여주남로 541 | L69: 1종 | M69: 대기업 | N69: 비금속광물제조업(유리) | O69: 판유리 제조업 | P69: 지자체 | Q69: - | R69: - | S69: - | T69: 42510 | U69: 45229 | Y69: o | AB69: O | AC69: O
B70: 65 | C70: 576 | D70: 150105 | E70: 128-83-01784 | F70: 서울특별시 난지물재생센터 | G70: 수도권 | H70: 경기도 | I70: 고양시 | J70: 수도권대기환경청 | K70: 10542) 경기도 고양시 덕양구 대덕로 426 (현천동) | L70: 1종 | M70: 공공기관 | N70: 폐기물처리업 | O70: 하수 처리업 | P70: 환경부 | Q70: 공동설치 | S70: 2020-6호 | T70: 40178 | U70: 45012 | Y70: o | AB70: O
B71: 66 | C71: 577 | D71: 150106 | E71: 128-83-00937 | F71: 파주시환경관리센터 | G71: 수도권 | H71: 경기도 | I71: 파주시 | J71: 수도권대기환경청 | K71: 10857) 경기도 파주시 탄현면 방촌로 1213-52 | L71: 1종 | M71: 공공기관 | N71: 폐기물처리업 | O71: 지정 외 폐기물 처리업 | P71: 지자체 | Q71: - | R71: - | S71: - | T71: 40178 | U71: 44942 | Y71: o | AB71: O | AD71: O
B72: 67 | C72: 578 | D72: 150107 | E72: 125-85-04073 | F72: 홍원제지㈜ | G72: 수도권 | H72: 경기도 | I72: 평택시 | J72: 수도권대기환경청 | K72: 17714) 경기도 평택시 진위면 진위서로 23 (진위면) | L72: 1종 | M72: 중소기업 | N72: 종이제품제조업 | O72: 인쇄용 및 필기용 원지 제조업 | P72: 지자체 | Q72: 통합허가 | R72: 45279 | S72: - | T72: 39708 | U72: 44942 | Y72: o | AB72: O | AC72: O | AD72: O
B73: 68 | C73: 579 | D73: 150108 | E73: 125-81-00424 | F73: 영풍제지㈜ | G73: 수도권 | H73: 경기도 | I73: 평택시 | J73: 수도권대기환경청 | K73: 17706) 경기도 평택시 진위면 서탄로 9 평택시 진위면 | L73: 1종 | M73: 중소기업 | N73: 종이제품제조업 | O73: 기타 종이 및 판지 제조업 | P73: 지자체 | Q73: 통합허가 | R73: 45288 | S73: - | T73: 39594 | U73: 44942 | Y73: o | AB73: O | AD73: O
B74: 69 | C74: - | D74: 150109 | E74: 125-81-05545 | F74: 신풍제지㈜ | G74: 수도권 | H74: 경기도 | I74: 평택시 | J74: 수도권대기환경청 | K74: 17770) 경기도 평택시 고덕면 고덕로 144-32 | L74: 1종 | M74: 중소기업 | N74: 종이제품제조업 | O74: 기타 종이 및 판지 제조업 | P74: 지자체 | Q74: - | R74: - | S74: - | U74: 0 | V74: 20 총량제외 | X74: o | AA74: 총량제외(사업장 폐쇄)(2020.02.)
B75: 70 | C75: 580 | D75: 150110 | E75: 125-85-15454 | F75: 한국서부발전㈜평택발전본부 | G75: 수도권 | H75: 경기도 | I75: 평택시 | J75: 수도권대기환경청 | K75: 17949) 경기도 평택시 포승읍 남양만로 175-2 (포승읍) | L75: 1종 | M75: 공공기관 | N75: 전기가스증기업(발전_기력_복합) | O75: 화력 발전업 | P75: 환경부 | Q75: 통합허가 | R75: 43826 | S75: 2021-45호 | T75: 39447 | U75: 44922 | V75: 21 SOx, TSP 제외 | Y75: o | AB75: O
B76: 71 | C76: 581 | D76: 150115 | E76: 124-85-01151 | F76: 한국수출포장공업㈜ | G76: 수도권 | H76: 경기도 | I76: 오산시 | J76: 수도권대기환경청 | K76: 18126) 경기도 오산시 황새로149번길 11 (누읍동) (누읍동) | L76: 1종 | M76: 중견기업 | N76: 종이제품제조업 | O76: 골판지 제조업 | P76: 지자체 | Q76: 통합허가 | R76: 45261 | S76: - | T76: 39449 | U76: 44942 | Y76: o | AB76: O | AD76: O
B77: 72 | C77: 582 | D77: 150117 | E77: 126-81-09409 | F77: ㈜금비 | G77: 수도권 | H77: 경기도 | I77: 이천시 | J77: 수도권대기환경청 | K77: 17323) 경기도 이천시 부발읍 중부대로1707번길 13 | L77: 1종 | M77: 대기업 | N77: 비금속광물제조업(유리) | O77: 포장용 유리용기 제조업 | P77: 지자체 | Q77: - | R77: - | S77: - | T77: 39708 | U77: 44330 | V77: 2023년 재할당 전년총량 반영(20230223) | Y77: o | AB77: O | AC77: O
B78: 73 | C78: 583 | D78: 150121 | E78: 134-81-14413 | F78: 동화지앤피㈜ | G78: 수도권 | H78: 경기도 | I78: 안산시 | J78: 수도권대기환경청 | K78: 15619) 경기도 안산시 단원구 지원로 53 (성곡동) 시화공단 5바 401호 | L78: 1종 | M78: 중소기업 | N78: 비금속광물제조업(유리) | O78: 포장용 유리용기 제조업 | P78: 지자체 | Q78: - | R78: - | S78: - | T78: 40178 | U78: 43845 | Y78: o | AB78: O | AC78: O
B79: 74 | C79: 584 | D79: 150122 | E79: 134-83-00591 | F79: 안산시상하수도사업소 | G79: 수도권 | H79: 경기도 | I79: 안산시 | J79: 수도권대기환경청 | K79: 15607) 경기도 안산시 단원구 해봉로 13 (성곡동) (성곡동 621) | L79: 1종 | M79: 공공기관 | N79: 폐기물처리업 | O79: 지정 외 폐기물 처리업 | P79: 지자체 | Q79: 통합허가 | R79: 45279 | S79: - | T79: 40178 | U79: 45152 | Y79: o | AB79: O
B80: 75 | C80: 585 | D80: 150123 | E80: 134-81-78057 | F80: 비노텍㈜ | G80: 수도권 | H80: 경기도 | I80: 안산시 | J80: 수도권대기환경청 | K80: 15612) 경기도 안산시 단원구 해안로 308 (원시동) | L80: 1종 | M80: 중소기업 | N80: 폐기물처리업 | O80: 지정 외 폐기물 처리업 | P80: 환경부 | Q80: 통합허가 | R80: 43798 | S80: 2022-5호 | T80: 39447 | U80: 44922 | Y80: o | AB80: O | AD80: O
B81: 76 | C81: 586 | D81: 150125 | E81: 134-85-47789 | F81: 씨제이제일제당㈜ 안산공장 | G81: 수도권 | H81: 경기도 | I81: 안산시 | J81: 수도권대기환경청 | K81: 15528) 경기도 안산시 상록구 용담로 141 (팔곡이동) | L81: 1종 | M81: 대기업 | N81: 기타 | O81: 전분제품 및 당류 제조업 | P81: 지자체 | Q81: - | R81: - | S81: - | T81: 39447 | U81: 44943 | Y81: o | AB81: O
B82: 77 | C82: 587 | D82: 150127 | E82: 135-82-09749 | F82: 한국지역난방공사 용인지사 | G82: 수도권 | H82: 경기도 | I82: 용인시 | J82: 한강유역환경청 | K82: 16842) 경기도 용인시 수지구 만현로 11 (풍덕천동) 한국지역난방공사 용인지사 | L82: 1종 | M82: 공공기관 | N82: 전기가스증기업(기타발전_난방) | O82: 증기, 냉ㆍ온수 및 공기 조절 공급업 | P82: 환경부 | Q82: 통합허가 | R82: 43945 | S82: 2020-14호 | T82: 39449 | U82: 44922 | V82: 23 SOx제외(4톤미만) | Y82: o | AA82: 재할당 SOX 총량제외 | AB82: O
B83: 78 | C83: 588 | D83: 150131 | E83: 104-83-00469 | F83: 마포자원회수시설 | G83: 수도권 | H83: 서울특별시 | I83: 마포구 | J83: 수도권대기환경청 | K83: 03900) 서울특별시 마포구 하늘공원로 86 (상암동) | L83: 1종 | M83: 공공기관 | N83: 폐기물처리업 | O83: 지정 외 폐기물 처리업 | P83: 환경부 | Q83: 통합허가 | R83: 44015 | S83: 2021-6호 | T83: 40186 | U83: 44922 | Y83: o | AB83: O | AD83: O
B84: 79 | C84: 589 | D84: 150132 | E84: 107-87-97864 | F84: ㈜에이티에너지 | G84: 수도권 | H84: 인천광역시 | I84: 서구 | J84: 수도권대기환경청 | K84: 22771) 인천광역시 서구 중봉대로386번길 9 (원창동) | L84: 1종 | M84: 중소기업 | N84: 폐기물처리업 | O84: 지정 외 폐기물 처리업 | P84: 환경부 | Q84: 통합허가 | R84: 44015 | S84: 2021-64호 | T84: 39444 | U84: 44922 | V84: 23 먼지제외(0.2톤미만) | Y84: o | AA84: 23 먼지제외(0.2톤미만) | AB84: O
B85: 80 | C85: 590 | D85: 150133 | E85: 139-81-36746 | F85: ㈜이알지서비스 | G85: 수도권 | H85: 인천광역시 | I85: 남동구 | J85: 수도권대기환경청 | K85: 21630) 인천광역시 남동구 남동서로316번길 41 (남촌동) | L85: 1종 | M85: 중소기업 | N85: 폐기물처리업 | O85: 지정 폐기물 처리업 | P85: 환경부 | Q85: 통합허가 | R85: 43957 | S85: 2022-142호 | T85: 40184 | U85: 44922 | Y85: o | AB85: O | AD85: O
B86: 81 | C86: 591 | D86: 150135 | E86: 125-83-00321 | F86: 안성시자원회수시설 | G86: 수도권 | H86: 경기도 | I86: 안성시 | J86: 한강유역환경청 | K86: 17508) 경기도 안성시 보개면 보개산로 147-163 | L86: 1종 | M86: 공공기관 | N86: 폐기물처리업 | O86: 지정 외 폐기물 처리업 | P86: 환경부 | Q86: 통합허가 | R86: 43924 | S86: 2021-7호 | T86: 42510 | U86: 44222 | Y86: o | AB86: O
B87: 82 | C87: 592 | D87: 150136 | E87: 213-86-14351 | F87: ㈜뉴그린 | G87: 수도권 | H87: 경기도 | I87: 평택시 | J87: 수도권대기환경청 | K87: 17957) 경기도 평택시 포승읍 포승공단순환로 602 (포승읍) | L87: 1종 | M87: 중소기업 | N87: 폐기물처리업 | O87: 지정 외 폐기물 처리업 | P87: 환경부 | Q87: 통합허가 | R87: 43745 | S87: 2022-152호 | T87: 39447 | U87: 44922 | Y87: o | AB87: O | AD87: O
B88: 83 | C88: 593 | D88: 150137 | E88: 135-81-31002 | F88: ㈜한국의료환경(구.㈜스테리싸이클코리아) | G88: 수도권 | H88: 경기도 | I88: 용인시 | J88: 한강유역환경청 | K88: 17124) 경기도 용인시 처인구 남사면 천덕산로428번길 22 | L88: 1종 | M88: 대기업 | N88: 폐기물처리업 | O88: 지정 폐기물 처리업 | P88: 환경부 | Q88: 통합허가 | R88: 44183 | S88: 2022-112호 | T88: 40186 | U88: 45260 | V88: 상호변경(㈜스테리싸이클코리아 → ㈜한국의료환경) | Y88: o | AB88: O | AD88: O
B89: 84 | C89: 594 | D89: 150138 | E89: 135-83-00482 | F89: 용인시환경센터 | G89: 수도권 | H89: 경기도 | I89: 용인시 | J89: 수도권대기환경청 | K89: 17030) 경기도 용인시 처인구 포곡읍 금어로 355 | L89: 1종 | M89: 공공기관 | N89: 폐기물처리업 | O89: 지정 외 폐기물 처리업 | P89: 지자체 | Q89: - | R89: - | S89: - | T89: 40186 | U89: 43847 | Y89: o | AB89: O | AD89: O
B90: 85 | C90: 595 | D90: 150139 | E90: 135-83-00482 | F90: 수지환경센터 | G90: 수도권 | H90: 경기도 | I90: 용인시 | J90: 한강유역환경청 | K90: 16842) 경기도 용인시 수지구 만현로 15 (풍덕천동) (풍덕천동) | L90: 1종 | M90: 공공기관 | N90: 폐기물처리업 | O90: 지정 외 폐기물 처리업 | P90: 환경부 | Q90: 통합허가 | R90: 43921 | S90: 2022-162호 | T90: 40186 | U90: 44922 | V90: 23 먼지제외(2톤미만) | Y90: o | AA90: 23 먼지제외(2톤미만) | AB90: O
B91: 86 | C91: 596 | D91: 150141 | E91: 126-81-72542 | F91: 경기환경에너지 주식회사 | G91: 수도권 | H91: 경기도 | I91: 광주시 | J91: 한강유역환경청 | K91: 12717) 경기도 광주시 곤지암읍 열미길 22 | L91: 1종 | M91: 대기업 | N91: 폐기물처리업 | O91: 지정 외 폐기물 처리업 | P91: 환경부 | Q91: 통합허가 | R91: 43915 | S91: 2021-2호 | T91: 42510 | U91: 44922 | Y91: o | AB91: O | AD91: O
B92: 87 | C92: 597 | D92: 150143 | E92: 124-81-32409 | F92: ㈜대림제지 | G92: 수도권 | H92: 경기도 | I92: 오산시 | J92: 수도권대기환경청 | K92: 18126) 경기도 오산시 황새로 169 (누읍동) (누읍동) | L92: 1종 | M92: 중소기업 | N92: 종이제품제조업 | O92: 펄프 제조업 | P92: 지자체 | Q92: 통합허가 | R92: 45274 | S92: - | T92: 39449 | U92: 45077 | Y92: o | AB92: O | AD92: O
B93: 88 | C93: 598 | D93: 150147 | E93: 136-81-22490 | F93: 신대한정유산업㈜ | G93: 수도권 | H93: 경기도 | I93: 화성시 | J93: 수도권대기환경청 | K93: 18512) 경기도 화성시 정남면 가장로 334-10 (정남면) | L93: 1종 | M93: 중소기업 | N93: 폐기물처리업 | O93: 지정 폐기물 처리업 | P93: 환경부 | Q93: 통합허가 | R93: 44179 | S93: 2022-54호 | T93: 39471 | U93: 44970 | Y93: o | AB93: O | AD93: O
B94: 89 | C94: 599 | D94: 150152 | E94: 131-82-13464 | F94: 송도자원환경센터 | G94: 수도권 | H94: 인천광역시 | I94: 연수구 | J94: 수도권대기환경청 | K94: 21992) 인천광역시 연수구 인천신항대로892번길 50 (송도동) | L94: 1종 | M94: 공공기관 | N94: 폐기물처리업 | O94: 지정 외 폐기물 수집, 운반업 | P94: 환경부 | Q94: 통합허가 | R94: 43825 | S94: 2021-39호 | T94: 39444 | U94: 45029 | V94: 사업장명 변경(인천환경공단 송도사업소 → 송도자원환경센터) | Y94: o | AB94: O | AD94: O
B95: 90 | C95: 600 | D95: 150157 | E95: 127-81-49495 | F95: ㈜애니테크 | G95: 수도권 | H95: 경기도 | I95: 양주시 | J95: 한강유역환경청 | K95: 11426) 경기도 양주시 남면 운하로 66-14 (구주소 : 상수리 9-2) | L95: 1종 | M95: 중소기업 | N95: 폐기물처리업 | O95: 지정 외 폐기물 처리업 | P95: 환경부 | Q95: 통합허가 | R95: 44189 | S95: 2022-165호 | T95: 40826 | U95: 44922 | Y95: o | AB95: O | AD95: O
B96: 91 | C96: 601 | D96: 150158 | E96: 127-81-24908 | F96: 청송산업개발㈜ | G96: 수도권 | H96: 경기도 | I96: 동두천시 | J96: 수도권대기환경청 | K96: 11341) 경기도 동두천시 삼육사로652번길 60 (상패동) | L96: 1종 | M96: 중소기업 | N96: 폐기물처리업 | O96: 지정 외 폐기물 처리업 | P96: 환경부 | Q96: 통합허가 | R96: 44484 | S96: 2022-67호 | T96: 40242 | U96: 44922 | V96: 미가동 | Y96: o | AA96: 시설폐쇄이나 배출량 산정만 제외되고 허가증은 미반납(미가동사업장으로 관리) | AB96: O | AD96: O
B97: 92 | C97: 602 | D97: 150169 | E97: 111-83-00088 | F97: 은평환경플랜트 | G97: 수도권 | H97: 서울특별시 | I97: 은평구 | J97: 수도권대기환경청 | K97: 03312) 서울특별시 은평구 통일로 1053 (진관동) 은평환경플랜트 | L97: 1종 | M97: 공공기관 | N97: 폐기물처리업 | O97: 지정 외 폐기물 처리업 | P97: 환경부 | Q97: 통합허가 | R97: 44088 | S97: 2022-136호 | T97: 41009 | U97: 44922 | Y97: o | AB97: O | AD97: O
B98: 93 | C98: 603 | D98: 150170 | E98: 457-85-01162 | F98: 케이지스틸㈜ 인천공장 | G98: 수도권 | H98: 인천광역시 | I98: 서구 | J98: 수도권대기환경청 | K98: 22841) 인천광역시 서구 백범로 789 (가좌동) | L98: 1종 | M98: 중견기업 | N98: 1차금속제조업(철강) | O98: 냉간 압연 및 압출 제품 제조업 | P98: 환경부 | Q98: 통합허가 | R98: 44291 | S98: 2022-115호 | T98: 39444 | U98: 45260 | V98: 사업장명 변경(케이지동부제철㈜인천공장 → 케이지스틸㈜ 인천공장), Sox총량제외(배출량4톤미만) | Y98: o | AB98: O | AC98: O
B99: 94 | C99: 604 | D99: 150171 | E99: 131-86-30044 | F99: 위드인천에너지 주식회사 | G99: 수도권 | H99: 인천광역시 | I99: 남동구 | J99: 수도권대기환경청 | K99: 인천광역시 남동구 논현고잔로 173(고잔동) | L99: 1종 | M99: 중견기업 | N99: 전기가스증기업(기타발전_난방) | O99: 화력 발전업 | P99: 환경부 | Q99: 통합허가 | R99: 43913 | S99: 2032-96호 | T99: 40184 | U99: 45182 | V99: 상호변경(㈜미래엔인천에너지 → 위드인천에너지 주식회사) | Y99: o | AB99: O
B100: 95 | C100: 605 | D100: 150175 | E100: 127-86-06661 | F100: ㈜엔비텍코리아 | G100: 수도권 | H100: 경기도 | I100: 포천시 | J100: 한강유역환경청 | K100: 11133) 경기도 포천시 창수면 방골길 235 | L100: 1종 | M100: 대기업 | N100: 폐기물처리업 | O100: 지정 폐기물 처리업 | P100: 환경부 | Q100: 통합허가 | R100: 44188 | S100: 2023-86호 | T100: 43584 | U100: 45260 | Y100: o | AB100: O
B101: 96 | C101: 606 | D101: 150176 | E101: 127-83-00031 | F101: 양주권자원회수시설 | G101: 수도권 | H101: 경기도 | I101: 양주시 | J101: 한강유역환경청 | K101: 11426) 경기도 양주시 은현면 은남로 160 (구주소 : 경기 양주시 은현면 봉암리 39) | L101: 1종 | M101: 공공기관 | N101: 폐기물처리업 | O101: 지정 외 폐기물 처리업 | P101: 환경부 | Q101: 통합허가 | R101: 43773 | S101: 2020-116호 | T101: 40178 | U101: 44922 | Y101: o | AB101: O | AD101: O
...
