Workbook
Name INDEX: '[1](참고) 대상 사업장 정보'!$A$2:$A$1053
Name prefix: [2]배출량계산및단위환산!$G$24:$G$34
Name 시설구분: #REF!
Name 연료단위: #REF!
Name 연료목록: #REF!
Name 원료단위: #REF!
Name 인덱스: '[3](참고) 대상 사업장 정보'!$A$2:$A$1053
Name 종구분: [3]index!$E$3:$E$7

Sheet (2-a''단계) 가할당
N2: 2 | O2: 36 | P2: 37 | Q2: 38 | R2: 39 | S2: 43 | T2: 44 | U2: 45 | V2: 46 | W2: 47 | X2: 48
S3: 733317 | T3: 22177198 | U3: 23546482 | V3: 289147432 | W3: 261973716 | X3: 241259928
S4: 19751 | T4: 9383296 | U4: 8854142 | V4: 125697238 | W4: 112147467 | X4: 101171202
B5: {=SUMPRODUCT(1/COUNTIF(B8:B1758,B8:B1758))} -> 198 | N5: 22343 | R5: 18460 | S5: 0 | T5: 436172 | U5: 435592 | V5: 5271395 | W5: 4651127 | X5: 4430871
B6: 대상 | H6: 56 | O6: 가할당 배출구('23 기준) | R6: 신설 또는 폐쇄 | S6: 배출허용총량 할당
A7: 구분 | B7: 사업장ID | C7: 환경부/지자체 | D7: 권역 | E7: 지역 | F7: 시도 | G7: 사업장명 | H7: 배출구 (시스템) | I7: 총량 배출구 | J7: 오염 물질 | K7: NOx | L7: SOx | M7: TSP | N7: ID+물질+배출구 | O7: (Y/N) | P7: 가동신고 | Q7: 재산정 | R7: 대상여부 (Y/N) | S7: 2017년 | T7: 2018년 | U7: 2019년 | V7: 2020년 | W7: 2021년 | X7: 2022년
A8: 대상 < 확인필요(24년 재산정 되었는지) | B8: 150011 | C8: 환경부 | D8: 수도권 | E8: 경기도 | F8: 시흥시 | G8: 아세아제지㈜시화공장 | H8: 2 | I8: 2 | J8: NOx | N8: 150011NOx2 | O8: Y | P8: 2022년 | Q8: 2024년 | R8: Y | T8: 18019 | U8: 15676 | V8: 13333 | W8: 10990 | X8: 8646
A9: 대상 < 확인필요(24년 재산정 되었는지) | B9: 150011 | C9: 환경부 | D9: 수도권 | E9: 경기도 | F9: 시흥시 | G9: 아세아제지㈜시화공장 | H9: 2 | I9: 2 | J9: TSP | N9: 150011TSP2 | O9: Y | P9: 2022년 | Q9: 2024년 | R9: Y | T9: 1734 | U9: 1517 | V9: 1300 | W9: 1083 | X9: 866
A10: 대상 | B10: 150031 | C10: 환경부 | D10: 수도권 | E10: 인천광역시 | F10: 중구 | G10: ㈜SUN&L | H10: 136 | I10: 137 | J10: NOx | N10: 150031NOx136 | O10: Y | P10: 2023년 | Q10: 2025년 | R10: Y
A11: 대상 | B11: 150048 | C11: 환경부 | D11: 수도권 | E11: 인천광역시 | F11: 서구 | G11: 한국남부발전(주)신인천빛드림본부 | H11: 168 | I11: 22 | J11: NOx | N11: 150048NOx168 | O11: Y | P11: 2023년 | Q11: 2025년 | R11: Y
A12: 대상 < 확인필요(24년 재산정 되었는지) | B12: 170799 | C12: 지자체 | D12: 중부권 | E12: 충청남도 | F12: 서천군 | G12: 국립생태원 | H12: 2 | I12: 2 | J12: NOx | N12: 170799NOx2 | O12: Y | P12: 2022년 | Q12: 2024년 | R12: Y | X12: 33
A13: 미대상(27년 재산정) | B13: 150063 | C13: 환경부 | D13: 수도권 | E13: 경기도 | F13: 안양시 | G13: GS파워㈜안양열병합발전처 | H13: 210 | I13: 21 | J13: NOx | N13: 150063NOx210 | O13: Y | P13: 2025년 | Q13: 2027년 | R13: Y | V13: 1326 | W13: 1326 | X13: 1326
A14: 대상 | B14: 150105 | C14: 환경부 | D14: 수도권 | E14: 경기도 | F14: 고양시 | G14: 서울특별시 난지물재생센터 | H14: 10 | I14: 10 | J14: NOx | N14: 150105NOx10 | O14: Y | P14: 2021년 3월 | Q14: 2025년 | R14: Y | X14: 3
A15: 미대상(24년 배출량보고 없음) | B15: 150271 | C15: 환경부 | D15: 수도권 | E15: 경기도 | F15: 이천시 | G15: 에스케이하이닉스㈜ | H15: 265 | I15: 265 | J15: NOx | N15: 150271NOx265 | O15: Y | P15: 미가동 | Q15: 2025년 | R15: Y | X15: 12
A16: 미대상(24년 배출량보고 없음) | B16: 150271 | C16: 환경부 | D16: 수도권 | E16: 경기도 | F16: 이천시 | G16: 에스케이하이닉스㈜ | H16: 265 | I16: 265 | J16: SOx | N16: 150271SOx265 | O16: Y | P16: 미가동 | Q16: 2025년 | R16: Y | X16: 3
A17: 미대상(24년 배출량보고 없음) | B17: 150271 | C17: 환경부 | D17: 수도권 | E17: 경기도 | F17: 이천시 | G17: 에스케이하이닉스㈜ | H17: 266 | I17: 266 | J17: NOx | N17: 150271NOx266 | O17: Y | P17: 미가동 | Q17: 2025년 | R17: Y | X17: 12
A18: 미대상(24년 배출량보고 없음) | B18: 150271 | C18: 환경부 | D18: 수도권 | E18: 경기도 | F18: 이천시 | G18: 에스케이하이닉스㈜ | H18: 266 | I18: 266 | J18: SOx | N18: 150271SOx266 | O18: Y | P18: 미가동 | Q18: 2025년 | R18: Y | X18: 3
A19: 미대상(24년 배출량보고 없음) | B19: 150271 | C19: 환경부 | D19: 수도권 | E19: 경기도 | F19: 이천시 | G19: 에스케이하이닉스㈜ | H19: 267 | I19: 267 | J19: NOx | N19: 150271NOx267 | O19: Y | P19: 미가동 | Q19: 2025년 | R19: Y | X19: 12
A20: 미대상(24년 배출량보고 없음) | B20: 150271 | C20: 환경부 | D20: 수도권 | E20: 경기도 | F20: 이천시 | G20: 에스케이하이닉스㈜ | H20: 267 | I20: 267 | J20: SOx | N20: 150271SOx267 | O20: Y | P20: 미가동 | Q20: 2025년 | R20: Y | X20: 3
A21: 미대상(24년 배출량보고 없음) | B21: 150271 | C21: 환경부 | D21: 수도권 | E21: 경기도 | F21: 이천시 | G21: 에스케이하이닉스㈜ | H21: 268 | I21: 268 | J21: NOx | N21: 150271NOx268 | O21: Y | P21: 미가동 | Q21: 2025년 | R21: Y | X21: 12
A22: 미대상(24년 배출량보고 없음) | B22: 150271 | C22: 환경부 | D22: 수도권 | E22: 경기도 | F22: 이천시 | G22: 에스케이하이닉스㈜ | H22: 268 | I22: 268 | J22: SOx | N22: 150271SOx268 | O22: Y | P22: 미가동 | Q22: 2025년 | R22: Y | X22: 3
A23: 미대상(24년 배출량보고 없음) | B23: 150271 | C23: 환경부 | D23: 수도권 | E23: 경기도 | F23: 이천시 | G23: 에스케이하이닉스㈜ | H23: 269 | I23: 269 | J23: NOx | N23: 150271NOx269 | O23: Y | P23: 미가동 | Q23: 2025년 | R23: Y | X23: 12
A24: 미대상(24년 배출량보고 없음) | B24: 150271 | C24: 환경부 | D24: 수도권 | E24: 경기도 | F24: 이천시 | G24: 에스케이하이닉스㈜ | H24: 269 | I24: 269 | J24: SOx | N24: 150271SOx269 | O24: Y | P24: 미가동 | Q24: 2025년 | R24: Y | X24: 2
A25: 미대상(24년 배출량보고 없음) | B25: 150271 | C25: 환경부 | D25: 수도권 | E25: 경기도 | F25: 이천시 | G25: 에스케이하이닉스㈜ | H25: 270 | I25: 270 | J25: NOx | N25: 150271NOx270 | O25: Y | P25: 미가동 | Q25: 2025년 | R25: Y | X25: 6
... A104: 미대상(24년 배출량보고 없음) | B104: 150271 | C104: 환경부 | D104: 수도권 | E104: 경기도 | F104: 이천시 | G104: 에스케이하이닉스㈜ | H104: 338 | I104: 338 | J104: NOx | N104: 150271NOx338 | O104: Y | P104: 미가동 | Q104: 2025년 | R104: Y | X104: 1
A105: 미대상(24년 배출량보고 없음) | B105: 150271 | C105: 환경부 | D105: 수도권 | E105: 경기도 | F105: 이천시 | G105: 에스케이하이닉스㈜ | H105: 338 | I105: 338 | J105: SOx | N105: 150271SOx338 | O105: Y | P105: 미가동 | Q105: 2025년 | R105: Y
A106: 대상 | B106: 150582 | C106: 환경부 | D106: 수도권 | E106: 경기도 | F106: 김포시 | G106: 김포시 자원화센터 | H106: 7 | I106: 7 | J106: NOx | N106: 150582NOx7 | O106: Y | P106: 2023년 | Q106: 2025년 | R106: Y
A107: 대상 | B107: 150582 | C107: 환경부 | D107: 수도권 | E107: 경기도 | F107: 김포시 | G107: 김포시 자원화센터 | H107: 7 | I107: 7 | J107: TSP | N107: 150582TSP7 | O107: Y | P107: 2023년 | Q107: 2025년 | R107: Y | W107: 5831 | X107: 5831
A108: 미대상 < 확인필요(24년 재산정 되었는지) | B108: 150634 | C108: 지자체 | D108: 수도권 | E108: 인천광역시 | F108: 연수구 | G108: 삼성바이오로직스㈜ | H108: 77 | I108: 77 | J108: NOx | N108: 150634NOx77 | O108: Y | Q108: 2024년 | R108: Y | W108: 2205 | X108: 2205
A109: 미대상 < 확인필요(24년 재산정 되었는지) | B109: 150634 | C109: 지자체 | D109: 수도권 | E109: 인천광역시 | F109: 연수구 | G109: 삼성바이오로직스㈜ | H109: 78 | I109: 78 | J109: NOx | N109: 150634NOx78 | O109: Y | Q109: 2024년 | R109: Y | W109: 3674 | X109: 3674
A110: 미대상 < 확인필요(24년 재산정 되었는지) | B110: 150634 | C110: 지자체 | D110: 수도권 | E110: 인천광역시 | F110: 연수구 | G110: 삼성바이오로직스㈜ | H110: 79 | I110: 79 | J110: NOx | N110: 150634NOx79 | O110: Y | Q110: 2024년 | R110: Y | X110: 190
A111: 대상 | B111: 150645 | C111: 지자체 | D111: 수도권 | E111: 서울특별시 | F111: 종로구 | G111: 서울대학교병원 | H111: 7 | J111: NOx | N111: 150645NOx7 | O111: Y | P111: 2023년 | Q111: 2025년 | R111: Y
A112: 대상 | B112: 150645 | C112: 지자체 | D112: 수도권 | E112: 서울특별시 | F112: 종로구 | G112: 서울대학교병원 | H112: 8 | J112: NOx | N112: 150645NOx8 | O112: Y | P112: 2023년 | Q112: 2025년 | R112: Y | X112: 5236
A113: 미대상(24년 배출량 보고 없음) < 확인필요(기타) | B113: 150694 | C113: 환경부 | D113: 수도권 | E113: 경기도 | F113: 평택시 | G113: ㈜동우에너지소재 | H113: 9 | I113: 9 | J113: NOx | N113: 150694NOx9 | O113: Y | P113: 미설치 | Q113: 미설치(24년 설치 예정) | R113: Y | X113: 2942
A114: 미대상(24년 배출량 보고 없음) < 확인필요(기타) | B114: 150694 | C114: 환경부 | D114: 수도권 | E114: 경기도 | F114: 평택시 | G114: ㈜동우에너지소재 | H114: 9 | I114: 9 | J114: SOx | N114: 150694SOx9 | O114: Y | P114: 미설치 | Q114: 미설치(24년 설치 예정) | R114: Y | X114: 433
A115: 미대상(24년 배출량 보고 없음) < 확인필요(기타) | B115: 150694 | C115: 환경부 | D115: 수도권 | E115: 경기도 | F115: 평택시 | G115: ㈜동우에너지소재 | H115: 9 | I115: 9 | J115: TSP | N115: 150694TSP9 | O115: Y | P115: 미설치 | Q115: 미설치(24년 설치 예정) | R115: Y | T115: 0 | U115: 871 | V115: 871 | W115: 871 | X115: 871
A116: 확인필요(기타) | B116: 150762 | C116: 지자체 | D116: 수도권 | E116: 경기도 | F116: 여주시 | G116: ㈜이에스여주 | H116: 1 | I116: 1 | J116: TSP | N116: 150762TSP1 | O116: Y | P116: 미설치 | Q116: 미설치 | R116: N | W116: 11443 | X116: 11443
A117: 미대성(24년 배출량보고 없음) < 확인필요(기타) | B117: 150763 | C117: 지자체 | D117: 수도권 | E117: 인천광역시 | F117: 중구 | G117: 제이셋스태츠칩팩코리아(유) | H117: 3 | I117: 3 | J117: NOx | N117: 150763NOx3 | O117: Y | P117: 2021년 예정 | Q117: 미설치 | R117: Y | V117: 42163 | W117: 42163 | X117: 42163
A118: 미대상(24년 배출량보고없음) < 확인필요(기타) | B118: 150767 | C118: 지자체 | D118: 수도권 | E118: 경기도 | F118: 양주시 | G118: ㈜와이에스에너지 | H118: 1 | I118: 1 | J118: NOx | N118: 150767NOx1 | O118: Y | P118: 미설치 | Q118: 미설치 | R118: Y | V118: 36583 | W118: 36583 | X118: 36583
A119: 미대상(24년 배출량보고없음) < 확인필요(기타) | B119: 150767 | C119: 지자체 | D119: 수도권 | E119: 경기도 | F119: 양주시 | G119: ㈜와이에스에너지 | H119: 1 | I119: 1 | J119: SOx | N119: 150767SOx1 | O119: Y | P119: 미설치 | Q119: 미설치 | R119: Y | V119: 429 | W119: 429 | X119: 429
...

Sheet 대상_중복제거
N2: 2 | O2: 36 | P2: 37 | Q2: 38
C5: {=SUMPRODUCT(1/COUNTIF(C8:C1595,C8:C1595))} -> 198 | N5: 22343
C6: 대상 | I6: =SUBTOTAL(3,I8:I1595) -> 1588 | K6: 오염물질 | O6: 가할당 배출구('23 기준)
A7: 구분 | B7: index | C7: 사업장ID | D7: 환경부/지자체 | E7: 권역 | F7: 지역 | G7: 시도 | H7: 사업장명 | I7: 배출구 (시스템) | J7: 총량 배출구 | K7: NOx | L7: SOx | M7: TSP | N7: ID+물질+배출구 | O7: (Y/N) | P7: 가동신고 | Q7: 재산정 | R7: 시스템확인결과
A8: 확인필요(24년 재산정 되었는지) | B8: =C8&I8 -> 1500112 | C8: 150011 | D8: 환경부 | E8: 수도권 | F8: 경기도 | G8: 시흥시 | H8: 아세아제지㈜시화공장 | I8: 2 | J8: 2 | K8: =VLOOKUP(B8,#REF!,5,FALSE) -> #REF! | M8: =VLOOKUP(B8,#REF!,7,FALSE) -> #REF! | N8: 150011NOx2 | O8: Y | P8: 2022년 | Q8: 2024년
A9: 대상 | B9: =C9&I9 -> 150031136 | C9: 150031 | D9: 환경부 | E9: 수도권 | F9: 인천광역시 | G9: 중구 | H9: ㈜SUN&L | I9: 136 | J9: 137 | K9: =VLOOKUP(B9,#REF!,5,FALSE) -> #REF! | N9: 150031NOx136 | O9: Y | P9: 2023년 | Q9: 2025년
A10: 대상 | B10: =C10&I10 -> 150048168 | C10: 150048 | D10: 환경부 | E10: 수도권 | F10: 인천광역시 | G10: 서구 | H10: 한국남부발전(주)신인천빛드림본부 | I10: 168 | J10: 22 | K10: =VLOOKUP(B10,#REF!,5,FALSE) -> #REF! | N10: 150048NOx168 | O10: Y | P10: 2023년 | Q10: 2025년
A11: 확인필요(24년 재산정 되었는지) | B11: =C11&I11 -> 1707992 | C11: 170799 | D11: 지자체 | E11: 중부권 | F11: 충청남도 | G11: 서천군 | H11: 국립생태원 | I11: 2 | J11: 2 | K11: =VLOOKUP(B11,#REF!,5,FALSE) -> #REF! | N11: 170799NOx2 | O11: Y | P11: 2022년 | Q11: 2024년
A12: 대상 | B12: =C12&I12 -> 15010510 | C12: 150105 | D12: 환경부 | E12: 수도권 | F12: 경기도 | G12: 고양시 | H12: 서울특별시 난지물재생센터 | I12: 10 | J12: 10 | K12: =VLOOKUP(B12,#REF!,5,FALSE) -> #REF! | N12: 150105NOx10 | O12: Y | P12: 2021년 3월 | Q12: 2025년
A13: 대상 | B13: =C13&I13 -> 150271265 | C13: 150271 | D13: 환경부 | E13: 수도권 | F13: 경기도 | G13: 이천시 | H13: 에스케이하이닉스㈜ | I13: 265 | J13: 265 | K13: =VLOOKUP(B13,#REF!,5,FALSE) -> #REF! | L13: =VLOOKUP(B13,#REF!,6,FALSE) -> #REF! | N13: 150271NOx265 | O13: Y | P13: 미가동 | Q13: 2025년
A14: 대상 | B14: =C14&I14 -> 150271266 | C14: 150271 | D14: 환경부 | E14: 수도권 | F14: 경기도 | G14: 이천시 | H14: 에스케이하이닉스㈜ | I14: 266 | J14: 266 | K14: =VLOOKUP(B14,#REF!,5,FALSE) -> #REF! | L14: =VLOOKUP(B14,#REF!,6,FALSE) -> #REF! | N14: 150271NOx266 | O14: Y | P14: 미가동 | Q14: 2025년
A15: 대상 | B15: =C15&I15 -> 150271267 | C15: 150271 | D15: 환경부 | E15: 수도권 | F15: 경기도 | G15: 이천시 | H15: 에스케이하이닉스㈜ | I15: 267 | J15: 267 | K15: =VLOOKUP(B15,#REF!,5,FALSE) -> #REF! | L15: =VLOOKUP(B15,#REF!,6,FALSE) -> #REF! | N15: 150271NOx267 | O15: Y | P15: 미가동 | Q15: 2025년
A16: 대상 | B16: =C16&I16 -> 150271268 | C16: 150271 | D16: 환경부 | E16: 수도권 | F16: 경기도 | G16: 이천시 | H16: 에스케이하이닉스㈜ | I16: 268 | J16: 268 | K16: =VLOOKUP(B16,#REF!,5,FALSE) -> #REF! | L16: =VLOOKUP(B16,#REF!,6,FALSE) -> #REF! | N16: 150271NOx268 | O16: Y | P16: 미가동 | Q16: 2025년
A17: 대상 | B17: =C17&I17 -> 150271269 | C17: 150271 | D17: 환경부 | E17: 수도권 | F17: 경기도 | G17: 이천시 | H17: 에스케이하이닉스㈜ | I17: 269 | J17: 269 | K17: =VLOOKUP(B17,#REF!,5,FALSE) -> #REF! | L17: =VLOOKUP(B17,#REF!,6,FALSE) -> #REF! | N17: 150271NOx269 | O17: Y | P17: 미가동 | Q17: 2025년
A18: 대상 | B18: =C18&I18 -> 150271270 | C18: 150271 | D18: 환경부 | E18: 수도권 | F18: 경기도 | G18: 이천시 | H18: 에스케이하이닉스㈜ | I18: 270 | J18: 270 | K18: =VLOOKUP(B18,#REF!,5,FALSE) -> #REF! | L18: =VLOOKUP(B18,#REF!,6,FALSE) -> #REF! | N18: 150271NOx270 | O18: Y | P18: 미가동 | Q18: 2025년
A19: 대상 | B19: =C19&I19 -> 150271271 | C19: 150271 | D19: 환경부 | E19: 수도권 | F19: 경기도 | G19: 이천시 | H19: 에스케이하이닉스㈜ | I19: 271 | J19: 271 | K19: =VLOOKUP(B19,#REF!,5,FALSE) -> #REF! | L19: =VLOOKUP(B19,#REF!,6,FALSE) -> #REF! | N19: 150271NOx271 | O19: Y | P19: 미가동 | Q19: 2025년
A20: 대상 | B20: =C20&I20 -> 150271272 | C20: 150271 | D20: 환경부 | E20: 수도권 | F20: 경기도 | G20: 이천시 | H20: 에스케이하이닉스㈜ | I20: 272 | J20: 272 | K20: =VLOOKUP(B20,#REF!,5,FALSE) -> #REF! | L20: =VLOOKUP(B20,#REF!,6,FALSE) -> #REF! | N20: 150271NOx272 | O20: Y | P20: 미가동 | Q20: 2025년
A21: 대상 | B21: =C21&I21 -> 150271273 | C21: 150271 | D21: 환경부 | E21: 수도권 | F21: 경기도 | G21: 이천시 | H21: 에스케이하이닉스㈜ | I21: 273 | J21: 273 | K21: =VLOOKUP(B21,#REF!,5,FALSE) -> #REF! | L21: =VLOOKUP(B21,#REF!,6,FALSE) -> #REF! | N21: 150271NOx273 | O21: Y | P21: 미가동 | Q21: 2025년
A22: 대상 | B22: =C22&I22 -> 150271274 | C22: 150271 | D22: 환경부 | E22: 수도권 | F22: 경기도 | G22: 이천시 | H22: 에스케이하이닉스㈜ | I22: 274 | J22: 274 | K22: =VLOOKUP(B22,#REF!,5,FALSE) -> #REF! | L22: =VLOOKUP(B22,#REF!,6,FALSE) -> #REF! | N22: 150271NOx274 | O22: Y | P22: 미가동 | Q22: 2025년
A23: 대상 | B23: =C23&I23 -> 150271275 | C23: 150271 | D23: 환경부 | E23: 수도권 | F23: 경기도 | G23: 이천시 | H23: 에스케이하이닉스㈜ | I23: 275 | J23: 275 | K23: =VLOOKUP(B23,#REF!,5,FALSE) -> #REF! | L23: =VLOOKUP(B23,#REF!,6,FALSE) -> #REF! | N23: 150271NOx275 | O23: Y | P23: 미가동 | Q23: 2025년
A24: 대상 | B24: =C24&I24 -> 150271276 | C24: 150271 | D24: 환경부 | E24: 수도권 | F24: 경기도 | G24: 이천시 | H24: 에스케이하이닉스㈜ | I24: 276 | J24: 276 | K24: =VLOOKUP(B24,#REF!,5,FALSE) -> #REF! | L24: =VLOOKUP(B24,#REF!,6,FALSE) -> #REF! | N24: 150271NOx276 | O24: Y | P24: 미가동 | Q24: 2025년
... A31: 대상 | B31: =C31&I31 -> 150271283 | C31: 150271 | D31: 환경부 | E31: 수도권 | F31: 경기도 | G31: 이천시 | H31: 에스케이하이닉스㈜ | I31: 283 | J31: 283 | K31: =VLOOKUP(B31,#REF!,5,FALSE) -> #REF! | L31: =VLOOKUP(B31,#REF!,6,FALSE) -> #REF! | N31: 150271NOx283 | O31: Y | P31: 미가동 | Q31: 2025년
A32: 대상 | B32: =C32&I32 -> 150271290 | C32: 150271 | D32: 환경부 | E32: 수도권 | F32: 경기도 | G32: 이천시 | H32: 에스케이하이닉스㈜ | I32: 290 | J32: 290 | L32: =VLOOKUP(B32,#REF!,6,FALSE) -> #REF! | N32: 150271SOx290 | O32: Y | P32: 미가동 | Q32: 2025년
A33: 대상 | B33: =C33&I33 -> 150271294 | C33: 150271 | D33: 환경부 | E33: 수도권 | F33: 경기도 | G33: 이천시 | H33: 에스케이하이닉스㈜ | I33: 294 | J33: 294 | K33: =VLOOKUP(B33,#REF!,5,FALSE) -> #REF! | L33: =VLOOKUP(B33,#REF!,6,FALSE) -> #REF! | N33: 150271NOx294 | O33: Y | P33: 미가동 | Q33: 2025년
A34: 대상 | B34: =C34&I34 -> 150271295 | C34: 150271 | D34: 환경부 | E34: 수도권 | F34: 경기도 | G34: 이천시 | H34: 에스케이하이닉스㈜ | I34: 295 | J34: 295 | K34: =VLOOKUP(B34,#REF!,5,FALSE) -> #REF! | L34: =VLOOKUP(B34,#REF!,6,FALSE) -> #REF! | N34: 150271NOx295 | O34: Y | P34: 미가동 | Q34: 2025년
A35: 대상 | B35: =C35&I35 -> 150271296 | C35: 150271 | D35: 환경부 | E35: 수도권 | F35: 경기도 | G35: 이천시 | H35: 에스케이하이닉스㈜ | I35: 296 | J35: 296 | K35: =VLOOKUP(B35,#REF!,5,FALSE) -> #REF! | L35: =VLOOKUP(B35,#REF!,6,FALSE) -> #REF! | N35: 150271NOx296 | O35: Y | P35: 미가동 | Q35: 2025년
A36: 대상 | B36: =C36&I36 -> 150271297 | C36: 150271 | D36: 환경부 | E36: 수도권 | F36: 경기도 | G36: 이천시 | H36: 에스케이하이닉스㈜ | I36: 297 | J36: 297 | K36: =VLOOKUP(B36,#REF!,5,FALSE) -> #REF! | L36: =VLOOKUP(B36,#REF!,6,FALSE) -> #REF! | N36: 150271NOx297 | O36: Y | P36: 미가동 | Q36: 2025년
A37: 대상 | B37: =C37&I37 -> 150271298 | C37: 150271 | D37: 환경부 | E37: 수도권 | F37: 경기도 | G37: 이천시 | H37: 에스케이하이닉스㈜ | I37: 298 | J37: 298 | K37: =VLOOKUP(B37,#REF!,5,FALSE) -> #REF! | L37: =VLOOKUP(B37,#REF!,6,FALSE) -> #REF! | N37: 150271NOx298 | O37: Y | P37: 미가동 | Q37: 2025년
A38: 대상 | B38: =C38&I38 -> 150271300 | C38: 150271 | D38: 환경부 | E38: 수도권 | F38: 경기도 | G38: 이천시 | H38: 에스케이하이닉스㈜ | I38: 300 | J38: 300 | K38: =VLOOKUP(B38,#REF!,5,FALSE) -> #REF! | L38: =VLOOKUP(B38,#REF!,6,FALSE) -> #REF! | N38: 150271NOx300 | O38: Y | P38: 미가동 | Q38: 2025년
A39: 대상 | B39: =C39&I39 -> 150271301 | C39: 150271 | D39: 환경부 | E39: 수도권 | F39: 경기도 | G39: 이천시 | H39: 에스케이하이닉스㈜ | I39: 301 | J39: 301 | K39: =VLOOKUP(B39,#REF!,5,FALSE) -> #REF! | L39: =VLOOKUP(B39,#REF!,6,FALSE) -> #REF! | N39: 150271NOx301 | O39: Y | P39: 미가동 | Q39: 2025년
A40: 대상 | B40: =C40&I40 -> 150271302 | C40: 150271 | D40: 환경부 | E40: 수도권 | F40: 경기도 | G40: 이천시 | H40: 에스케이하이닉스㈜ | I40: 302 | J40: 302 | K40: =VLOOKUP(B40,#REF!,5,FALSE) -> #REF! | L40: =VLOOKUP(B40,#REF!,6,FALSE) -> #REF! | N40: 150271NOx302 | O40: Y | P40: 미가동 | Q40: 2025년
A41: 대상 | B41: =C41&I41 -> 150271303 | C41: 150271 | D41: 환경부 | E41: 수도권 | F41: 경기도 | G41: 이천시 | H41: 에스케이하이닉스㈜ | I41: 303 | J41: 303 | K41: =VLOOKUP(B41,#REF!,5,FALSE) -> #REF! | L41: =VLOOKUP(B41,#REF!,6,FALSE) -> #REF! | N41: 150271NOx303 | O41: Y | P41: 미가동 | Q41: 2025년
A42: 대상 | B42: =C42&I42 -> 150271304 | C42: 150271 | D42: 환경부 | E42: 수도권 | F42: 경기도 | G42: 이천시 | H42: 에스케이하이닉스㈜ | I42: 304 | J42: 304 | K42: =VLOOKUP(B42,#REF!,5,FALSE) -> #REF! | L42: =VLOOKUP(B42,#REF!,6,FALSE) -> #REF! | N42: 150271NOx304 | O42: Y | P42: 미가동 | Q42: 2025년
A43: 대상 | B43: =C43&I43 -> 150271305 | C43: 150271 | D43: 환경부 | E43: 수도권 | F43: 경기도 | G43: 이천시 | H43: 에스케이하이닉스㈜ | I43: 305 | J43: 305 | K43: =VLOOKUP(B43,#REF!,5,FALSE) -> #REF! | L43: =VLOOKUP(B43,#REF!,6,FALSE) -> #REF! | N43: 150271NOx305 | O43: Y | P43: 미가동 | Q43: 2025년
A44: 대상 | B44: =C44&I44 -> 150271306 | C44: 150271 | D44: 환경부 | E44: 수도권 | F44: 경기도 | G44: 이천시 | H44: 에스케이하이닉스㈜ | I44: 306 | J44: 306 | K44: =VLOOKUP(B44,#REF!,5,FALSE) -> #REF! | L44: =VLOOKUP(B44,#REF!,6,FALSE) -> #REF! | N44: 150271NOx306 | O44: Y | P44: 미가동 | Q44: 2025년
... A58: 대상 | B58: =C58&I58 -> 150271338 | C58: 150271 | D58: 환경부 | E58: 수도권 | F58: 경기도 | G58: 이천시 | H58: 에스케이하이닉스㈜ | I58: 338 | J58: 338 | K58: =VLOOKUP(B58,#REF!,5,FALSE) -> #REF! | L58: =VLOOKUP(B58,#REF!,6,FALSE) -> #REF! | N58: 150271NOx338 | O58: Y | P58: 미가동 | Q58: 2025년
A59: 대상 | B59: =C59&I59 -> 1505827 | C59: 150582 | D59: 환경부 | E59: 수도권 | F59: 경기도 | G59: 김포시 | H59: 김포시 자원화센터 | I59: 7 | J59: 7 | K59: =VLOOKUP(B59,#REF!,5,FALSE) -> #REF! | M59: =VLOOKUP(B59,#REF!,7,FALSE) -> #REF! | N59: 150582NOx7 | O59: Y | P59: 2023년 | Q59: 2025년
A60: 확인필요(24년 재산정 되었는지) | B60: =C60&I60 -> 15063477 | C60: 150634 | D60: 지자체 | E60: 수도권 | F60: 인천광역시 | G60: 연수구 | H60: 삼성바이오로직스㈜ | I60: 77 | J60: 77 | K60: =VLOOKUP(B60,#REF!,5,FALSE) -> #REF! | N60: 150634NOx77 | O60: Y | Q60: 2024년
A61: 확인필요(24년 재산정 되었는지) | B61: =C61&I61 -> 15063478 | C61: 150634 | D61: 지자체 | E61: 수도권 | F61: 인천광역시 | G61: 연수구 | H61: 삼성바이오로직스㈜ | I61: 78 | J61: 78 | K61: =VLOOKUP(B61,#REF!,5,FALSE) -> #REF! | N61: 150634NOx78 | O61: Y | Q61: 2024년
A62: 확인필요(24년 재산정 되었는지) | B62: =C62&I62 -> 15063479 | C62: 150634 | D62: 지자체 | E62: 수도권 | F62: 인천광역시 | G62: 연수구 | H62: 삼성바이오로직스㈜ | I62: 79 | J62: 79 | K62: =VLOOKUP(B62,#REF!,5,FALSE) -> #REF! | N62: 150634NOx79 | O62: Y | Q62: 2024년
...

Sheet (시스템검토)대상_중복제거
N2: 2 | O2: 36 | P2: 37 | Q2: 38
C5: {=SUMPRODUCT(1/COUNTIF(C8:C1595,C8:C1595))} -> 198 | N5: 22343
C6: 대상 | I6: =SUBTOTAL(3,I8:I1595) -> 1588 | K6: 오염물질 | O6: 가할당 배출구('23 기준)
A7: 구분 | B7: index | C7: 사업장ID | D7: 환경부/지자체 | E7: 권역 | F7: 지역 | G7: 시도 | H7: 사업장명 | I7: 배출구 (시스템) | J7: 총량 배출구 | K7: NOx | L7: SOx | M7: TSP | N7: ID+물질+배출구 | O7: (Y/N) | P7: 가동신고 | Q7: 재산정 | R7: 시스템확인결과
A8: 확인필요(24년 재산정 되었는지) | B8: =C8&I8 -> 1500112 | C8: 150011 | D8: 환경부 | E8: 수도권 | F8: 경기도 | G8: 시흥시 | H8: 아세아제지㈜시화공장 | I8: 2 | J8: 2 | K8: =VLOOKUP(B8,#REF!,5,FALSE) -> #REF! | M8: =VLOOKUP(B8,#REF!,7,FALSE) -> #REF! | N8: 150011NOx2 | O8: Y | P8: 2022년 | Q8: 2024년
A9: 대상 | B9: =C9&I9 -> 150031136 | C9: 150031 | D9: 환경부 | E9: 수도권 | F9: 인천광역시 | G9: 중구 | H9: ㈜SUN&L | I9: 136 | J9: 137 | K9: =VLOOKUP(B9,#REF!,5,FALSE) -> #REF! | N9: 150031NOx136 | O9: Y | P9: 2023년 | Q9: 2025년
A10: 대상 | B10: =C10&I10 -> 150048168 | C10: 150048 | D10: 환경부 | E10: 수도권 | F10: 인천광역시 | G10: 서구 | H10: 한국남부발전(주)신인천빛드림본부 | I10: 168 | J10: 22 | K10: =VLOOKUP(B10,#REF!,5,FALSE) -> #REF! | N10: 150048NOx168 | O10: Y | P10: 2023년 | Q10: 2025년
A11: 확인필요(24년 재산정 되었는지) | B11: =C11&I11 -> 1707992 | C11: 170799 | D11: 지자체 | E11: 중부권 | F11: 충청남도 | G11: 서천군 | H11: 국립생태원 | I11: 2 | J11: 2 | K11: =VLOOKUP(B11,#REF!,5,FALSE) -> #REF! | N11: 170799NOx2 | O11: Y | P11: 2022년 | Q11: 2024년
A12: 대상 | B12: =C12&I12 -> 15010510 | C12: 150105 | D12: 환경부 | E12: 수도권 | F12: 경기도 | G12: 고양시 | H12: 서울특별시 난지물재생센터 | I12: 10 | J12: 10 | K12: =VLOOKUP(B12,#REF!,5,FALSE) -> #REF! | N12: 150105NOx10 | O12: Y | P12: 2021년 3월 | Q12: 2025년
A13: 대상 | B13: =C13&I13 -> 150271265 | C13: 150271 | D13: 환경부 | E13: 수도권 | F13: 경기도 | G13: 이천시 | H13: 에스케이하이닉스㈜ | I13: 265 | J13: 265 | K13: =VLOOKUP(B13,#REF!,5,FALSE) -> #REF! | L13: =VLOOKUP(B13,#REF!,6,FALSE) -> #REF! | N13: 150271NOx265 | O13: Y | P13: 미가동 | Q13: 2025년
A14: 대상 | B14: =C14&I14 -> 150271266 | C14: 150271 | D14: 환경부 | E14: 수도권 | F14: 경기도 | G14: 이천시 | H14: 에스케이하이닉스㈜ | I14: 266 | J14: 266 | K14: =VLOOKUP(B14,#REF!,5,FALSE) -> #REF! | L14: =VLOOKUP(B14,#REF!,6,FALSE) -> #REF! | N14: 150271NOx266 | O14: Y | P14: 미가동 | Q14: 2025년
A15: 대상 | B15: =C15&I15 -> 150271267 | C15: 150271 | D15: 환경부 | E15: 수도권 | F15: 경기도 | G15: 이천시 | H15: 에스케이하이닉스㈜ | I15: 267 | J15: 267 | K15: =VLOOKUP(B15,#REF!,5,FALSE) -> #REF! | L15: =VLOOKUP(B15,#REF!,6,FALSE) -> #REF! | N15: 150271NOx267 | O15: Y | P15: 미가동 | Q15: 2025년
A16: 대상 | B16: =C16&I16 -> 150271268 | C16: 150271 | D16: 환경부 | E16: 수도권 | F16: 경기도 | G16: 이천시 | H16: 에스케이하이닉스㈜ | I16: 268 | J16: 268 | K16: =VLOOKUP(B16,#REF!,5,FALSE) -> #REF! | L16: =VLOOKUP(B16,#REF!,6,FALSE) -> #REF! | N16: 150271NOx268 | O16: Y | P16: 미가동 | Q16: 2025년
A17: 대상 | B17: =C17&I17 -> 150271269 | C17: 150271 | D17: 환경부 | E17: 수도권 | F17: 경기도 | G17: 이천시 | H17: 에스케이하이닉스㈜ | I17: 269 | J17: 269 | K17: =VLOOKUP(B17,#REF!,5,FALSE) -> #REF! | L17: =VLOOKUP(B17,#REF!,6,FALSE) -> #REF! | N17: 150271NOx269 | O17: Y | P17: 미가동 | Q17: 2025년
A18: 대상 | B18: =C18&I18 -> 150271270 | C18: 150271 | D18: 환경부 | E18: 수도권 | F18: 경기도 | G18: 이천시 | H18: 에스케이하이닉스㈜ | I18: 270 | J18: 270 | K18: =VLOOKUP(B18,#REF!,5,FALSE) -> #REF! | L18: =VLOOKUP(B18,#REF!,6,FALSE) -> #REF! | N18: 150271NOx270 | O18: Y | P18: 미가동 | Q18: 2025년
A19: 대상 | B19: =C19&I19 -> 150271271 | C19: 150271 | D19: 환경부 | E19: 수도권 | F19: 경기도 | G19: 이천시 | H19: 에스케이하이닉스㈜ | I19: 271 | J19: 271 | K19: =VLOOKUP(B19,#REF!,5,FALSE) -> #REF! | L19: =VLOOKUP(B19,#REF!,6,FALSE) -> #REF! | N19: 150271NOx271 | O19: Y | P19: 미가동 | Q19: 2025년
A20: 대상 | B20: =C20&I20 -> 150271272 | C20: 150271 | D20: 환경부 | E20: 수도권 | F20: 경기도 | G20: 이천시 | H20: 에스케이하이닉스㈜ | I20: 272 | J20: 272 | K20: =VLOOKUP(B20,#REF!,5,FALSE) -> #REF! | L20: =VLOOKUP(B20,#REF!,6,FALSE) -> #REF! | N20: 150271NOx272 | O20: Y | P20: 미가동 | Q20: 2025년
A21: 대상 | B21: =C21&I21 -> 150271273 | C21: 150271 | D21: 환경부 | E21: 수도권 | F21: 경기도 | G21: 이천시 | H21: 에스케이하이닉스㈜ | I21: 273 | J21: 273 | K21: =VLOOKUP(B21,#REF!,5,FALSE) -> #REF! | L21: =VLOOKUP(B21,#REF!,6,FALSE) -> #REF! | N21: 150271NOx273 | O21: Y | P21: 미가동 | Q21: 2025년
A22: 대상 | B22: =C22&I22 -> 150271274 | C22: 150271 | D22: 환경부 | E22: 수도권 | F22: 경기도 | G22: 이천시 | H22: 에스케이하이닉스㈜ | I22: 274 | J22: 274 | K22: =VLOOKUP(B22,#REF!,5,FALSE) -> #REF! | L22: =VLOOKUP(B22,#REF!,6,FALSE) -> #REF! | N22: 150271NOx274 | O22: Y | P22: 미가동 | Q22: 2025년
A23: 대상 | B23: =C23&I23 -> 150271275 | C23: 150271 | D23: 환경부 | E23: 수도권 | F23: 경기도 | G23: 이천시 | H23: 에스케이하이닉스㈜ | I23: 275 | J23: 275 | K23: =VLOOKUP(B23,#REF!,5,FALSE) -> #REF! | L23: =VLOOKUP(B23,#REF!,6,FALSE) -> #REF! | N23: 150271NOx275 | O23: Y | P23: 미가동 | Q23: 2025년
A24: 대상 | B24: =C24&I24 -> 150271276 | C24: 150271 | D24: 환경부 | E24: 수도권 | F24: 경기도 | G24: 이천시 | H24: 에스케이하이닉스㈜ | I24: 276 | J24: 276 | K24: =VLOOKUP(B24,#REF!,5,FALSE) -> #REF! | L24: =VLOOKUP(B24,#REF!,6,FALSE) -> #REF! | N24: 150271NOx276 | O24: Y | P24: 미가동 | Q24: 2025년
... A31: 대상 | B31: =C31&I31 -> 150271283 | C31: 150271 | D31: 환경부 | E31: 수도권 | F31: 경기도 | G31: 이천시 | H31: 에스케이하이닉스㈜ | I31: 283 | J31: 283 | K31: =VLOOKUP(B31,#REF!,5,FALSE) -> #REF! | L31: =VLOOKUP(B31,#REF!,6,FALSE) -> #REF! | N31: 150271NOx283 | O31: Y | P31: 미가동 | Q31: 2025년
A32: 대상 | B32: =C32&I32 -> 150271290 | C32: 150271 | D32: 환경부 | E32: 수도권 | F32: 경기도 | G32: 이천시 | H32: 에스케이하이닉스㈜ | I32: 290 | J32: 290 | L32: =VLOOKUP(B32,#REF!,6,FALSE) -> #REF! | N32: 150271SOx290 | O32: Y | P32: 미가동 | Q32: 2025년
A33: 대상 | B33: =C33&I33 -> 150271294 | C33: 150271 | D33: 환경부 | E33: 수도권 | F33: 경기도 | G33: 이천시 | H33: 에스케이하이닉스㈜ | I33: 294 | J33: 294 | K33: =VLOOKUP(B33,#REF!,5,FALSE) -> #REF! | L33: =VLOOKUP(B33,#REF!,6,FALSE) -> #REF! | N33: 150271NOx294 | O33: Y | P33: 미가동 | Q33: 2025년
A34: 대상 | B34: =C34&I34 -> 150271295 | C34: 150271 | D34: 환경부 | E34: 수도권 | F34: 경기도 | G34: 이천시 | H34: 에스케이하이닉스㈜ | I34: 295 | J34: 295 | K34: =VLOOKUP(B34,#REF!,5,FALSE) -> #REF! | L34: =VLOOKUP(B34,#REF!,6,FALSE) -> #REF! | N34: 150271NOx295 | O34: Y | P34: 미가동 | Q34: 2025년
A35: 대상 | B35: =C35&I35 -> 150271296 | C35: 150271 | D35: 환경부 | E35: 수도권 | F35: 경기도 | G35: 이천시 | H35: 에스케이하이닉스㈜ | I35: 296 | J35: 296 | K35: =VLOOKUP(B35,#REF!,5,FALSE) -> #REF! | L35: =VLOOKUP(B35,#REF!,6,FALSE) -> #REF! | N35: 150271NOx296 | O35: Y | P35: 미가동 | Q35: 2025년
A36: 대상 | B36: =C36&I36 -> 150271297 | C36: 150271 | D36: 환경부 | E36: 수도권 | F36: 경기도 | G36: 이천시 | H36: 에스케이하이닉스㈜ | I36: 297 | J36: 297 | K36: =VLOOKUP(B36,#REF!,5,FALSE) -> #REF! | L36: =VLOOKUP(B36,#REF!,6,FALSE) -> #REF! | N36: 150271NOx297 | O36: Y | P36: 미가동 | Q36: 2025년
A37: 대상 | B37: =C37&I37 -> 150271298 | C37: 150271 | D37: 환경부 | E37: 수도권 | F37: 경기도 | G37: 이천시 | H37: 에스케이하이닉스㈜ | I37: 298 | J37: 298 | K37: =VLOOKUP(B37,#REF!,5,FALSE) -> #REF! | L37: =VLOOKUP(B37,#REF!,6,FALSE) -> #REF! | N37: 150271NOx298 | O37: Y | P37: 미가동 | Q37: 2025년
A38: 대상 | B38: =C38&I38 -> 150271300 | C38: 150271 | D38: 환경부 | E38: 수도권 | F38: 경기도 | G38: 이천시 | H38: 에스케이하이닉스㈜ | I38: 300 | J38: 300 | K38: =VLOOKUP(B38,#REF!,5,FALSE) -> #REF! | L38: =VLOOKUP(B38,#REF!,6,FALSE) -> #REF! | N38: 150271NOx300 | O38: Y | P38: 미가동 | Q38: 2025년
A39: 대상 | B39: =C39&I39 -> 150271301 | C39: 150271 | D39: 환경부 | E39: 수도권 | F39: 경기도 | G39: 이천시 | H39: 에스케이하이닉스㈜ | I39: 301 | J39: 301 | K39: =VLOOKUP(B39,#REF!,5,FALSE) -> #REF! | L39: =VLOOKUP(B39,#REF!,6,FALSE) -> #REF! | N39: 150271NOx301 | O39: Y | P39: 미가동 | Q39: 2025년
A40: 대상 | B40: =C40&I40 -> 150271302 | C40: 150271 | D40: 환경부 | E40: 수도권 | F40: 경기도 | G40: 이천시 | H40: 에스케이하이닉스㈜ | I40: 302 | J40: 302 | K40: =VLOOKUP(B40,#REF!,5,FALSE) -> #REF! | L40: =VLOOKUP(B40,#REF!,6,FALSE) -> #REF! | N40: 150271NOx302 | O40: Y | P40: 미가동 | Q40: 2025년
A41: 대상 | B41: =C41&I41 -> 150271303 | C41: 150271 | D41: 환경부 | E41: 수도권 | F41: 경기도 | G41: 이천시 | H41: 에스케이하이닉스㈜ | I41: 303 | J41: 303 | K41: =VLOOKUP(B41,#REF!,5,FALSE) -> #REF! | L41: =VLOOKUP(B41,#REF!,6,FALSE) -> #REF! | N41: 150271NOx303 | O41: Y | P41: 미가동 | Q41: 2025년
A42: 대상 | B42: =C42&I42 -> 150271304 | C42: 150271 | D42: 환경부 | E42: 수도권 | F42: 경기도 | G42: 이천시 | H42: 에스케이하이닉스㈜ | I42: 304 | J42: 304 | K42: =VLOOKUP(B42,#REF!,5,FALSE) -> #REF! | L42: =VLOOKUP(B42,#REF!,6,FALSE) -> #REF! | N42: 150271NOx304 | O42: Y | P42: 미가동 | Q42: 2025년
A43: 대상 | B43: =C43&I43 -> 150271305 | C43: 150271 | D43: 환경부 | E43: 수도권 | F43: 경기도 | G43: 이천시 | H43: 에스케이하이닉스㈜ | I43: 305 | J43: 305 | K43: =VLOOKUP(B43,#REF!,5,FALSE) -> #REF! | L43: =VLOOKUP(B43,#REF!,6,FALSE) -> #REF! | N43: 150271NOx305 | O43: Y | P43: 미가동 | Q43: 2025년
A44: 대상 | B44: =C44&I44 -> 150271306 | C44: 150271 | D44: 환경부 | E44: 수도권 | F44: 경기도 | G44: 이천시 | H44: 에스케이하이닉스㈜ | I44: 306 | J44: 306 | K44: =VLOOKUP(B44,#REF!,5,FALSE) -> #REF! | L44: =VLOOKUP(B44,#REF!,6,FALSE) -> #REF! | N44: 150271NOx306 | O44: Y | P44: 미가동 | Q44: 2025년
... A58: 대상 | B58: =C58&I58 -> 150271338 | C58: 150271 | D58: 환경부 | E58: 수도권 | F58: 경기도 | G58: 이천시 | H58: 에스케이하이닉스㈜ | I58: 338 | J58: 338 | K58: =VLOOKUP(B58,#REF!,5,FALSE) -> #REF! | L58: =VLOOKUP(B58,#REF!,6,FALSE) -> #REF! | N58: 150271NOx338 | O58: Y | P58: 미가동 | Q58: 2025년
A59: 대상 | B59: =C59&I59 -> 1505827 | C59: 150582 | D59: 환경부 | E59: 수도권 | F59: 경기도 | G59: 김포시 | H59: 김포시 자원화센터 | I59: 7 | J59: 7 | K59: =VLOOKUP(B59,#REF!,5,FALSE) -> #REF! | M59: =VLOOKUP(B59,#REF!,7,FALSE) -> #REF! | N59: 150582NOx7 | O59: Y | P59: 2023년 | Q59: 2025년
A60: 확인필요(24년 재산정 되었는지) | B60: =C60&I60 -> 15063477 | C60: 150634 | D60: 지자체 | E60: 수도권 | F60: 인천광역시 | G60: 연수구 | H60: 삼성바이오로직스㈜ | I60: 77 | J60: 77 | K60: =VLOOKUP(B60,#REF!,5,FALSE) -> #REF! | N60: 150634NOx77 | O60: Y | Q60: 2024년
A61: 확인필요(24년 재산정 되었는지) | B61: =C61&I61 -> 15063478 | C61: 150634 | D61: 지자체 | E61: 수도권 | F61: 인천광역시 | G61: 연수구 | H61: 삼성바이오로직스㈜ | I61: 78 | J61: 78 | K61: =VLOOKUP(B61,#REF!,5,FALSE) -> #REF! | N61: 150634NOx78 | O61: Y | Q61: 2024년
A62: 확인필요(24년 재산정 되었는지) | B62: =C62&I62 -> 15063479 | C62: 150634 | D62: 지자체 | E62: 수도권 | F62: 인천광역시 | G62: 연수구 | H62: 삼성바이오로직스㈜ | I62: 79 | J62: 79 | K62: =VLOOKUP(B62,#REF!,5,FALSE) -> #REF! | N62: 150634NOx79 | O62: Y | Q62: 2024년
...

Sheet 대상 배출구 현황
B1: □ 2025년 가할당재산정 대상 배출구 현황
B2: * 허가증(검토서) 상 설치일자 or 시스템 활동도 시작일을 기준으로 파악한 것으로, 실제 가동개시일에 따라 재산정 대상 변경될 수 있음
B3: 연번 | C3: 관할 행정기관 | D3: 대기관리권역 | E3: 지역 | F3: 시군구 | G3: 사업장ID | H3: 사업장명 | I3: 시스템배출구 (참고) | J3: 총량배출구 | K3: 재산정 대상 여부
K4: NOx | L4: SOx | M4: TSP
B5: 1 | C5: 지자체 | D5: 남부권 | E5: 전라남도 | F5: 여수시 | G5: 110009 | H5: ㈜케이씨씨 여천공장 | I5: 26 | J5: 방면-3 | K5: O
B6: 2 | C6: 지자체 | D6: 남부권 | E6: 전라남도 | F6: 광양시 | G6: 110123 | H6: ㈜포스코퓨처엠 양극재광양공장(구.㈜포스코케미칼) | I6: 8 | J6: 8 | K6: O
B7: 3 | C7: 지자체 | D7: 남부권 | E7: 전라남도 | F7: 광양시 | G7: 110123 | H7: ㈜포스코퓨처엠 양극재광양공장(구.㈜포스코케미칼) | I7: 9 | J7: 9 | K7: O
B8: 4 | C8: 지자체 | D8: 남부권 | E8: 전라남도 | F8: 광양시 | G8: 110123 | H8: ㈜포스코퓨처엠 양극재광양공장(구.㈜포스코케미칼) | I8: 10 | J8: 10 | K8: O
B9: 5 | C9: 지자체 | D9: 남부권 | E9: 전라남도 | F9: 광양시 | G9: 110123 | H9: ㈜포스코퓨처엠 양극재광양공장(구.㈜포스코케미칼) | I9: 13 | J9: 13 | K9: O
B10: 6 | C10: 지자체 | D10: 남부권 | E10: 전라남도 | F10: 광양시 | G10: 110123 | H10: ㈜포스코퓨처엠 양극재광양공장(구.㈜포스코케미칼) | I10: 14 | J10: 14 | K10: O
B11: 7 | C11: 지자체 | D11: 남부권 | E11: 전라남도 | F11: 광양시 | G11: 110123 | H11: ㈜포스코퓨처엠 양극재광양공장(구.㈜포스코케미칼) | I11: 60 | J11: 60 | K11: O
B12: 8 | C12: 지자체 | D12: 남부권 | E12: 전라남도 | F12: 광양시 | G12: 110123 | H12: ㈜포스코퓨처엠 양극재광양공장(구.㈜포스코케미칼) | I12: 61 | J12: 61 | K12: O
B13: 9 | C13: 지자체 | D13: 남부권 | E13: 전라남도 | F13: 광양시 | G13: 110123 | H13: ㈜포스코퓨처엠 양극재광양공장(구.㈜포스코케미칼) | I13: 62 | J13: 62 | K13: O
B14: 10 | C14: 지자체 | D14: 남부권 | E14: 전라남도 | F14: 광양시 | G14: 110123 | H14: ㈜포스코퓨처엠 양극재광양공장(구.㈜포스코케미칼) | I14: 63 | J14: 63 | K14: O
B15: 11 | C15: 지자체 | D15: 남부권 | E15: 전라남도 | F15: 광양시 | G15: 110123 | H15: ㈜포스코퓨처엠 양극재광양공장(구.㈜포스코케미칼) | I15: 64 | J15: 64 | K15: O
B16: 12 | C16: 지자체 | D16: 남부권 | E16: 전라남도 | F16: 광양시 | G16: 110123 | H16: ㈜포스코퓨처엠 양극재광양공장(구.㈜포스코케미칼) | I16: 65 | J16: 65 | K16: O
B17: 13 | C17: 지자체 | D17: 남부권 | E17: 전라남도 | F17: 광양시 | G17: 110123 | H17: ㈜포스코퓨처엠 양극재광양공장(구.㈜포스코케미칼) | I17: 66 | J17: 66 | K17: O
... B111: 107 | C111: 지자체 | D111: 남부권 | E111: 광주광역시 | F111: 광산구 | G111: 111022 | H111: 한국가스공사 | I111: 1 | J111: 1 | K111: O
B112: 108 | C112: 지자체 | D112: 남부권 | E112: 전라남도 | F112: 영암군 | G112: 112214 | H112: 현대삼호중공업㈜ | I112: 273 | K112: O
B113: 109 | C113: 지자체 | D113: 남부권 | E113: 전라남도 | F113: 영암군 | G113: 112214 | H113: 현대삼호중공업㈜ | I113: 375 | K113: O
B114: 110 | C114: 지자체 | D114: 남부권 | E114: 전라남도 | F114: 영암군 | G114: 112214 | H114: 현대삼호중공업㈜ | I114: 376 | K114: O
B115: 111 | C115: 지자체 | D115: 남부권 | E115: 전라남도 | F115: 영암군 | G115: 112214 | H115: 현대삼호중공업㈜ | I115: 512 | K115: O
B116: 112 | C116: 지자체 | D116: 남부권 | E116: 전라남도 | F116: 영암군 | G116: 112214 | H116: 현대삼호중공업㈜ | I116: 513 | K116: O
B117: 113 | C117: 지자체 | D117: 남부권 | E117: 전라남도 | F117: 영암군 | G117: 112214 | H117: 현대삼호중공업㈜ | I117: 514 | K117: O
B118: 114 | C118: 지자체 | D118: 남부권 | E118: 전라남도 | F118: 영암군 | G118: 112214 | H118: 현대삼호중공업㈜ | I118: 515 | K118: O
B119: 115 | C119: 지자체 | D119: 남부권 | E119: 전라남도 | F119: 영암군 | G119: 112214 | H119: 현대삼호중공업㈜ | I119: 516 | K119: O
B120: 116 | C120: 지자체 | D120: 남부권 | E120: 전라남도 | F120: 영암군 | G120: 112214 | H120: 현대삼호중공업㈜ | I120: 522 | K120: O
B121: 117 | C121: 지자체 | D121: 남부권 | E121: 전라남도 | F121: 영암군 | G121: 112214 | H121: 현대삼호중공업㈜ | I121: 523 | K121: O
B122: 118 | C122: 지자체 | D122: 남부권 | E122: 전라남도 | F122: 영암군 | G122: 112214 | H122: 현대삼호중공업㈜ | I122: 524 | K122: O
B123: 119 | C123: 지자체 | D123: 남부권 | E123: 전라남도 | F123: 영암군 | G123: 112214 | H123: 현대삼호중공업㈜ | I123: 525 | K123: O
B124: 120 | C124: 지자체 | D124: 남부권 | E124: 전라남도 | F124: 영암군 | G124: 112214 | H124: 현대삼호중공업㈜ | I124: 526 | K124: O
B125: 121 | C125: 지자체 | D125: 남부권 | E125: 전라남도 | F125: 영암군 | G125: 112214 | H125: 현대삼호중공업㈜ | I125: 511 | J125: 18629 | K125: O
B126: 122 | C126: 지자체 | D126: 남부권 | E126: 전라남도 | F126: 영암군 | G126: 112214 | H126: 현대삼호중공업㈜ | I126: 521 | J126: 18994 | K126: O
B127: 123 | C127: 지자체 | D127: 남부권 | E127: 전라남도 | F127: 영암군 | G127: 112214 | H127: 현대삼호중공업㈜ | I127: 531 | J127: 19360 | K127: O
B128: 124 | C128: 지자체 | D128: 남부권 | E128: 전라남도 | F128: 영암군 | G128: 112214 | H128: 현대삼호중공업㈜ | I128: 532 | J128: 19391 | K128: O
B129: 125 | C129: 지자체 | D129: 남부권 | E129: 전라남도 | F129: 영암군 | G129: 112214 | H129: 현대삼호중공업㈜ | I129: 533 | J129: 19419 | K129: O
B130: 126 | C130: 지자체 | D130: 남부권 | E130: 전라남도 | F130: 영암군 | G130: 112214 | H130: 현대삼호중공업㈜ | I130: 534 | J130: 19450 | K130: O
B131: 127 | C131: 지자체 | D131: 남부권 | E131: 전라남도 | F131: 영암군 | G131: 112214 | H131: 현대삼호중공업㈜ | I131: 535 | J131: 19480 | K131: O
B132: 128 | C132: 지자체 | D132: 남부권 | E132: 전라남도 | F132: 영암군 | G132: 112214 | H132: 현대삼호중공업㈜ | I132: 536 | J132: 19511 | K132: O
B133: 129 | C133: 지자체 | D133: 중부권 | E133: 전라북도 | F133: 군산시 | G133: 113105 | H133: 대상㈜ | I133: 79 | J133: 79 | L133: O
...

Sheet 대상 사업장 현황
B1: □ 2025년 가할당재산정 대상 사업장 현황
B2: * 허가증(검토서) 상 설치일자 or 시스템 활동도 시작일을 기준으로 파악한 것으로, 실제 가동개시일에 따라 재산정 대상 변경될 수 있음 | I2: =SUBTOTAL(9,I5:I160) -> 13
B3: 연번 | C3: 관할 행정기관 | D3: 대기관리권역 | E3: 시도 | F3: 시군구 | G3: 사업장관리시스템 사업장ID | H3: 사업장명 | I3: 가할당재산정 대상 배출구수
B5: 1 | C5: 지자체 | D5: 남부권 | E5: 전라남도 | F5: 여수시 | G5: 110009 | H5: ㈜케이씨씨 여천공장 | I5: =COUNTIF('대상 배출구 현황'!$G$5:$G$776,'대상 사업장 현황'!G5) -> 1
B6: 2 | C6: 지자체 | D6: 남부권 | E6: 전라남도 | F6: 광양시 | G6: 110123 | H6: ㈜포스코퓨처엠 양극재광양공장(구.㈜포스코케미칼) | I6: =COUNTIF('대상 배출구 현황'!$G$5:$G$776,'대상 사업장 현황'!G6) -> 55
B7: 3 | C7: 지자체 | D7: 남부권 | E7: 광주광역시 | F7: 서구 | G7: 111018 | H7: 기아㈜ 광주1공장 | I7: =COUNTIF('대상 배출구 현황'!$G$5:$G$776,'대상 사업장 현황'!G7) -> 1
B8: 4 | C8: 지자체 | D8: 남부권 | E8: 광주광역시 | F8: 함평군 | G8: 111020 | H8: (주)광주글로벌모터스 | I8: =COUNTIF('대상 배출구 현황'!$G$5:$G$776,'대상 사업장 현황'!G8) -> 49
B9: 5 | C9: 지자체 | D9: 남부권 | E9: 광주광역시 | F9: 광산구 | G9: 111022 | H9: 한국가스공사 | I9: =COUNTIF('대상 배출구 현황'!$G$5:$G$776,'대상 사업장 현황'!G9) -> 1
B10: 6 | C10: 지자체 | D10: 남부권 | E10: 전라남도 | F10: 영암군 | G10: 112214 | H10: 현대삼호중공업㈜ | I10: =COUNTIF('대상 배출구 현황'!$G$5:$G$776,'대상 사업장 현황'!G10) -> 21
B11: 7 | C11: 지자체 | D11: 중부권 | E11: 전라북도 | F11: 군산시 | G11: 113105 | H11: 대상㈜ | I11: =COUNTIF('대상 배출구 현황'!$G$5:$G$776,'대상 사업장 현황'!G11) -> 1
B12: 8 | C12: 지자체 | D12: 동남권 | E12: 울산광역시 | F12: 동구 | G12: 130164 | H12: 에이치디현대중공업(주)(구.현대중공업(주)) | I12: =COUNTIF('대상 배출구 현황'!$G$5:$G$776,'대상 사업장 현황'!G12) -> 17
B13: 9 | C13: 지자체 | D13: 동남권 | E13: 경상북도 | F13: 포항시 | G13: 130564 | H13: 이비덴그라파이트㈜ | I13: =COUNTIF('대상 배출구 현황'!$G$5:$G$776,'대상 사업장 현황'!G13) -> 1
B14: 10 | C14: 지자체 | D14: 동남권 | E14: 울산광역시 | F14: 울주군 | G14: 131006 | H14: 삼성SDI㈜ | I14: =COUNTIF('대상 배출구 현황'!$G$5:$G$776,'대상 사업장 현황'!G14) -> 5
B15: 11 | C15: 지자체 | D15: 동남권 | E15: 울산광역시 | F15: 동구 | G15: 131023 | H15: 에이치디현대미포㈜ | I15: =COUNTIF('대상 배출구 현황'!$G$5:$G$776,'대상 사업장 현황'!G15) -> 1
B16: 12 | C16: 지자체 | D16: 동남권 | E16: 울산광역시 | F16: 북구 | G16: 131042 | H16: 현대자동차㈜ 울산공장 | I16: =COUNTIF('대상 배출구 현황'!$G$5:$G$776,'대상 사업장 현황'!G16) -> 3
... B160: 156 | C160: 환경부 | D160: 중부권 | E160: 충청남도 | F160: 공주시 | G160: 170926 | H160: ㈜피앤오케미칼 | I160: =COUNTIF('대상 배출구 현황'!$G$5:$G$776,'대상 사업장 현황'!G160) -> 3

Sheet 권역,관할기관별 현황
B1: □ 2025년 가할당 재산정 대상 사업장
B2: 구분 | C2: 전체 | E2: 수도권 | G2: 중부권 | I2: 남부권 | K2: 동남권
C3: 사업장수 | D3: 배출구수 | E3: 사업장수 | F3: 배출구수 | G3: 사업장수 | H3: 배출구수 | I3: 사업장수 | J3: 배출구수 | K3: 사업장수 | L3: 배출구수
B4: 전체 | C4: =SUM(C5:C6) -> 156 | D4: =SUM(D5:D6) -> 772 | E4: =SUM(E5:E6) -> 17 | F4: =SUM(F5:F6) -> 142 | G4: =SUM(G5:G6) -> 65 | H4: =SUM(H5:H6) -> 241 | I4: =SUM(I5:I6) -> 23 | J4: =SUM(J5:J6) -> 200 | ... L4: =SUM(L5:L6) -> 189
B5: 환경부 | C5: =SUM(E5,G5,I5,K5) -> 96 | D5: =SUM(F5,H5,J5,L5) -> 421 | E5: =COUNTIFS('대상 사업장 현황'!$C:$C,'권역,관할기관별 현황'!$B$5,'대상 사업장 현황'!$D:$D,'권역,관할기관별 현황'!E2) -> 12 | F5: =SUMIFS('대상 사업장 현황'!$I:$I,'대상 사업장 현황'!$C:$C,'권역,관할기관별 현황'!$B$5,'대상 사업장 현황'!$D:$D,'권역,관할기관별 현황'!E2) -> 116 | G5: =COUNTIFS('대상 사업장 현황'!$C:$C,'권역,관할기관별 현황'!$B$5,'대상 사업장 현황'!$D:$D,'권역,관할기관별 현황'!G2) -> 28 | H5: =SUMIFS('대상 사업장 현황'!$I:$I,'대상 사업장 현황'!$C:$C,'권역,관할기관별 현황'!$B$5,'대상 사업장 현황'!$D:$D,'권역,관할기관별 현황'!G2) -> 101 | I5: =COUNTIFS('대상 사업장 현황'!$C:$C,'권역,관할기관별 현황'!$B$5,'대상 사업장 현황'!$D:$D,'권역,관할기관별 현황'!I2) -> 17 | J5: =SUMIFS('대상 사업장 현황'!$I:$I,'대상 사업장 현황'!$C:$C,'권역,관할기관별 현황'!$B$5,'대상 사업장 현황'!$D:$D,'권역,관할기관별 현황'!I2) -> 72 | K5: =COUNTIFS('대상 사업장 현황'!$C:$C,'권역,관할기관별 현황'!$B$5,'대상 사업장 현황'!$D:$D,'권역,관할기관별 현황'!K2) -> 39 | L5: =SUMIFS('대상 사업장 현황'!$I:$I,'대상 사업장 현황'!$C:$C,'권역,관할기관별 현황'!$B$5,'대상 사업장 현황'!$D:$D,'권역,관할기관별 현황'!K2) -> 132
B6: 지자체 | C6: =SUM(E6,G6,I6,K6) -> 60 | D6: =SUM(F6,H6,J6,L6) -> 351 | E6: =COUNTIFS('대상 사업장 현황'!$C:$C,'권역,관할기관별 현황'!$B$6,'대상 사업장 현황'!$D:$D,'권역,관할기관별 현황'!E2) -> 5 | F6: =SUMIFS('대상 사업장 현황'!$I:$I,'대상 사업장 현황'!$C:$C,'권역,관할기관별 현황'!$B$6,'대상 사업장 현황'!$D:$D,'권역,관할기관별 현황'!E2) -> 26 | G6: =COUNTIFS('대상 사업장 현황'!$C:$C,'권역,관할기관별 현황'!$B$6,'대상 사업장 현황'!$D:$D,'권역,관할기관별 현황'!G2) -> 37 | H6: =SUMIFS('대상 사업장 현황'!$I:$I,'대상 사업장 현황'!$C:$C,'권역,관할기관별 현황'!$B$6,'대상 사업장 현황'!$D:$D,'권역,관할기관별 현황'!G2) -> 140 | I6: =COUNTIFS('대상 사업장 현황'!$C:$C,'권역,관할기관별 현황'!$B$6,'대상 사업장 현황'!$D:$D,'권역,관할기관별 현황'!I2) -> 6 | J6: =SUMIFS('대상 사업장 현황'!$I:$I,'대상 사업장 현황'!$C:$C,'권역,관할기관별 현황'!$B$6,'대상 사업장 현황'!$D:$D,'권역,관할기관별 현황'!I2) -> 128 | K6: =COUNTIFS('대상 사업장 현황'!$C:$C,'권역,관할기관별 현황'!$B$6,'대상 사업장 현황'!$D:$D,'권역,관할기관별 현황'!K2) -> 12 | L6: =SUMIFS('대상 사업장 현황'!$I:$I,'대상 사업장 현황'!$C:$C,'권역,관할기관별 현황'!$B$6,'대상 사업장 현황'!$D:$D,'권역,관할기관별 현황'!K2) -> 57

Sheet 사업장리스트
B2: ## 총량관리사업장 등록 및 변경 현황
D3: 1 | E3: 2 | F3: 3 | G3: 4 | H3: 5 | I3: 6 | J3: 7 | K3: 8 | L3: 9 | M3: 10 | N3: 11 | O3: 환경부 | P3: =COUNTIF($P$6:$P$1310,O3)-COUNTIFS($P$6:$P$1310,O3,$X$6:$X$1310,"o") -> 540 | R3: 15 | S3: 16 | T3: 17 | U3: 18 | V3: 19 | W3: 20 | X3: 21 | Y3: 22 | Z3: 23 | AA3: 24
D4: =COUNTA(D6:D1319)-COUNTIF(X6:X1319,"o") -> 1184 | G4: =SUBTOTAL(3,G6:G1304) -> 1299 | O4: 지자체 | P4: =COUNTIF($P$6:$P$1310,O4)-COUNTIFS($P$6:$P$1310,O4,$X$6:$X$1310,"o") -> 636 | Q4: =COUNTIFS(Q6:Q1310,"통합허가")-COUNTIFS(Q6:Q1310,"통합허가",X6:X1310,"o") -> 606 | S4: =SUBTOTAL(3,S6:S1310) -> 1261 | W4: =SUBTOTAL(3,W6:W1310) -> 80 | X4: =SUBTOTAL(3,X6:X1428) -> 130 | Y4: =SUBTOTAL(3,Y6:Y1310) -> 1209 | AB4: 대상물질
B5: 연번 | C5: 폴더용 | D5: 사업장ID | E5: 사업자등록번호 | F5: 사업장명 | G5: 권역 | H5: 지역 | I5: 시도 | J5: 관할청 | K5: 주소 | L5: 종 | M5: 대/중/소/공공 | N5: 통계업종 | O5: 업종(세세분류) | P5: 허가주체 | Q5: 통합허가/공동설치 | R5: 통합허가일 | S5: 허가번호 | T5: 최초허가일 | U5: 최신허가일 | V5: 비고 | W5: 신규 | X5: 제외 | Y5: 22년 정산대상 | Z5: 23년 정산대상 | AA5: 사유 | AB5: NOx | AC5: SOx | AD5: TSP
B6: 1 | C6: 512 | D6: 150001 | E6: 120-81-38186 | F6: ㈜그린스코 | G6: 수도권 | H6: 인천광역시 | I6: 남동구 | J6: 수도권대기환경청 | K6: 21689) 인천광역시 남동구 앵고개로654번길 99 (고잔동) | L6: 1종 | M6: 중소기업 | N6: 폐기물처리업 | O6: 지정 폐기물 처리업 | P6: 환경부 | Q6: 통합허가 | R6: 44140 | S6: 2022-139호 | T6: 40184 | U6: 44970 | Y6: o | AB6: O | AD6: O
B7: 2 | C7: 513 | D7: 150002 | E7: 143-81-15565 | F7: 경인환경에너지㈜ | G7: 수도권 | H7: 인천광역시 | I7: 서구 | J7: 수도권대기환경청 | K7: 22743) 인천광역시 서구 사렴로65번길 24 (경서동) | L7: 1종 | M7: 대기업 | N7: 폐기물처리업 | O7: 지정 폐기물 처리업 | P7: 환경부 | Q7: 통합허가 | R7: 43958 | S7: 2022-138호 | T7: 39498 | U7: 44922 | Y7: o | AB7: O | AD7: O
B8: 3 | C8: 514 | D8: 150003 | E8: 121-86-00257 | F8: 이건에너지㈜ | G8: 수도권 | H8: 인천광역시 | I8: 남구 | J8: 수도권대기환경청 | K8: 22108) 인천광역시 남구 송림로307번길 132 (도화동) | L8: 1종 | M8: 중견기업 | N8: 전기가스증기업(기타발전_난방) | O8: 증기, 냉ㆍ온수 및 공기 조절 공급업 | P8: 환경부 | Q8: 통합허가 | R8: 44162 | S8: 2022-141호 | T8: 40280 | U8: 44922 | Y8: o | AB8: O | AD8: O
B9: 4 | C9: 515 | D9: 150004 | E9: 123-81-00184 | F9: 대양제지공업㈜ | G9: 수도권 | H9: 경기도 | I9: 안산시 | J9: 수도권대기환경청 | K9: 15408) 경기도 안산시 단원구 신원로 50 (신길동) (신길동) | L9: 1종 | M9: 대기업 | N9: 종이제품제조업 | O9: 기타 종이 및 판지 제조업 | P9: 지자체 | Q9: 통합허가 | R9: 45288 | S9: - | T9: 39447 | U9: 44942 | Y9: o | AB9: O | AD9: O
B10: 5 | C10: 516 | D10: 150005 | E10: 134-81-08890 | F10: 대일개발㈜ | G10: 수도권 | H10: 경기도 | I10: 안산시 | J10: 수도권대기환경청 | K10: 15619) 경기도 안산시 단원구 지원로 7 (성곡동) (성곡동) | L10: 1종 | M10: 중소기업 | N10: 폐기물처리업 | O10: 지정 폐기물 처리업 | P10: 환경부 | Q10: 통합허가 | R10: 44165 | S10: 2022-154호 | T10: 39447 | U10: 44922 | Y10: o | AB10: O | AD10: O
B11: 6 | C11: 517 | D11: 150006 | E11: 134-81-22290 | F11: 성림유화㈜ | G11: 수도권 | H11: 경기도 | I11: 안산시 | J11: 수도권대기환경청 | K11: 15619) 경기도 안산시 단원구 첨단로 215 (성곡동) (성곡동) | L11: 1종 | M11: 중소기업 | N11: 폐기물처리업 | O11: 건설 폐기물 처리업 | P11: 환경부 | Q11: 통합허가 | R11: 43909 | S11: 2022-160호 | T11: 39447 | U11: 45260 | Y11: o | AA11: 23년 Sox 총량 제외(배출량 4톤 미만) | AB11: O | AC11: O | AD11: O
B12: 7 | C12: 518 | D12: 150007 | E12: 134-81-05796 | F12: 태림페이퍼㈜ | G12: 수도권 | H12: 경기도 | I12: 안산시 | J12: 수도권대기환경청 | K12: 15609) 경기도 안산시 단원구 해안로 104 (목내동) | L12: 1종 | M12: 대기업 | N12: 종이제품제조업 | O12: 기타 종이 및 판지 제조업 | P12: 지자체 | Q12: 통합허가 | R12: 45287 | S12: - | T12: 40178 | U12: 44942 | Y12: o | AB12: O | AD12: O
B13: 8 | C13: 519 | D13: 150008 | E13: 134-81-40584 | F13: 부경산업㈜ | G13: 수도권 | H13: 경기도 | I13: 안산시 | J13: 수도권대기환경청 | K13: 15409) 경기도 안산시 단원구 신원로91번길 16 (성곡동) | L13: 1종 | M13: 중소기업 | N13: 폐기물처리업 | O13: 지정 폐기물 처리업 | P13: 환경부 | Q13: 통합허가 | R13: 44000 | S13: 2022-157호 | T13: 39447 | U13: 44922 | Y13: o | AB13: O | AD13: O
B14: 9 | C14: 520 | D14: 150009 | E14: 134-81-02858 | F14: 신대양제지㈜ | G14: 수도권 | H14: 경기도 | I14: 안산시 | J14: 수도권대기환경청 | K14: 15417) 경기도 안산시 단원구 별망로 129 (성곡동) | L14: 1종 | M14: 중견기업 | N14: 종이제품제조업 | O14: 기타 종이 및 판지 제조업 | P14: 지자체 | Q14: 통합허가 | R14: 45288 | S14: - | T14: 39447 | U14: 44942 | Y14: o | AB14: O | AC14: O | AD14: O
B15: 10 | C15: 521 | D15: 150010 | E15: 261-86-01535 | F15: 신대양제지반월㈜ | G15: 수도권 | H15: 경기도 | I15: 안산시 | J15: 수도권대기환경청 | K15: 15609) 경기도 안산시 단원구 목내로 29 (목내동) | L15: 1종 | M15: 중소기업 | N15: 종이제품제조업 | O15: 그 외 기타 종이 및 판지 제품 제조업 | P15: 지자체 | Q15: 통합허가 | R15: 45279 | S15: - | T15: 39482 | U15: 44942 | Y15: o | AB15: O | AD15: O
B16: 11 | C16: 522 | D16: 150011 | E16: 140-85-19288 | F16: 아세아제지㈜시화공장 | G16: 수도권 | H16: 경기도 | I16: 시흥시 | J16: 수도권대기환경청 | K16: 15013) 경기도 시흥시 서해안로 231 (정왕동) | L16: 1종 | M16: 대기업 | N16: 종이제품제조업 | O16: 크라프트지 및 상자용 판지 제조업 | P16: 지자체 | Q16: 통합허가 | R16: 45279 | S16: - | T16: 39447 | U16: 44942 | Y16: o | AB16: O | AD16: O
B17: 12 | C17: 523 | D17: 150012 | E17: 739-86-02584 | F17: 코어엔텍㈜ | G17: 수도권 | H17: 경기도 | I17: 시흥시 | J17: 수도권대기환경청 | K17: 15087) 경기도 시흥시 소망공원로 5 (정왕동) 정왕동 | L17: 1종 | M17: 중소기업 | N17: 폐기물처리업 | O17: 지정 폐기물 처리업 | P17: 환경부 | Q17: 통합허가 | R17: 43910 | S17: 2021-56호 | T17: 40907 | U17: 45119 | V17: 사업장명 변경(케이지이티에스㈜ → 코어엔텍㈜): 법인분할에 따른 상호명 변경 | Y17: o | AB17: O | AC17: O | AD17: O
B18: 13 | C18: 524 | D18: 150013 | E18: 140-82-00212 | F18: 시흥그린센터 | G18: 수도권 | H18: 경기도 | I18: 시흥시 | J18: 수도권대기환경청 | K18: 15100) 경기도 시흥시 옥구천서로9번길 45 (정왕동) | L18: 1종 | M18: 공공기관 | N18: 폐기물처리업 | O18: 지정 외 폐기물 처리업 | P18: 환경부 | Q18: 통합허가 | R18: 44137 | S18: 2022-163호 | T18: 40178 | U18: 44922 | V18: 사업장명 변경(시흥도시공사→시흥그린센터) | Y18: o | AB18: O | AD18: O
B19: 14 | C19: 525 | D19: 150014 | E19: 134-81-78493 | F19: ㈜지에스이앤알 | G19: 수도권 | H19: 경기도 | I19: 안산시 | J19: 수도권대기환경청 | K19: 15614) 경기도 안산시 단원구 해안로 404 (초지동) 지에스이앤알 | L19: 1종 | M19: 대기업 | N19: 전기가스증기업(기타발전_난방) | O19: 증기, 냉ㆍ온수 및 공기 조절 공급업 | P19: 환경부 | Q19: 통합허가 | R19: 43178 | S19: 2022-166호 | T19: 39447 | U19: 44922 | Y19: o | AB19: O | AC19: O | AD19: O
B20: 15 | C20: 526 | D20: 150015 | E20: 134-81-02799 | F20: 한국환경개발㈜시화공장 | G20: 수도권 | H20: 경기도 | I20: 안산시 | J20: 수도권대기환경청 | K20: 15619) 경기도 안산시 단원구 첨단로207번길 5 (성곡동) (성곡동 724 시화공단 5바 626호 ) | L20: 1종 | M20: 중소기업 | N20: 폐기물처리업 | O20: 지정 폐기물 처리업 | P20: 환경부 | Q20: 통합허가 | R20: 43886 | S20: 2021-58호 | T20: 39447 | U20: 44922 | Y20: o | AB20: O | AD20: O
B21: 16 | C21: 527 | D21: 150016 | E21: 133-81-22400 | F21: ㈜고려제지 | G21: 수도권 | H21: 경기도 | I21: 시흥시 | J21: 수도권대기환경청 | K21: 15098) 경기도 시흥시 군자천로 99 (정왕동) | L21: 1종 | M21: 중견기업 | N21: 종이제품제조업 | O21: 기타 종이 및 판지 제조업 | P21: 지자체 | Q21: 통합허가 | R21: 45279 | S21: - | T21: 39447 | U21: 44942 | Y21: o | AB21: O | AD21: O
B22: 17 | C22: 528 | D22: 150017 | E22: 140-85-17621 | F22: 코어엔텍(주)에너지공장 | G22: 수도권 | H22: 경기도 | I22: 시흥시 | J22: 수도권대기환경청 | K22: 15101) 경기도 시흥시 옥구천동로 46 (정왕동) (정왕동) | L22: 1종 | M22: 중견기업 | N22: 전기가스증기업(기타발전_난방) | O22: 증기, 냉ㆍ온수 및 공기 조절 공급업 | P22: 환경부 | Q22: 통합허가 | R22: 43629 | S22: 2022-50호 | T22: 39447 | U22: 44922 | V22: 사업장명 변경(KGETS㈜에너지공장 → 코어엔텍(주)에너지공장) | Y22: o | AB22: O | AC22: O | AD22: O
B23: 18 | C23: 529 | D23: 150020 | E23: 289-88-00504 | F23: 서울에너지공사 동부지사(노원열병합발전소) | G23: 수도권 | H23: 서울특별시 | I23: 노원구 | J23: 수도권대기환경청 | K23: 01772) 서울특별시 노원구 덕릉로70길 99 (상계동) 서울에너지공사 동부지사(노원열병합발전소) | L23: 1종 | M23: 공공기관 | N23: 전기가스증기업(기타발전_난방) | O23: 증기, 냉ㆍ온수 및 공기 조절 공급업 | P23: 환경부 | Q23: 통합허가 | R23: 44116 | S23: 2021-21호 | T23: 39464 | U23: 44922 | Y23: o | AB23: O
B24: 19 | C24: 530 | D24: 150021 | E24: 104-83-00469 | F24: 노원자원회수시설 | G24: 수도권 | H24: 서울특별시 | I24: 노원구 | J24: 수도권대기환경청 | K24: 01772) 서울특별시 노원구 덕릉로70길 99 (상계동) | L24: 1종 | M24: 공공기관 | N24: 폐기물처리업 | O24: 지정 외 폐기물 처리업 | P24: 환경부 | Q24: 통합허가 | R24: 43859 | S24: 2020-119호 | T24: 39554 | U24: 44922 | Y24: o | AB24: O | AD24: O
B25: 20 | C25: 531 | D25: 150022 | E25: 104-83-00469 | F25: 양천자원회수시설 | G25: 수도권 | H25: 서울특별시 | I25: 양천구 | J25: 수도권대기환경청 | K25: 07978) 서울특별시 양천구 안양천로 1121 (목동) (목동) | L25: 1종 | M25: 공공기관 | N25: 폐기물처리업 | O25: 지정 외 폐기물 처리업 | P25: 환경부 | Q25: 통합허가 | R25: 43769 | S25: 2020-123호 | T25: 39554 | U25: 44922 | Y25: o | AB25: O | AD25: O
B26: 21 | C26: 532 | D26: 150023 | E26: 289-88-00504 | F26: 서울에너지공사 (목동열병합발전소) | G26: 수도권 | H26: 서울특별시 | I26: 양천구 | J26: 수도권대기환경청 | K26: 07978) 서울특별시 양천구 목동서로 20 (목동) | L26: 1종 | M26: 공공기관 | N26: 전기가스증기업(기타발전_난방) | O26: 증기, 냉ㆍ온수 및 공기 조절 공급업 | P26: 환경부 | Q26: 통합허가 | R26: 44070 | S26: 2021-18호 | T26: 40144 | U26: 44922 | Y26: o | AB26: O
B27: 22 | C27: 533 | D27: 150024 | E27: 105-85-14956 | F27: 한국중부발전㈜서울발전본부 | G27: 수도권 | H27: 서울특별시 | I27: 마포구 | J27: 수도권대기환경청 | K27: 04082) 서울특별시 마포구 토정로 56 (합정동) | L27: 1종 | M27: 공공기관 | N27: 전기가스증기업(발전_기력_복합) | O27: 화력 발전업 | P27: 환경부 | Q27: 통합허가 | R27: 43851 | S27: 2022-137호 | T27: 39464 | U27: 44922 | Y27: o | AB27: O
B28: 23 | C28: 534 | D28: 150028 | E28: 104-83-00469 | F28: 강남자원회수시설 | G28: 수도권 | H28: 서울특별시 | I28: 강남구 | J28: 수도권대기환경청 | K28: 06340) 서울특별시 강남구 남부순환로 3318 (일원동) | L28: 1종 | M28: 공공기관 | N28: 폐기물처리업 | O28: 지정 외 폐기물 처리업 | P28: 환경부 | Q28: 통합허가 | R28: 43682 | S28: 2022-135호 | T28: 39553 | U28: 44922 | Y28: o | AB28: O | AD28: O
B29: 24 | C29: 535 | D29: 150030 | E29: 219-85-00014 | F29: ㈜호텔롯데(롯데월드) | G29: 수도권 | H29: 서울특별시 | I29: 송파구 | J29: 수도권대기환경청 | K29: 05554) 서울특별시 송파구 올림픽로 240 (잠실동) | L29: 2종 | M29: 대기업 | N29: 기타 | O29: 호텔업 | P29: 지자체 | Q29: - | R29: - | S29: - | T29: 39553 | U29: 44666 | Y29: o | AB29: O
B30: 25 | C30: 536 | D30: 150031 | E30: 109-81-33530 | F30: ㈜SUN&L | G30: 수도권 | H30: 인천광역시 | I30: 중구 | J30: 수도권대기환경청 | K30: 22300) 인천광역시 중구 월미로 96 (북성동1가) (구주소 : 중구 북성동1가 6-32 ) | L30: 1종 | M30: 중견기업 | N30: 기타 | O30: 박판, 합판 및 유사 적층판 제조업 | P30: 환경부 | Q30: 통합허가 | R30: 44187 | S30: 2021-22호 | T30: 39444 | U30: 45063 | V30: 사업장명 변경(선창산업㈜ → ㈜SUN&L) | Y30: o | AB30: O | AD30: O
B31: 26 | C31: 537 | D31: 150032 | E31: 121-81-10309 | F31: 대성목재공업㈜ | G31: 수도권 | H31: 인천광역시 | I31: 중구 | J31: 수도권대기환경청 | K31: 22300) 인천광역시 중구 월미로 164 (북성동1가) 대성목재공업 주식회사 | L31: 1종 | M31: 대기업 | N31: 기타 | O31: 강화 및 재생 목재 제조업 | P31: 지자체 | Q31: - | R31: - | S31: - | T31: 39444 | U31: 2023-01-00 | V31: 23총량제외(사업장폐쇄) | X31: o | Y31: o | AA31: 23총량제외(동화기업(주)중구로 편입)
B32: 27 | C32: 538 | D32: 150033 | E32: 121-85-28165 | F32: 씨제이제일제당㈜ 인천1공장 | G32: 수도권 | H32: 인천광역시 | I32: 중구 | J32: 수도권대기환경청 | K32: 22332) 인천광역시 중구 아암대로 20 (신흥동3가) (지번: 신흥동3가 7-121) | L32: 1종 | M32: 대기업 | N32: 기타 | O32: 설탕 제조업 | P32: 지자체 | Q32: - | R32: - | S32: - | T32: 39444 | U32: 2023-01-00 | Y32: o | AB32: O
B33: 28 | C33: 539 | D33: 150034 | E33: 121-81-07309 | F33: 대한제당 | G33: 수도권 | H33: 인천광역시 | I33: 중구 | J33: 수도권대기환경청 | K33: 22300) 인천광역시 중구 월미로 116 (북성동1가) | L33: 1종 | M33: 중견기업 | N33: 기타 | O33: 설탕 제조업 | P33: 지자체 | Q33: - | R33: - | S33: - | T33: 39444 | U33: 2023-01-00 | Y33: o | AB33: O
B34: 29 | C34: 540 | D34: 150035 | E34: 121-81-10385 | F34: 현대제철㈜ 인천공장 | G34: 수도권 | H34: 인천광역시 | I34: 동구 | J34: 수도권대기환경청 | K34: 22525) 인천광역시 동구 중봉대로 63 (송현동) | L34: 1종 | M34: 대기업 | N34: 1차금속제조업(철강) | O34: 기타 1차 비철금속 제조업 | P34: 환경부 | Q34: 통합허가 | R34: 44365 | S34: 2021-60호 | T34: 39444 | U34: 45266 | Y34: o | AB34: O | AC34: O
B35: 30 | C35: 541 | D35: 150036 | E35: 492-85-02432 | F35: 동국제강㈜ 인천공장 | G35: 수도권 | H35: 인천광역시 | I35: 동구 | J35: 수도권대기환경청 | K35: 22524) 인천광역시 동구 중봉대로 15 (송현동) (구주소 : 동구 송현동 1) | L35: 1종 | M35: 중견기업 | N35: 1차금속제조업(철강) | O35: 열간 압연 및 압출제품 제조업 | P35: 환경부 | Q35: 통합허가 | R35: 44293 | S35: 2021-44호 | T35: 39444 | U35: 45154 | V35: 상호변경(동국제강㈜ → 동국제강㈜ 인천공장) | Y35: o | AB35: O | AC35: O
B36: 31 | C36: 542 | D36: 150041 | E36: 202-81-62692 | F36: 인그리디언코리아(유) 부평공장 | G36: 수도권 | H36: 인천광역시 | I36: 부평구 | J36: 수도권대기환경청 | K36: 21448) 인천광역시 부평구 백범로 584 (십정동) 인그리디언코리아 부평공장 | L36: 1종 | M36: 대기업 | N36: 기타 | O36: 전분제품 및 당류 제조업 | P36: 지자체 | Q36: - | R36: - | S36: - | T36: 39383 | U36: 2023-01-00 | Y36: o | AB36: O | AC36: O | AD36: O
B37: 32 | C37: 543 | D37: 150043 | E37: 137-86-33904 | F37: SK인천석유화학㈜ | G37: 수도권 | H37: 인천광역시 | I37: 서구 | J37: 수도권대기환경청 | K37: 22771) 인천광역시 서구 봉수대로 415 (원창동) | L37: 1종 | M37: 대기업 | N37: 화학물질제조업(석유정제) | O37: 원유 정제처리업 | P37: 환경부 | Q37: 통합허가 | R37: 44900 | S37: 2023-79호 | T37: 39444 | U37: 45133 | Y37: o | AB37: O | AC37: O | AD37: O
B38: 33 | C38: 544 | D38: 150044 | E38: 137-81-09582 | F38: ㈜케이비아이텍 | G38: 수도권 | H38: 인천광역시 | I38: 서구 | J38: 수도권대기환경청 | K38: 22774) 인천광역시 서구 건지로153번길 54 (석남동) (구주소 : 서구 석남동 223-21 ) | L38: 1종 | M38: 중소기업 | N38: 폐기물처리업 | O38: 지정 폐기물 처리업 | P38: 환경부 | Q38: 통합허가 | R38: 43957 | S38: 2022-122호 | T38: 39444 | U38: 44922 | Y38: o | AB38: O | AD38: O
B39: 34 | C39: 545 | D39: 150045 | E39: 104-81-58195 | F39: ㈜포스코인터내셔널 | G39: 수도권 | H39: 인천광역시 | I39: 서구 | J39: 수도권대기환경청 | K39: 22852) 인천광역시 서구 중봉대로405번길 314 (원창동) | L39: 1종 | M39: 대기업 | N39: 전기가스증기업(발전_기력_복합) | O39: 화력 발전업 | P39: 환경부 | Q39: 통합허가 | R39: 43781 | S39: 2022-145호 | T39: 39444 | U39: 45260 | V39: 사업장명 변경(포스코에너지㈜ → ㈜포스코인터내셔널), 23년 Sox 총량제외(배출량 4톤 미만) | Y39: o | AB39: O | AC39: O
B40: 35 | C40: 546 | D40: 150047 | E40: 137-85-10020 | F40: 한국중부발전㈜ 인천발전본부 | G40: 수도권 | H40: 인천광역시 | I40: 서구 | J40: 수도권대기환경청 | K40: 22852) 인천광역시 서구 중봉대로405번길 411 (원창동) | L40: 1종 | M40: 공공기관 | N40: 전기가스증기업(발전_기력_복합) | O40: 화력 발전업 | P40: 환경부 | Q40: 통합허가 | R40: 43731 | S40: 2021-36호 | T40: 39444 | U40: 44922 | Y40: o | AB40: O
B41: 36 | C41: 547 | D41: 150048 | E41: 137-85-10054 | F41: 한국남부발전(주)신인천빛드림본부 | G41: 수도권 | H41: 인천광역시 | I41: 서구 | J41: 수도권대기환경청 | K41: 22755) 인천광역시 서구 장도로 57 (경서동) | L41: 1종 | M41: 공공기관 | N41: 전기가스증기업(발전_기력_복합) | O41: 화력 발전업 | P41: 환경부 | Q41: 통합허가 | R41: 43646 | S41: 2020-131호 | T41: 39444 | U41: 45112 | V41: 사업장명 변경: 한국남부발전(주)신인천발전본부 → 한국남부발전(주)신인천빛드림본부 | Y41: o | AB41: O
...
