Workbook

Sheet 표지
B7: 대구∙경북 광역권 통계 - 기초항목 50
A10: • | B10: 본 자료는 대구광역시와 경상북도가 지역균형발전을 뒷받침할
B11: 대구경북 광역권 전반에 대한 정보를 제공하고자 작성하였습니다.
A13: • | B13: 대구, 경북이 보유한 기본통계 중에서 가장 기초가 되는 50개 항목을 선정하고,
B14: 각 통계항목을 통합하여 대경권 통계(2015년 ~ 2021년)로 수록하였습니다.
A16: • | B16: 통계에 대한 상세한 내용은 각 통계표의 출처(자료)를 참고하시기 바랍니다.
A46: • | B46: 자료 문의 | C46: : 대구광역시 빅데이터과 (053-803-5433)
C47: 경상북도 빅데이터과 (054-880-2532)

Sheet 목록
A1: 대구·경북 광역권통계 - 기초항목 50
A3: 부문 | B3: 항 목 명 | C3: 통계명(출처) | D3: 주기 | E3: 작성년도
A4: 토지기후 | B4: 1. 행정구역 현황 | C4: 기본통계 | D4: 년 | E4: 2015~2021 | F4: GO
B5: 2. 토지지목별 현황 | D5: 년 | E5: 2015~2021 | F5: GO
B6: 3. 월별 강수량 | D6: 월/년 | E6: 2015~2021 | F6: GO
A7: 인구 | B7: 4. 세대 및 인구 현황 | C7: 주민등록인구통계 | D7: 년 | E7: 2015~2021 | F7: GO
B8: 5. 연령별 인구 | D8: 년 | E8: 2015~2021 | F8: GO
B9: 6. 인구동향 | C9: 기본통계 | D9: 년 | E9: 2015~2021 | F9: GO
B10: 6-1. 인구이동 | D10: 년 | E10: 2015~2021 | F10: GO
B11: 7. 가구원수별 가구 | D11: 년 | E11: 2015~2021 | F11: GO
A12: 사업체 | B12: 8. 산업별 사업체수 | C12: 사업체 | D12: 년 | E12: 2015~2021 | F12: GO
B13: 8-1. 산업별 종사자수 | D13: 년 | E13: 2015~2021 | F13: GO
B14: 9. 종사자규모별 사업체수 | D14: 년 | E14: 2015~2021 | F14: GO
B15: 9-1. 종사자규모별 종사자수 | D15: 년 | E15: 2015~2021 | F15: GO
A16: 소득 | B16: 10. 지역소득(생산, 소득, 지출), 1인당 | C16: 지역내총생산 | D16: 년 | E16: 2015~2021 | F16: GO
A17: 농림수산업 | B17: 11. 농가 현황 | C17: 기본통계 | D17: 년 | E17: 2015~2021 | F17: GO
B18: 12. 작물 생산량 | D18: 년 | E18: 2015~2021 | F18: GO
B19: 13. 가축사육 | D19: 년 | E19: 2015~2021 | F19: GO
B20: 14. 임산물 생산량 | D20: 년 | E20: 2015~2021 | F20: GO
A21: 광업제조업 | B21: 15. 제조업 주요지표 | C21: 광업제조업 | D21: 년 | E21: 2015~2021 | F21: GO
B22: 16. 제조업 중분류별 사업체수, 종사자수 | D22: 년 | E22: 2015~2021 | F22: GO
B23: 17. 산업 및 농공단지 현황 | C23: 기본통계 | D23: 년 | E23: 2015~2021 | F23: GO
A24: 가스수도 | B24: 18. 가스 공급량 | C24: 기본통계 | D24: 년 | E24: 2015~2021 | F24: GO
B25: 19. 상수도 보급현황 | D25: 년 | E25: 2015~2021 | F25: GO
B26: 20. 하수도 보급률 | D26: 년 | E26: 2015~2021 | F26: GO
A27: 유통금융 | B27: 21. 유통업체 현황 | C27: 기본통계 | D27: 년 | E27: 2015~2020 | F27: GO
B28: 22. 수출입 통관실적 | D28: 년 | E28: 2015~2021 | F28: GO
B29: 23. 수출 수입 실적 | D29: 년 | E29: 2015~2021 | F29: GO
A30: 주택건설 | B30: 24. 주택현황 및 보급률 | C30: 기본통계 | D30: 년 | E30: 2015~2021 | F30: GO
B31: 25. 건축허가 | D31: 년 | E31: 2015~2021 | F31: GO
B32: 26. 용도지역 현황 | D32: 년 | E32: 2015~2021 | F32: GO
B33: 27. 도로현황 | D33: 년 | E33: 2015~2021 | F33: GO
A34: 교통관광 | B34: 28. 자동차 등록 | C34: 기본통계 | D34: 년 | E34: 2015~2021 | F34: GO
B35: 29. 영업용자동차 여객수송 | D35: 년 | E35: 2015~2021 | F35: GO
B36: 30. 관광사업체 등록 | D36: 년 | E36: 2015~2021 | F36: GO
A37: 보건위생 | B37: 31. 의료기관 현황 | C37: 기본통계 | D37: 년 | E37: 2015~2021 | F37: GO
B38: 32. 의료인력 및 보건소인력 | D38: 년 | E38: 2015~2021 | F38: GO
B39: 33. 식품위생관계업소 현황 | D39: 년 | E39: 2015~2021 | F39: GO
A40: 사회복지 | B40: 34. 건강보험 적용인구 | C40: 기본통계 | D40: 년 | E40: 2015~2021 | F40: GO
B41: 35. 국민연금 가입자 현황 | D41: 년 | E41: 2015~2021 | F41: GO
...

Sheet 1.행정구역
A1: [목록]으로
A2: 1. 행정구역 현황
S4: 단위:개, ㎢, %
B5: 시·군 ·구 | F5: 읍·면·동 | K5: 출장소 | N5: 통·리 | Q5: 반 | R5: 면 적 (㎢)
C6: 시 | D6: 군 | E6: 구 | G6: 읍 | H6: 면 | I6: 동 | L6: 시·군·구 | M6: 읍·면 | O6: 통 | P6: 리 (행정) | S6: 구성비(%)
I7: 행정 | J7: 법정
A9: 대경권
A10: 2015 | B10: =SUM(B19,B28) -> 31 | C10: =SUM(C19,C28) -> 10 | D10: =SUM(D19,D28) -> 14 | E10: =SUM(E19,E28) -> 7 | F10: =SUM(F19,F28) -> 471 | G10: =SUM(G19,G28) -> 39 | H10: =SUM(H19,H28) -> 208 | I10: =SUM(I19,I28) -> 224 | ... S10: =SUM(S19,S28) -> 100
A11: 2016 | B11: =SUM(B20,B29) -> 31 | C11: =SUM(C20,C29) -> 10 | D11: =SUM(D20,D29) -> 14 | E11: =SUM(E20,E29) -> 7 | F11: =SUM(F20,F29) -> 471 | G11: =SUM(G20,G29) -> 39 | H11: =SUM(H20,H29) -> 208 | I11: =SUM(I20,I29) -> 224 | ... S11: =SUM(S20,S29) -> 100
A12: 2017 | B12: =SUM(B21,B30) -> 31 | C12: =SUM(C21,C30) -> 10 | D12: =SUM(D21,D30) -> 14 | E12: =SUM(E21,E30) -> 7 | F12: =SUM(F21,F30) -> 471 | G12: =SUM(G21,G30) -> 39 | H12: =SUM(H21,H30) -> 208 | I12: =SUM(I21,I30) -> 224 | ... S12: =SUM(S21,S30) -> 100
A13: 2018 | B13: =SUM(B22,B31) -> 31 | C13: =SUM(C22,C31) -> 10 | D13: =SUM(D22,D31) -> 14 | E13: =SUM(E22,E31) -> 7 | F13: =SUM(F22,F31) -> 471 | G13: =SUM(G22,G31) -> 42 | H13: =SUM(H22,H31) -> 205 | I13: =SUM(I22,I31) -> 224 | ... S13: =SUM(S22,S31) -> 100
A14: 2019 | B14: =SUM(B23,B32) -> 31 | C14: =SUM(C23,C32) -> 10 | D14: =SUM(D23,D32) -> 14 | E14: =SUM(E23,E32) -> 7 | F14: =SUM(F23,F32) -> 471 | G14: =SUM(G23,G32) -> 42 | H14: =SUM(H23,H32) -> 205 | I14: =SUM(I23,I32) -> 224 | ... S14: =SUM(S23,S32) -> 100
A15: 2020 | B15: =SUM(B24,B33) -> 31 | C15: =SUM(C24,C33) -> 10 | D15: =SUM(D24,D33) -> 14 | E15: =SUM(E24,E33) -> 7 | F15: =SUM(F24,F33) -> 473 | G15: =SUM(G24,G33) -> 43 | H15: =SUM(H24,H33) -> 204 | I15: =SUM(I24,I33) -> 226 | ... S15: =SUM(S24,S33) -> 100
A16: 2021 | B16: =SUM(B25,B34) -> 31 | C16: =SUM(C25,C34) -> 10 | D16: =SUM(D25,D34) -> 14 | E16: =SUM(E25,E34) -> 7 | F16: =SUM(F25,F34) -> 472 | G16: =SUM(G25,G34) -> 44 | H16: =SUM(H25,H34) -> 203 | I16: =SUM(I25,I34) -> 225 | ... S16: =SUM(S25,S34) -> 100
A18: 대구광역시
A19: 2015 | B19: =VLOOKUP($A19&$A$18, '[1]1.행정구역'!$A$9:$U$71, 4, FALSE) -> 8 | C19: =VLOOKUP($A19&$A$18, '[1]1.행정구역'!$A$9:$U$71, 5, FALSE) -> 0 | D19: =VLOOKUP($A19&$A$18, '[1]1.행정구역'!$A$9:$U$71, 6, FALSE) -> 1 | E19: =VLOOKUP($A19&$A$18, '[1]1.행정구역'!$A$9:$U$71, 7, FALSE) -> 7 | F19: =VLOOKUP($A19&$A$18, '[1]1.행정구역'!$A$9:$U$71, 8, FALSE) -> 139 | G19: =VLOOKUP($A19&$A$18, '[1]1.행정구역'!$A$9:$U$71, 9, FALSE) -> 3 | H19: =VLOOKUP($A19&$A$18, '[1]1.행정구역'!$A$9:$U$71, 10, FALSE) -> 6 | I19: =VLOOKUP($A19&$A$18, '[1]1.행정구역'!$A$9:$U$71, 11, FALSE) -> 130 | J19: =VLOOKUP($A19&$A$18, '[1]1.행정구역'!$A$9:$U$71, 12, FALSE) -> 195 | K19: =VLOOKUP($A19&$A$18, '[1]1.행정구역'!$A$9:$U$71, 13, FALSE) -> 2 | L19: =VLOOKUP($A19&$A$18, '[1]1.행정구역'!$A$9:$U$71, 14, FALSE) -> - | M19: =VLOOKUP($A19&$A$18, '[1]1.행정구역'!$A$9:$U$71, 15, FALSE) -> 2 | N19: =VLOOKUP($A19&$A$18, '[1]1.행정구역'!$A$9:$U$71, 16, FALSE) -> 3560 | O19: =VLOOKUP($A19&$A$18, '[1]1.행정구역'!$A$9:$U$71, 17, FALSE) -> 3294 | P19: =VLOOKUP($A19&$A$18, '[1]1.행정구역'!$A$9:$U$71, 18, FALSE) -> 266 | Q19: =VLOOKUP($A19&$A$18, '[1]1.행정구역'!$A$9:$U$71, 19, FALSE) -> 23442 | R19: =VLOOKUP($A19&$A$18, '[1]1.행정구역'!$A$9:$U$71, 20, FALSE) -> 883.56 | S19: =R19/R10*100 -> 4.4368117 | T19: =VLOOKUP($A19&$A$18, '[1]1.행정구역'!$A$9:$U$71, 5, FALSE) -> 0
A20: 2016 | B20: =VLOOKUP($A20&$A$18, '[1]1.행정구역'!$A$9:$U$71, 4, FALSE) -> 8 | C20: =VLOOKUP($A20&$A$18, '[1]1.행정구역'!$A$9:$U$71, 5, FALSE) -> 0 | D20: =VLOOKUP($A20&$A$18, '[1]1.행정구역'!$A$9:$U$71, 6, FALSE) -> 1 | E20: =VLOOKUP($A20&$A$18, '[1]1.행정구역'!$A$9:$U$71, 7, FALSE) -> 7 | F20: =VLOOKUP($A20&$A$18, '[1]1.행정구역'!$A$9:$U$71, 8, FALSE) -> 139 | G20: =VLOOKUP($A20&$A$18, '[1]1.행정구역'!$A$9:$U$71, 9, FALSE) -> 3 | H20: =VLOOKUP($A20&$A$18, '[1]1.행정구역'!$A$9:$U$71, 10, FALSE) -> 6 | I20: =VLOOKUP($A20&$A$18, '[1]1.행정구역'!$A$9:$U$71, 11, FALSE) -> 130 | J20: =VLOOKUP($A20&$A$18, '[1]1.행정구역'!$A$9:$U$71, 12, FALSE) -> 195 | K20: =VLOOKUP($A20&$A$18, '[1]1.행정구역'!$A$9:$U$71, 13, FALSE) -> 2 | L20: =VLOOKUP($A20&$A$18, '[1]1.행정구역'!$A$9:$U$71, 14, FALSE) -> - | M20: =VLOOKUP($A20&$A$18, '[1]1.행정구역'!$A$9:$U$71, 15, FALSE) -> 2 | N20: =VLOOKUP($A20&$A$18, '[1]1.행정구역'!$A$9:$U$71, 16, FALSE) -> 3605 | O20: =VLOOKUP($A20&$A$18, '[1]1.행정구역'!$A$9:$U$71, 17, FALSE) -> 3319 | P20: =VLOOKUP($A20&$A$18, '[1]1.행정구역'!$A$9:$U$71, 18, FALSE) -> 286 | Q20: =VLOOKUP($A20&$A$18, '[1]1.행정구역'!$A$9:$U$71, 19, FALSE) -> 23934 | R20: =VLOOKUP($A20&$A$18, '[1]1.행정구역'!$A$9:$U$71, 20, FALSE) -> 883.56 | S20: =R20/R11*100 -> 4.4366825
A21: 2017 | B21: =VLOOKUP($A21&$A$18, '[1]1.행정구역'!$A$9:$U$71, 4, FALSE) -> 8 | C21: =VLOOKUP($A21&$A$18, '[1]1.행정구역'!$A$9:$U$71, 5, FALSE) -> 0 | D21: =VLOOKUP($A21&$A$18, '[1]1.행정구역'!$A$9:$U$71, 6, FALSE) -> 1 | E21: =VLOOKUP($A21&$A$18, '[1]1.행정구역'!$A$9:$U$71, 7, FALSE) -> 7 | F21: =VLOOKUP($A21&$A$18, '[1]1.행정구역'!$A$9:$U$71, 8, FALSE) -> 139 | G21: =VLOOKUP($A21&$A$18, '[1]1.행정구역'!$A$9:$U$71, 9, FALSE) -> 3 | H21: =VLOOKUP($A21&$A$18, '[1]1.행정구역'!$A$9:$U$71, 10, FALSE) -> 6 | I21: =VLOOKUP($A21&$A$18, '[1]1.행정구역'!$A$9:$U$71, 11, FALSE) -> 130 | J21: =VLOOKUP($A21&$A$18, '[1]1.행정구역'!$A$9:$U$71, 12, FALSE) -> 195 | K21: =VLOOKUP($A21&$A$18, '[1]1.행정구역'!$A$9:$U$71, 13, FALSE) -> 2 | L21: =VLOOKUP($A21&$A$18, '[1]1.행정구역'!$A$9:$U$71, 14, FALSE) -> - | M21: =VLOOKUP($A21&$A$18, '[1]1.행정구역'!$A$9:$U$71, 15, FALSE) -> 2 | N21: =VLOOKUP($A21&$A$18, '[1]1.행정구역'!$A$9:$U$71, 16, FALSE) -> 3651 | O21: =VLOOKUP($A21&$A$18, '[1]1.행정구역'!$A$9:$U$71, 17, FALSE) -> 3352 | P21: =VLOOKUP($A21&$A$18, '[1]1.행정구역'!$A$9:$U$71, 18, FALSE) -> 299 | Q21: =VLOOKUP($A21&$A$18, '[1]1.행정구역'!$A$9:$U$71, 19, FALSE) -> 24356 | R21: =VLOOKUP($A21&$A$18, '[1]1.행정구역'!$A$9:$U$71, 20, FALSE) -> 883.6 | S21: =R21/R12*100 -> 4.4366027
A22: 2018 | B22: =VLOOKUP($A22&$A$18, '[1]1.행정구역'!$A$9:$U$71, 4, FALSE) -> 8 | C22: =VLOOKUP($A22&$A$18, '[1]1.행정구역'!$A$9:$U$71, 5, FALSE) -> 0 | D22: =VLOOKUP($A22&$A$18, '[1]1.행정구역'!$A$9:$U$71, 6, FALSE) -> 1 | E22: =VLOOKUP($A22&$A$18, '[1]1.행정구역'!$A$9:$U$71, 7, FALSE) -> 7 | F22: =VLOOKUP($A22&$A$18, '[1]1.행정구역'!$A$9:$U$71, 8, FALSE) -> 139 | G22: =VLOOKUP($A22&$A$18, '[1]1.행정구역'!$A$9:$U$71, 9, FALSE) -> 6 | H22: =VLOOKUP($A22&$A$18, '[1]1.행정구역'!$A$9:$U$71, 10, FALSE) -> 3 | I22: =VLOOKUP($A22&$A$18, '[1]1.행정구역'!$A$9:$U$71, 11, FALSE) -> 130 | J22: =VLOOKUP($A22&$A$18, '[1]1.행정구역'!$A$9:$U$71, 12, FALSE) -> 195 | K22: =VLOOKUP($A22&$A$18, '[1]1.행정구역'!$A$9:$U$71, 13, FALSE) -> 2 | L22: =VLOOKUP($A22&$A$18, '[1]1.행정구역'!$A$9:$U$71, 14, FALSE) -> - | M22: =VLOOKUP($A22&$A$18, '[1]1.행정구역'!$A$9:$U$71, 15, FALSE) -> 2 | N22: =VLOOKUP($A22&$A$18, '[1]1.행정구역'!$A$9:$U$71, 16, FALSE) -> 3692 | O22: =VLOOKUP($A22&$A$18, '[1]1.행정구역'!$A$9:$U$71, 17, FALSE) -> 3379 | P22: =VLOOKUP($A22&$A$18, '[1]1.행정구역'!$A$9:$U$71, 18, FALSE) -> 313 | Q22: =VLOOKUP($A22&$A$18, '[1]1.행정구역'!$A$9:$U$71, 19, FALSE) -> 24629 | R22: =VLOOKUP($A22&$A$18, '[1]1.행정구역'!$A$9:$U$71, 20, FALSE) -> 883.52 | S22: =R22/R13*100 -> 4.4363391
A23: 2019 | B23: =VLOOKUP($A23&$A$18, '[1]1.행정구역'!$A$9:$U$71, 4, FALSE) -> 8 | C23: =VLOOKUP($A23&$A$18, '[1]1.행정구역'!$A$9:$U$71, 5, FALSE) -> 0 | D23: =VLOOKUP($A23&$A$18, '[1]1.행정구역'!$A$9:$U$71, 6, FALSE) -> 1 | E23: =VLOOKUP($A23&$A$18, '[1]1.행정구역'!$A$9:$U$71, 7, FALSE) -> 7 | F23: =VLOOKUP($A23&$A$18, '[1]1.행정구역'!$A$9:$U$71, 8, FALSE) -> 139 | G23: =VLOOKUP($A23&$A$18, '[1]1.행정구역'!$A$9:$U$71, 9, FALSE) -> 6 | H23: =VLOOKUP($A23&$A$18, '[1]1.행정구역'!$A$9:$U$71, 10, FALSE) -> 3 | I23: =VLOOKUP($A23&$A$18, '[1]1.행정구역'!$A$9:$U$71, 11, FALSE) -> 130 | J23: =VLOOKUP($A23&$A$18, '[1]1.행정구역'!$A$9:$U$71, 12, FALSE) -> 195 | K23: =VLOOKUP($A23&$A$18, '[1]1.행정구역'!$A$9:$U$71, 13, FALSE) -> 2 | L23: =VLOOKUP($A23&$A$18, '[1]1.행정구역'!$A$9:$U$71, 14, FALSE) -> - | M23: =VLOOKUP($A23&$A$18, '[1]1.행정구역'!$A$9:$U$71, 15, FALSE) -> 2 | N23: =VLOOKUP($A23&$A$18, '[1]1.행정구역'!$A$9:$U$71, 16, FALSE) -> 3709 | O23: =VLOOKUP($A23&$A$18, '[1]1.행정구역'!$A$9:$U$71, 17, FALSE) -> 3395 | P23: =VLOOKUP($A23&$A$18, '[1]1.행정구역'!$A$9:$U$71, 18, FALSE) -> 314 | Q23: =VLOOKUP($A23&$A$18, '[1]1.행정구역'!$A$9:$U$71, 19, FALSE) -> 24761 | R23: =VLOOKUP($A23&$A$18, '[1]1.행정구역'!$A$9:$U$71, 20, FALSE) -> 883.52 | S23: =R23/R14*100 -> 4.4363391
A24: 2020 | B24: =VLOOKUP($A24&$A$18, '[1]1.행정구역'!$A$9:$U$71, 4, FALSE) -> 8 | C24: =VLOOKUP($A24&$A$18, '[1]1.행정구역'!$A$9:$U$71, 5, FALSE) -> 0 | D24: =VLOOKUP($A24&$A$18, '[1]1.행정구역'!$A$9:$U$71, 6, FALSE) -> 1 | E24: =VLOOKUP($A24&$A$18, '[1]1.행정구역'!$A$9:$U$71, 7, FALSE) -> 7 | F24: =VLOOKUP($A24&$A$18, '[1]1.행정구역'!$A$9:$U$71, 8, FALSE) -> 141 | G24: =VLOOKUP($A24&$A$18, '[1]1.행정구역'!$A$9:$U$71, 9, FALSE) -> 6 | H24: =VLOOKUP($A24&$A$18, '[1]1.행정구역'!$A$9:$U$71, 10, FALSE) -> 3 | I24: =VLOOKUP($A24&$A$18, '[1]1.행정구역'!$A$9:$U$71, 11, FALSE) -> 132 | J24: =VLOOKUP($A24&$A$18, '[1]1.행정구역'!$A$9:$U$71, 12, FALSE) -> 195 | K24: =VLOOKUP($A24&$A$18, '[1]1.행정구역'!$A$9:$U$71, 13, FALSE) -> 2 | L24: =VLOOKUP($A24&$A$18, '[1]1.행정구역'!$A$9:$U$71, 14, FALSE) -> - | M24: =VLOOKUP($A24&$A$18, '[1]1.행정구역'!$A$9:$U$71, 15, FALSE) -> 2 | N24: =VLOOKUP($A24&$A$18, '[1]1.행정구역'!$A$9:$U$71, 16, FALSE) -> 3741 | O24: =VLOOKUP($A24&$A$18, '[1]1.행정구역'!$A$9:$U$71, 17, FALSE) -> 3422 | P24: =VLOOKUP($A24&$A$18, '[1]1.행정구역'!$A$9:$U$71, 18, FALSE) -> 319 | Q24: =VLOOKUP($A24&$A$18, '[1]1.행정구역'!$A$9:$U$71, 19, FALSE) -> 24949 | R24: =VLOOKUP($A24&$A$18, '[1]1.행정구역'!$A$9:$U$71, 20, FALSE) -> 883.49 | S24: =R24/R15*100 -> 4.4357497
A25: 2021 | B25: =VLOOKUP($A25&$A$18, '[1]1.행정구역'!$A$9:$U$71, 4, FALSE) -> 8 | C25: =VLOOKUP($A25&$A$18, '[1]1.행정구역'!$A$9:$U$71, 5, FALSE) -> 0 | D25: =VLOOKUP($A25&$A$18, '[1]1.행정구역'!$A$9:$U$71, 6, FALSE) -> 1 | E25: =VLOOKUP($A25&$A$18, '[1]1.행정구역'!$A$9:$U$71, 7, FALSE) -> 7 | F25: =VLOOKUP($A25&$A$18, '[1]1.행정구역'!$A$9:$U$71, 8, FALSE) -> 142 | G25: =VLOOKUP($A25&$A$18, '[1]1.행정구역'!$A$9:$U$71, 9, FALSE) -> 6 | H25: =VLOOKUP($A25&$A$18, '[1]1.행정구역'!$A$9:$U$71, 10, FALSE) -> 3 | I25: =VLOOKUP($A25&$A$18, '[1]1.행정구역'!$A$9:$U$71, 11, FALSE) -> 133 | J25: =VLOOKUP($A25&$A$18, '[1]1.행정구역'!$A$9:$U$71, 12, FALSE) -> 195 | K25: =VLOOKUP($A25&$A$18, '[1]1.행정구역'!$A$9:$U$71, 13, FALSE) -> 2 | L25: =VLOOKUP($A25&$A$18, '[1]1.행정구역'!$A$9:$U$71, 14, FALSE) -> 0 | M25: =VLOOKUP($A25&$A$18, '[1]1.행정구역'!$A$9:$U$71, 15, FALSE) -> 2 | N25: =VLOOKUP($A25&$A$18, '[1]1.행정구역'!$A$9:$U$71, 16, FALSE) -> 3773 | O25: =VLOOKUP($A25&$A$18, '[1]1.행정구역'!$A$9:$U$71, 17, FALSE) -> 3451 | P25: =VLOOKUP($A25&$A$18, '[1]1.행정구역'!$A$9:$U$71, 18, FALSE) -> 322 | Q25: =VLOOKUP($A25&$A$18, '[1]1.행정구역'!$A$9:$U$71, 19, FALSE) -> 25059 | R25: =VLOOKUP($A25&$A$18, '[1]1.행정구역'!$A$9:$U$71, 20, FALSE) -> 883.69822 | S25: =R25/R16*100 -> 4.436526
A27: 경상북도
A28: 2015 | B28: =VLOOKUP($A28&$A$27, '[2]1.행정구역'!$A$9:$U$160, 4, FALSE) -> 23 | C28: =VLOOKUP($A28&$A$27, '[2]1.행정구역'!$A$9:$U$160, 5, FALSE) -> 10 | D28: =VLOOKUP($A28&$A$27, '[2]1.행정구역'!$A$9:$U$160, 6, FALSE) -> 13 | E28: =VLOOKUP($A28&$A$27, '[2]1.행정구역'!$A$9:$U$160, 7, FALSE) -> 0 | F28: =VLOOKUP($A28&$A$27, '[2]1.행정구역'!$A$9:$U$160, 8, FALSE) -> 332 | G28: =VLOOKUP($A28&$A$27, '[2]1.행정구역'!$A$9:$U$160, 9, FALSE) -> 36 | H28: =VLOOKUP($A28&$A$27, '[2]1.행정구역'!$A$9:$U$160, 10, FALSE) -> 202 | I28: =VLOOKUP($A28&$A$27, '[2]1.행정구역'!$A$9:$U$160, 11, FALSE) -> 94 | J28: =VLOOKUP($A28&$A$27, '[2]1.행정구역'!$A$9:$U$160, 12, FALSE) -> 297 | K28: =VLOOKUP($A28&$A$27, '[2]1.행정구역'!$A$9:$U$160, 13, FALSE) -> 14 | L28: =VLOOKUP($A28&$A$27, '[2]1.행정구역'!$A$9:$U$160, 14, FALSE) -> 0 | M28: =VLOOKUP($A28&$A$27, '[2]1.행정구역'!$A$9:$U$160, 15, FALSE) -> 14 | N28: =VLOOKUP($A28&$A$27, '[2]1.행정구역'!$A$9:$U$160, 16, FALSE) -> 7923 | O28: =VLOOKUP($A28&$A$27, '[2]1.행정구역'!$A$9:$U$160, 17, FALSE) -> 2751 | P28: =VLOOKUP($A28&$A$27, '[2]1.행정구역'!$A$9:$U$160, 18, FALSE) -> 5172 | Q28: =VLOOKUP($A28&$A$27, '[2]1.행정구역'!$A$9:$U$160, 19, FALSE) -> 40201 | R28: =VLOOKUP($A28&$A$27, '[2]1.행정구역'!$A$9:$U$160, 20, FALSE) -> 19030.74 | S28: =R28/R10*100 -> 95.563188
A29: 2016 | B29: =VLOOKUP($A29&$A$27, '[2]1.행정구역'!$A$9:$U$160, 4, FALSE) -> 23 | C29: =VLOOKUP($A29&$A$27, '[2]1.행정구역'!$A$9:$U$160, 5, FALSE) -> 10 | D29: =VLOOKUP($A29&$A$27, '[2]1.행정구역'!$A$9:$U$160, 6, FALSE) -> 13 | E29: =VLOOKUP($A29&$A$27, '[2]1.행정구역'!$A$9:$U$160, 7, FALSE) -> 0 | F29: =VLOOKUP($A29&$A$27, '[2]1.행정구역'!$A$9:$U$160, 8, FALSE) -> 332 | G29: =VLOOKUP($A29&$A$27, '[2]1.행정구역'!$A$9:$U$160, 9, FALSE) -> 36 | H29: =VLOOKUP($A29&$A$27, '[2]1.행정구역'!$A$9:$U$160, 10, FALSE) -> 202 | I29: =VLOOKUP($A29&$A$27, '[2]1.행정구역'!$A$9:$U$160, 11, FALSE) -> 94 | J29: =VLOOKUP($A29&$A$27, '[2]1.행정구역'!$A$9:$U$160, 12, FALSE) -> 297 | K29: =VLOOKUP($A29&$A$27, '[2]1.행정구역'!$A$9:$U$160, 13, FALSE) -> 14 | L29: =VLOOKUP($A29&$A$27, '[2]1.행정구역'!$A$9:$U$160, 14, FALSE) -> 1 | M29: =VLOOKUP($A29&$A$27, '[2]1.행정구역'!$A$9:$U$160, 15, FALSE) -> 13 | N29: =VLOOKUP($A29&$A$27, '[2]1.행정구역'!$A$9:$U$160, 16, FALSE) -> 7940 | O29: =VLOOKUP($A29&$A$27, '[2]1.행정구역'!$A$9:$U$160, 17, FALSE) -> 2759 | P29: =VLOOKUP($A29&$A$27, '[2]1.행정구역'!$A$9:$U$160, 18, FALSE) -> 5181 | Q29: =VLOOKUP($A29&$A$27, '[2]1.행정구역'!$A$9:$U$160, 19, FALSE) -> 40658 | R29: =VLOOKUP($A29&$A$27, '[2]1.행정구역'!$A$9:$U$160, 20, FALSE) -> 19031.32 | S29: =R29/R11*100 -> 95.563317
A30: 2017 | B30: =VLOOKUP($A30&$A$27, '[2]1.행정구역'!$A$9:$U$160, 4, FALSE) -> 23 | C30: =VLOOKUP($A30&$A$27, '[2]1.행정구역'!$A$9:$U$160, 5, FALSE) -> 10 | D30: =VLOOKUP($A30&$A$27, '[2]1.행정구역'!$A$9:$U$160, 6, FALSE) -> 13 | E30: =VLOOKUP($A30&$A$27, '[2]1.행정구역'!$A$9:$U$160, 7, FALSE) -> 0 | F30: =VLOOKUP($A30&$A$27, '[2]1.행정구역'!$A$9:$U$160, 8, FALSE) -> 332 | G30: =VLOOKUP($A30&$A$27, '[2]1.행정구역'!$A$9:$U$160, 9, FALSE) -> 36 | H30: =VLOOKUP($A30&$A$27, '[2]1.행정구역'!$A$9:$U$160, 10, FALSE) -> 202 | I30: =VLOOKUP($A30&$A$27, '[2]1.행정구역'!$A$9:$U$160, 11, FALSE) -> 94 | J30: =VLOOKUP($A30&$A$27, '[2]1.행정구역'!$A$9:$U$160, 12, FALSE) -> 295 | K30: =VLOOKUP($A30&$A$27, '[2]1.행정구역'!$A$9:$U$160, 13, FALSE) -> 14 | L30: =VLOOKUP($A30&$A$27, '[2]1.행정구역'!$A$9:$U$160, 14, FALSE) -> 1 | M30: =VLOOKUP($A30&$A$27, '[2]1.행정구역'!$A$9:$U$160, 15, FALSE) -> 13 | N30: =VLOOKUP($A30&$A$27, '[2]1.행정구역'!$A$9:$U$160, 16, FALSE) -> 8010 | O30: =VLOOKUP($A30&$A$27, '[2]1.행정구역'!$A$9:$U$160, 17, FALSE) -> 2797 | P30: =VLOOKUP($A30&$A$27, '[2]1.행정구역'!$A$9:$U$160, 18, FALSE) -> 5213 | Q30: =VLOOKUP($A30&$A$27, '[2]1.행정구역'!$A$9:$U$160, 19, FALSE) -> 41206 | R30: =VLOOKUP($A30&$A$27, '[2]1.행정구역'!$A$9:$U$160, 20, FALSE) -> 19032.54 | S30: =R30/R12*100 -> 95.563397
A31: 2018 | B31: =VLOOKUP($A31&$A$27, '[2]1.행정구역'!$A$9:$U$160, 4, FALSE) -> 23 | C31: =VLOOKUP($A31&$A$27, '[2]1.행정구역'!$A$9:$U$160, 5, FALSE) -> 10 | D31: =VLOOKUP($A31&$A$27, '[2]1.행정구역'!$A$9:$U$160, 6, FALSE) -> 13 | E31: =VLOOKUP($A31&$A$27, '[2]1.행정구역'!$A$9:$U$160, 7, FALSE) -> 0 | F31: =VLOOKUP($A31&$A$27, '[2]1.행정구역'!$A$9:$U$160, 8, FALSE) -> 332 | G31: =VLOOKUP($A31&$A$27, '[2]1.행정구역'!$A$9:$U$160, 9, FALSE) -> 36 | H31: =VLOOKUP($A31&$A$27, '[2]1.행정구역'!$A$9:$U$160, 10, FALSE) -> 202 | I31: =VLOOKUP($A31&$A$27, '[2]1.행정구역'!$A$9:$U$160, 11, FALSE) -> 94 | J31: =VLOOKUP($A31&$A$27, '[2]1.행정구역'!$A$9:$U$160, 12, FALSE) -> 295 | K31: =VLOOKUP($A31&$A$27, '[2]1.행정구역'!$A$9:$U$160, 13, FALSE) -> 14 | L31: =VLOOKUP($A31&$A$27, '[2]1.행정구역'!$A$9:$U$160, 14, FALSE) -> 0 | M31: =VLOOKUP($A31&$A$27, '[2]1.행정구역'!$A$9:$U$160, 15, FALSE) -> 14 | N31: =VLOOKUP($A31&$A$27, '[2]1.행정구역'!$A$9:$U$160, 16, FALSE) -> 8019 | O31: =VLOOKUP($A31&$A$27, '[2]1.행정구역'!$A$9:$U$160, 17, FALSE) -> 2781 | P31: =VLOOKUP($A31&$A$27, '[2]1.행정구역'!$A$9:$U$160, 18, FALSE) -> 5238 | Q31: =VLOOKUP($A31&$A$27, '[2]1.행정구역'!$A$9:$U$160, 19, FALSE) -> 41287 | R31: =VLOOKUP($A31&$A$27, '[2]1.행정구역'!$A$9:$U$160, 20, FALSE) -> 19032 | S31: =R31/R13*100 -> 95.563661
A32: 2019 | B32: =VLOOKUP($A32&$A$27, '[2]1.행정구역'!$A$9:$U$160, 4, FALSE) -> 23 | C32: =VLOOKUP($A32&$A$27, '[2]1.행정구역'!$A$9:$U$160, 5, FALSE) -> 10 | D32: =VLOOKUP($A32&$A$27, '[2]1.행정구역'!$A$9:$U$160, 6, FALSE) -> 13 | E32: =VLOOKUP($A32&$A$27, '[2]1.행정구역'!$A$9:$U$160, 7, FALSE) -> 0 | F32: =VLOOKUP($A32&$A$27, '[2]1.행정구역'!$A$9:$U$160, 8, FALSE) -> 332 | G32: =VLOOKUP($A32&$A$27, '[2]1.행정구역'!$A$9:$U$160, 9, FALSE) -> 36 | H32: =VLOOKUP($A32&$A$27, '[2]1.행정구역'!$A$9:$U$160, 10, FALSE) -> 202 | I32: =VLOOKUP($A32&$A$27, '[2]1.행정구역'!$A$9:$U$160, 11, FALSE) -> 94 | J32: =VLOOKUP($A32&$A$27, '[2]1.행정구역'!$A$9:$U$160, 12, FALSE) -> 295 | K32: =VLOOKUP($A32&$A$27, '[2]1.행정구역'!$A$9:$U$160, 13, FALSE) -> 14 | L32: =VLOOKUP($A32&$A$27, '[2]1.행정구역'!$A$9:$U$160, 14, FALSE) -> 0 | M32: =VLOOKUP($A32&$A$27, '[2]1.행정구역'!$A$9:$U$160, 15, FALSE) -> 14 | N32: =VLOOKUP($A32&$A$27, '[2]1.행정구역'!$A$9:$U$160, 16, FALSE) -> 8083 | O32: =VLOOKUP($A32&$A$27, '[2]1.행정구역'!$A$9:$U$160, 17, FALSE) -> 2835 | P32: =VLOOKUP($A32&$A$27, '[2]1.행정구역'!$A$9:$U$160, 18, FALSE) -> 5248 | Q32: =VLOOKUP($A32&$A$27, '[2]1.행정구역'!$A$9:$U$160, 19, FALSE) -> 41805 | R32: =VLOOKUP($A32&$A$27, '[2]1.행정구역'!$A$9:$U$160, 20, FALSE) -> 19032 | S32: =R32/R14*100 -> 95.563661
A33: 2020 | B33: =VLOOKUP($A33&$A$27, '[2]1.행정구역'!$A$9:$U$160, 4, FALSE) -> 23 | C33: =VLOOKUP($A33&$A$27, '[2]1.행정구역'!$A$9:$U$160, 5, FALSE) -> 10 | D33: =VLOOKUP($A33&$A$27, '[2]1.행정구역'!$A$9:$U$160, 6, FALSE) -> 13 | E33: =VLOOKUP($A33&$A$27, '[2]1.행정구역'!$A$9:$U$160, 7, FALSE) -> 0 | F33: =VLOOKUP($A33&$A$27, '[2]1.행정구역'!$A$9:$U$160, 8, FALSE) -> 332 | G33: =VLOOKUP($A33&$A$27, '[2]1.행정구역'!$A$9:$U$160, 9, FALSE) -> 37 | H33: =VLOOKUP($A33&$A$27, '[2]1.행정구역'!$A$9:$U$160, 10, FALSE) -> 201 | I33: =VLOOKUP($A33&$A$27, '[2]1.행정구역'!$A$9:$U$160, 11, FALSE) -> 94 | J33: =VLOOKUP($A33&$A$27, '[2]1.행정구역'!$A$9:$U$160, 12, FALSE) -> 295 | K33: =VLOOKUP($A33&$A$27, '[2]1.행정구역'!$A$9:$U$160, 13, FALSE) -> 14 | L33: =VLOOKUP($A33&$A$27, '[2]1.행정구역'!$A$9:$U$160, 14, FALSE) -> 0 | M33: =VLOOKUP($A33&$A$27, '[2]1.행정구역'!$A$9:$U$160, 15, FALSE) -> 14 | N33: =VLOOKUP($A33&$A$27, '[2]1.행정구역'!$A$9:$U$160, 16, FALSE) -> 8092 | O33: =VLOOKUP($A33&$A$27, '[2]1.행정구역'!$A$9:$U$160, 17, FALSE) -> 2836 | P33: =VLOOKUP($A33&$A$27, '[2]1.행정구역'!$A$9:$U$160, 18, FALSE) -> 5256 | Q33: =VLOOKUP($A33&$A$27, '[2]1.행정구역'!$A$9:$U$160, 19, FALSE) -> 41969 | R33: =VLOOKUP($A33&$A$27, '[2]1.행정구역'!$A$9:$U$160, 20, FALSE) -> 19034 | S33: =R33/R15*100 -> 95.56425
A34: 2021 | B34: 23 | C34: 10 | D34: 13 | E34: 0 | F34: 330 | G34: 38 | H34: 200 | I34: 92 | J34: 295 | K34: 14 | L34: 0 | M34: 14 | N34: 8099 | O34: 2831 | P34: 5268 | Q34: 42145 | R34: 19035 | S34: =R34/R16*100 -> 95.563474
A36: 자료: 대구통계연보, 경북통계연보

Sheet 2.토지
A1: [목록]으로
A2: 2. 토지지목별 현황
N4: 단위:㎡ | AC4: 단위:㎡
B5: 계 | C5: 전 | D5: 답 | E5: 과 수 원 | F5: 목 장 용 지 | G5: 임 야 | H5: 광천지 | I5: 대 지 | J5: 공 장 용 지 | K5: 학 교 용 지 | L5: 주차장 | M5: 주유소용지 | N5: 창고용지 | O5: 도 로 | P5: 철 도 용 지 | Q5: 하 천 | R5: 제 방 | S5: 구 거 | T5: 유 지 | U5: 양 어 장 | V5: 수 도 용 지 | W5: 공 원 | X5: 체 육 용 지 | Y5: 유 원 지 | Z5: 종 교 용 지 | AA5: 사 적 지 | AB5: 묘 지 | AC5: 잡 종 지
A9: 대경권
A10: 2015 | B10: =SUM(B19,B28) -> 1.9914301e+10 | C10: =SUM(C19,C28) -> 1.2967375e+09 | D10: =SUM(D19,D28) -> 1.8396492e+09 | E10: =SUM(E19,E28) -> 157837999 | F10: =SUM(F19,F28) -> 54006383 | G10: =SUM(G19,G28) -> 1.4089004e+10 | H10: =SUM(H19,H28) -> 508 | I10: =SUM(I19,I28) -> 3.9912525e+08 | ... AC10: =SUM(AC19,AC28) -> 82517030
A11: 2016 | B11: =SUM(B20,B29) -> 1.9914978e+10 | C11: =SUM(C20,C29) -> 1.2911093e+09 | D11: =SUM(D20,D29) -> 1.8287024e+09 | E11: =SUM(E20,E29) -> 1.5873466e+08 | F11: =SUM(F20,F29) -> 53737914 | G11: =SUM(G20,G29) -> 1.4080706e+10 | H11: =SUM(H20,H29) -> 508 | I11: =SUM(I20,I29) -> 4.0653261e+08 | ... AC11: =SUM(AC20,AC29) -> 85006714
A12: 2017 | B12: =SUM(B21,B30) -> 1.9916143e+10 | C12: =SUM(C21,C30) -> 1286828595 | D12: =SUM(D21,D30) -> 1.8177394e+09 | E12: =SUM(E21,E30) -> 1.6009806e+08 | F12: =SUM(F21,F30) -> 53301841 | G12: =SUM(G21,G30) -> 1.4068758e+10 | H12: =SUM(H21,H30) -> 521 | I12: =SUM(I21,I30) -> 4.131238e+08 | ... AC12: =SUM(AC21,AC30) -> 87560389
A13: 2018 | B13: =SUM(B22,B31) -> 1.9916387e+10 | C13: =SUM(C22,C31) -> 1.2863152e+09 | D13: =SUM(D22,D31) -> 1.8104399e+09 | E13: =SUM(E22,E31) -> 1.6407826e+08 | F13: =SUM(F22,F31) -> 53306238 | G13: =SUM(G22,G31) -> 1.4050392e+10 | H13: =SUM(H22,H31) -> 522 | I13: =SUM(I22,I31) -> 4.1858886e+08 | ... AC13: =SUM(AC22,AC31) -> 89807781
A14: 2019 | B14: =SUM(B23,B32) -> 1.991686e+10 | C14: =SUM(C23,C32) -> 1282190068 | D14: =SUM(D23,D32) -> 1.8034134e+09 | E14: =SUM(E23,E32) -> 1.6408575e+08 | F14: =SUM(F23,F32) -> 53448261 | G14: =SUM(G23,G32) -> 1.4042565e+10 | H14: =SUM(H23,H32) -> 522 | I14: =SUM(I23,I32) -> 4.2359086e+08 | ... AC14: =SUM(AC23,AC32) -> 92937527
A15: 2020 | B15: =SUM(B24,B33) -> 19917516940 | C15: =SUM(C24,C33) -> 1.278515e+09 | D15: =SUM(D24,D33) -> 1.7956319e+09 | E15: =SUM(E24,E33) -> 1.6416527e+08 | F15: =SUM(F24,F33) -> 53452709 | G15: =SUM(G24,G33) -> 1.4031958e+10 | H15: =SUM(H24,H33) -> 522 | I15: =SUM(I24,I33) -> 4.2743041e+08 | ... AC15: =SUM(AC24,AC33) -> 97810994
A16: 2021 | B16: =SUM(B25,B34) -> 1.9918493e+10 | C16: =SUM(C25,C34) -> 1.2750916e+09 | D16: =SUM(D25,D34) -> 1.7885292e+09 | E16: =SUM(E25,E34) -> 1.6411342e+08 | F16: =SUM(F25,F34) -> 53448926 | G16: =SUM(G25,G34) -> 1.4023119e+10 | H16: =SUM(H25,H34) -> 522.2 | I16: =SUM(I25,I34) -> 4.3129334e+08 | ... AC16: =SUM(AC25,AC34) -> 1.0270986e+08
A18: 대구광역시
A19: 2015 | B19: =VLOOKUP($A19&$A$18, '[1]2.토지'!$A$9:$AK$71, 4, FALSE) -> 8.8356268e+08 | C19: =VLOOKUP($A19&$A$18, '[1]2.토지'!$A$9:$AK$71, 11, FALSE) -> 41546514 | D19: =VLOOKUP($A19&$A$18, '[1]2.토지'!$A$9:$AK$71, 12, FALSE) -> 78361363 | E19: =VLOOKUP($A19&$A$18, '[1]2.토지'!$A$9:$AK$71, 13, FALSE) -> 2260609 | F19: =VLOOKUP($A19&$A$18, '[1]2.토지'!$A$9:$AK$71, 14, FALSE) -> 1412923 | G19: =VLOOKUP($A19&$A$18, '[1]2.토지'!$A$9:$AK$71, 15, FALSE) -> 4.76144e+08 | H19: =VLOOKUP($A19&$A$18, '[1]2.토지'!$A$9:$AK$71, 16, FALSE) -> 6 | I19: =VLOOKUP($A19&$A$18, '[1]2.토지'!$A$9:$AK$71, 17, FALSE) -> 85972035 | J19: =VLOOKUP($A19&$A$18, '[1]2.토지'!$A$9:$AK$71, 18, FALSE) -> 23624483 | K19: =VLOOKUP($A19&$A$18, '[1]2.토지'!$A$9:$AK$71, 19, FALSE) -> 10731305 | L19: =VLOOKUP($A19&$A$18, '[1]2.토지'!$A$9:$AK$71, 20, FALSE) -> 809431.1 | M19: =VLOOKUP($A19&$A$18, '[1]2.토지'!$A$9:$AK$71, 21, FALSE) -> 596133.2 | N19: =VLOOKUP($A19&$A$18, '[1]2.토지'!$A$9:$AK$71, 22, FALSE) -> 1039072.4 | O19: =VLOOKUP($A19&$A$18, '[1]2.토지'!$A$9:$AK$71, 23, FALSE) -> 57611439 | P19: =VLOOKUP($A19&$A$18, '[1]2.토지'!$A$9:$AK$71, 24, FALSE) -> 2606694.5 | Q19: =VLOOKUP($A19&$A$18, '[1]2.토지'!$A$9:$AK$71, 25, FALSE) -> 44180239 | R19: =VLOOKUP($A19&$A$18, '[1]2.토지'!$A$9:$AK$71, 26, FALSE) -> 3992822.1 | S19: =VLOOKUP($A19&$A$18, '[1]2.토지'!$A$9:$AK$71, 27, FALSE) -> 12060710 | T19: =VLOOKUP($A19&$A$18, '[1]2.토지'!$A$9:$AK$71, 28, FALSE) -> 5918508.7 | U19: =VLOOKUP($A19&$A$18, '[1]2.토지'!$A$9:$AK$71, 29, FALSE) -> 34360 | V19: =VLOOKUP($A19&$A$18, '[1]2.토지'!$A$9:$AK$71, 30, FALSE) -> 2273036 | W19: =VLOOKUP($A19&$A$18, '[1]2.토지'!$A$9:$AK$71, 31, FALSE) -> 10458101 | X19: =VLOOKUP($A19&$A$18, '[1]2.토지'!$A$9:$AK$71, 32, FALSE) -> 2449127.3 | Y19: =VLOOKUP($A19&$A$18, '[1]2.토지'!$A$9:$AK$71, 33, FALSE) -> 352180 | Z19: =VLOOKUP($A19&$A$18, '[1]2.토지'!$A$9:$AK$71, 34, FALSE) -> 1289387.5 | AA19: =VLOOKUP($A19&$A$18, '[1]2.토지'!$A$9:$AK$71, 35, FALSE) -> 26716 | AB19: =VLOOKUP($A19&$A$18, '[1]2.토지'!$A$9:$AK$71, 36, FALSE) -> 4093859.3 | AC19: =VLOOKUP($A19&$A$18, '[1]2.토지'!$A$9:$AK$71, 37, FALSE) -> 13717623
A20: 2016 | B20: =VLOOKUP($A20&$A$18, '[1]2.토지'!$A$9:$AK$71, 4, FALSE) -> 8.8356138e+08 | C20: =VLOOKUP($A20&$A$18, '[1]2.토지'!$A$9:$AK$71, 11, FALSE) -> 41138153 | D20: =VLOOKUP($A20&$A$18, '[1]2.토지'!$A$9:$AK$71, 12, FALSE) -> 77304975 | E20: =VLOOKUP($A20&$A$18, '[1]2.토지'!$A$9:$AK$71, 13, FALSE) -> 2227737.4 | F20: =VLOOKUP($A20&$A$18, '[1]2.토지'!$A$9:$AK$71, 14, FALSE) -> 1401681 | G20: =VLOOKUP($A20&$A$18, '[1]2.토지'!$A$9:$AK$71, 15, FALSE) -> 4.7511019e+08 | H20: =VLOOKUP($A20&$A$18, '[1]2.토지'!$A$9:$AK$71, 16, FALSE) -> 6 | I20: =VLOOKUP($A20&$A$18, '[1]2.토지'!$A$9:$AK$71, 17, FALSE) -> 86889783 | J20: =VLOOKUP($A20&$A$18, '[1]2.토지'!$A$9:$AK$71, 18, FALSE) -> 23790155 | K20: =VLOOKUP($A20&$A$18, '[1]2.토지'!$A$9:$AK$71, 19, FALSE) -> 10751987 | L20: =VLOOKUP($A20&$A$18, '[1]2.토지'!$A$9:$AK$71, 20, FALSE) -> 851132.2 | M20: =VLOOKUP($A20&$A$18, '[1]2.토지'!$A$9:$AK$71, 21, FALSE) -> 596489.7 | N20: =VLOOKUP($A20&$A$18, '[1]2.토지'!$A$9:$AK$71, 22, FALSE) -> 1055674.2 | O20: =VLOOKUP($A20&$A$18, '[1]2.토지'!$A$9:$AK$71, 23, FALSE) -> 57815599 | P20: =VLOOKUP($A20&$A$18, '[1]2.토지'!$A$9:$AK$71, 24, FALSE) -> 2684431.5 | Q20: =VLOOKUP($A20&$A$18, '[1]2.토지'!$A$9:$AK$71, 25, FALSE) -> 44148837 | R20: =VLOOKUP($A20&$A$18, '[1]2.토지'!$A$9:$AK$71, 26, FALSE) -> 3991734.1 | S20: =VLOOKUP($A20&$A$18, '[1]2.토지'!$A$9:$AK$71, 27, FALSE) -> 11973232 | T20: =VLOOKUP($A20&$A$18, '[1]2.토지'!$A$9:$AK$71, 28, FALSE) -> 5908904.7 | U20: =VLOOKUP($A20&$A$18, '[1]2.토지'!$A$9:$AK$71, 29, FALSE) -> 34692 | V20: =VLOOKUP($A20&$A$18, '[1]2.토지'!$A$9:$AK$71, 30, FALSE) -> 2289722 | W20: =VLOOKUP($A20&$A$18, '[1]2.토지'!$A$9:$AK$71, 31, FALSE) -> 10638112 | X20: =VLOOKUP($A20&$A$18, '[1]2.토지'!$A$9:$AK$71, 32, FALSE) -> 2658734.4 | Y20: =VLOOKUP($A20&$A$18, '[1]2.토지'!$A$9:$AK$71, 33, FALSE) -> 421715 | Z20: =VLOOKUP($A20&$A$18, '[1]2.토지'!$A$9:$AK$71, 34, FALSE) -> 1341196 | AA20: =VLOOKUP($A20&$A$18, '[1]2.토지'!$A$9:$AK$71, 35, FALSE) -> 53552 | AB20: =VLOOKUP($A20&$A$18, '[1]2.토지'!$A$9:$AK$71, 36, FALSE) -> 4070240.3 | AC20: =VLOOKUP($A20&$A$18, '[1]2.토지'!$A$9:$AK$71, 37, FALSE) -> 14412715
A21: 2017 | B21: =VLOOKUP($A21&$A$18, '[1]2.토지'!$A$9:$AK$71, 4, FALSE) -> 8.8360311e+08 | C21: =VLOOKUP($A21&$A$18, '[1]2.토지'!$A$9:$AK$71, 11, FALSE) -> 40068122 | D21: =VLOOKUP($A21&$A$18, '[1]2.토지'!$A$9:$AK$71, 12, FALSE) -> 74063298 | E21: =VLOOKUP($A21&$A$18, '[1]2.토지'!$A$9:$AK$71, 13, FALSE) -> 2223927.1 | F21: =VLOOKUP($A21&$A$18, '[1]2.토지'!$A$9:$AK$71, 14, FALSE) -> 1366900 | G21: =VLOOKUP($A21&$A$18, '[1]2.토지'!$A$9:$AK$71, 15, FALSE) -> 4.7300389e+08 | H21: =VLOOKUP($A21&$A$18, '[1]2.토지'!$A$9:$AK$71, 16, FALSE) -> 6 | I21: =VLOOKUP($A21&$A$18, '[1]2.토지'!$A$9:$AK$71, 17, FALSE) -> 88609696 | J21: =VLOOKUP($A21&$A$18, '[1]2.토지'!$A$9:$AK$71, 18, FALSE) -> 26557904 | K21: =VLOOKUP($A21&$A$18, '[1]2.토지'!$A$9:$AK$71, 19, FALSE) -> 10800369 | L21: =VLOOKUP($A21&$A$18, '[1]2.토지'!$A$9:$AK$71, 20, FALSE) -> 924069.6 | M21: =VLOOKUP($A21&$A$18, '[1]2.토지'!$A$9:$AK$71, 21, FALSE) -> 600382.9 | N21: =VLOOKUP($A21&$A$18, '[1]2.토지'!$A$9:$AK$71, 22, FALSE) -> 1096487.9 | O21: =VLOOKUP($A21&$A$18, '[1]2.토지'!$A$9:$AK$71, 23, FALSE) -> 58759349 | P21: =VLOOKUP($A21&$A$18, '[1]2.토지'!$A$9:$AK$71, 24, FALSE) -> 2684680.5 | Q21: =VLOOKUP($A21&$A$18, '[1]2.토지'!$A$9:$AK$71, 25, FALSE) -> 44219879 | R21: =VLOOKUP($A21&$A$18, '[1]2.토지'!$A$9:$AK$71, 26, FALSE) -> 3976515.1 | S21: =VLOOKUP($A21&$A$18, '[1]2.토지'!$A$9:$AK$71, 27, FALSE) -> 11601709 | T21: =VLOOKUP($A21&$A$18, '[1]2.토지'!$A$9:$AK$71, 28, FALSE) -> 6027671.3 | U21: =VLOOKUP($A21&$A$18, '[1]2.토지'!$A$9:$AK$71, 29, FALSE) -> 34692 | V21: =VLOOKUP($A21&$A$18, '[1]2.토지'!$A$9:$AK$71, 30, FALSE) -> 2301472.2 | W21: =VLOOKUP($A21&$A$18, '[1]2.토지'!$A$9:$AK$71, 31, FALSE) -> 11504734 | X21: =VLOOKUP($A21&$A$18, '[1]2.토지'!$A$9:$AK$71, 32, FALSE) -> 2718899.8 | Y21: =VLOOKUP($A21&$A$18, '[1]2.토지'!$A$9:$AK$71, 33, FALSE) -> 424955 | Z21: =VLOOKUP($A21&$A$18, '[1]2.토지'!$A$9:$AK$71, 34, FALSE) -> 1363944.6 | AA21: =VLOOKUP($A21&$A$18, '[1]2.토지'!$A$9:$AK$71, 35, FALSE) -> 53552 | AB21: =VLOOKUP($A21&$A$18, '[1]2.토지'!$A$9:$AK$71, 36, FALSE) -> 3984806.2 | AC21: =VLOOKUP($A21&$A$18, '[1]2.토지'!$A$9:$AK$71, 37, FALSE) -> 14631199
A22: 2018 | B22: =VLOOKUP($A22&$A$18, '[1]2.토지'!$A$9:$AK$71, 4, FALSE) -> 8.8351927e+08 | C22: =VLOOKUP($A22&$A$18, '[1]2.토지'!$A$9:$AK$71, 11, FALSE) -> 39755584 | D22: =VLOOKUP($A22&$A$18, '[1]2.토지'!$A$9:$AK$71, 12, FALSE) -> 73427632 | E22: =VLOOKUP($A22&$A$18, '[1]2.토지'!$A$9:$AK$71, 13, FALSE) -> 2430977.1 | F22: =VLOOKUP($A22&$A$18, '[1]2.토지'!$A$9:$AK$71, 14, FALSE) -> 1364563 | G22: =VLOOKUP($A22&$A$18, '[1]2.토지'!$A$9:$AK$71, 15, FALSE) -> 4.7252727e+08 | H22: =VLOOKUP($A22&$A$18, '[1]2.토지'!$A$9:$AK$71, 16, FALSE) -> 7 | I22: =VLOOKUP($A22&$A$18, '[1]2.토지'!$A$9:$AK$71, 17, FALSE) -> 89248653 | J22: =VLOOKUP($A22&$A$18, '[1]2.토지'!$A$9:$AK$71, 18, FALSE) -> 26615332 | K22: =VLOOKUP($A22&$A$18, '[1]2.토지'!$A$9:$AK$71, 19, FALSE) -> 10790054 | L22: =VLOOKUP($A22&$A$18, '[1]2.토지'!$A$9:$AK$71, 20, FALSE) -> 950102.1 | M22: =VLOOKUP($A22&$A$18, '[1]2.토지'!$A$9:$AK$71, 21, FALSE) -> 597129.2 | N22: =VLOOKUP($A22&$A$18, '[1]2.토지'!$A$9:$AK$71, 22, FALSE) -> 1109327.1 | O22: =VLOOKUP($A22&$A$18, '[1]2.토지'!$A$9:$AK$71, 23, FALSE) -> 59027585 | P22: =VLOOKUP($A22&$A$18, '[1]2.토지'!$A$9:$AK$71, 24, FALSE) -> 2685637.5 | Q22: =VLOOKUP($A22&$A$18, '[1]2.토지'!$A$9:$AK$71, 25, FALSE) -> 44215831 | R22: =VLOOKUP($A22&$A$18, '[1]2.토지'!$A$9:$AK$71, 26, FALSE) -> 3988876.1 | S22: =VLOOKUP($A22&$A$18, '[1]2.토지'!$A$9:$AK$71, 27, FALSE) -> 11552534 | T22: =VLOOKUP($A22&$A$18, '[1]2.토지'!$A$9:$AK$71, 28, FALSE) -> 5994677.5 | U22: =VLOOKUP($A22&$A$18, '[1]2.토지'!$A$9:$AK$71, 29, FALSE) -> 34692 | V22: =VLOOKUP($A22&$A$18, '[1]2.토지'!$A$9:$AK$71, 30, FALSE) -> 2310596.2 | W22: =VLOOKUP($A22&$A$18, '[1]2.토지'!$A$9:$AK$71, 31, FALSE) -> 11688472 | X22: =VLOOKUP($A22&$A$18, '[1]2.토지'!$A$9:$AK$71, 32, FALSE) -> 2720243.8 | Y22: =VLOOKUP($A22&$A$18, '[1]2.토지'!$A$9:$AK$71, 33, FALSE) -> 426764 | Z22: =VLOOKUP($A22&$A$18, '[1]2.토지'!$A$9:$AK$71, 34, FALSE) -> 1378534.4 | AA22: =VLOOKUP($A22&$A$18, '[1]2.토지'!$A$9:$AK$71, 35, FALSE) -> 53552 | AB22: =VLOOKUP($A22&$A$18, '[1]2.토지'!$A$9:$AK$71, 36, FALSE) -> 3962625.2 | AC22: =VLOOKUP($A22&$A$18, '[1]2.토지'!$A$9:$AK$71, 37, FALSE) -> 14662016
A23: 2019 | B23: =VLOOKUP($A23&$A$18, '[1]2.토지'!$A$9:$AK$71, 4, FALSE) -> 8.8351731e+08 | C23: =VLOOKUP($A23&$A$18, '[1]2.토지'!$A$9:$AK$71, 11, FALSE) -> 39271374 | D23: =VLOOKUP($A23&$A$18, '[1]2.토지'!$A$9:$AK$71, 12, FALSE) -> 72742998 | E23: =VLOOKUP($A23&$A$18, '[1]2.토지'!$A$9:$AK$71, 13, FALSE) -> 2294201.4 | F23: =VLOOKUP($A23&$A$18, '[1]2.토지'!$A$9:$AK$71, 14, FALSE) -> 1336910.9 | G23: =VLOOKUP($A23&$A$18, '[1]2.토지'!$A$9:$AK$71, 15, FALSE) -> 4.7234694e+08 | H23: =VLOOKUP($A23&$A$18, '[1]2.토지'!$A$9:$AK$71, 16, FALSE) -> 7 | I23: =VLOOKUP($A23&$A$18, '[1]2.토지'!$A$9:$AK$71, 17, FALSE) -> 90028893 | J23: =VLOOKUP($A23&$A$18, '[1]2.토지'!$A$9:$AK$71, 18, FALSE) -> 26679324 | K23: =VLOOKUP($A23&$A$18, '[1]2.토지'!$A$9:$AK$71, 19, FALSE) -> 10818270 | L23: =VLOOKUP($A23&$A$18, '[1]2.토지'!$A$9:$AK$71, 20, FALSE) -> 976682.9 | M23: =VLOOKUP($A23&$A$18, '[1]2.토지'!$A$9:$AK$71, 21, FALSE) -> 594710.1 | N23: =VLOOKUP($A23&$A$18, '[1]2.토지'!$A$9:$AK$71, 22, FALSE) -> 1123315.4 | O23: =VLOOKUP($A23&$A$18, '[1]2.토지'!$A$9:$AK$71, 23, FALSE) -> 59444906 | P23: =VLOOKUP($A23&$A$18, '[1]2.토지'!$A$9:$AK$71, 24, FALSE) -> 2687486.5 | Q23: =VLOOKUP($A23&$A$18, '[1]2.토지'!$A$9:$AK$71, 25, FALSE) -> 44173900 | R23: =VLOOKUP($A23&$A$18, '[1]2.토지'!$A$9:$AK$71, 26, FALSE) -> 3987908.1 | S23: =VLOOKUP($A23&$A$18, '[1]2.토지'!$A$9:$AK$71, 27, FALSE) -> 11520301 | T23: =VLOOKUP($A23&$A$18, '[1]2.토지'!$A$9:$AK$71, 28, FALSE) -> 6017416.5 | U23: =VLOOKUP($A23&$A$18, '[1]2.토지'!$A$9:$AK$71, 29, FALSE) -> 34692 | V23: =VLOOKUP($A23&$A$18, '[1]2.토지'!$A$9:$AK$71, 30, FALSE) -> 2305947.7 | W23: =VLOOKUP($A23&$A$18, '[1]2.토지'!$A$9:$AK$71, 31, FALSE) -> 11944615 | X23: =VLOOKUP($A23&$A$18, '[1]2.토지'!$A$9:$AK$71, 32, FALSE) -> 2714554.8 | Y23: =VLOOKUP($A23&$A$18, '[1]2.토지'!$A$9:$AK$71, 33, FALSE) -> 431356 | Z23: =VLOOKUP($A23&$A$18, '[1]2.토지'!$A$9:$AK$71, 34, FALSE) -> 1384805.4 | AA23: =VLOOKUP($A23&$A$18, '[1]2.토지'!$A$9:$AK$71, 35, FALSE) -> 53518 | AB23: =VLOOKUP($A23&$A$18, '[1]2.토지'!$A$9:$AK$71, 36, FALSE) -> 3951553.6 | AC23: =VLOOKUP($A23&$A$18, '[1]2.토지'!$A$9:$AK$71, 37, FALSE) -> 14650722
A24: 2020 | B24: =VLOOKUP($A24&$A$18, '[1]2.토지'!$A$9:$AK$71, 4, FALSE) -> 883487477 | C24: =VLOOKUP($A24&$A$18, '[1]2.토지'!$A$9:$AK$71, 11, FALSE) -> 39183357 | D24: =VLOOKUP($A24&$A$18, '[1]2.토지'!$A$9:$AK$71, 12, FALSE) -> 72498538 | E24: =VLOOKUP($A24&$A$18, '[1]2.토지'!$A$9:$AK$71, 13, FALSE) -> 2292545.4 | F24: =VLOOKUP($A24&$A$18, '[1]2.토지'!$A$9:$AK$71, 14, FALSE) -> 1334827.9 | G24: =VLOOKUP($A24&$A$18, '[1]2.토지'!$A$9:$AK$71, 15, FALSE) -> 4.7229276e+08 | H24: =VLOOKUP($A24&$A$18, '[1]2.토지'!$A$9:$AK$71, 16, FALSE) -> 7 | I24: =VLOOKUP($A24&$A$18, '[1]2.토지'!$A$9:$AK$71, 17, FALSE) -> 90174896 | J24: =VLOOKUP($A24&$A$18, '[1]2.토지'!$A$9:$AK$71, 18, FALSE) -> 26728022 | K24: =VLOOKUP($A24&$A$18, '[1]2.토지'!$A$9:$AK$71, 19, FALSE) -> 10829312 | L24: =VLOOKUP($A24&$A$18, '[1]2.토지'!$A$9:$AK$71, 20, FALSE) -> 994486.4 | M24: =VLOOKUP($A24&$A$18, '[1]2.토지'!$A$9:$AK$71, 21, FALSE) -> 589236.6 | N24: =VLOOKUP($A24&$A$18, '[1]2.토지'!$A$9:$AK$71, 22, FALSE) -> 1128019.6 | O24: =VLOOKUP($A24&$A$18, '[1]2.토지'!$A$9:$AK$71, 23, FALSE) -> 59567611 | P24: =VLOOKUP($A24&$A$18, '[1]2.토지'!$A$9:$AK$71, 24, FALSE) -> 2695909.5 | Q24: =VLOOKUP($A24&$A$18, '[1]2.토지'!$A$9:$AK$71, 25, FALSE) -> 44165566 | R24: =VLOOKUP($A24&$A$18, '[1]2.토지'!$A$9:$AK$71, 26, FALSE) -> 4002083.1 | S24: =VLOOKUP($A24&$A$18, '[1]2.토지'!$A$9:$AK$71, 27, FALSE) -> 11494399 | T24: =VLOOKUP($A24&$A$18, '[1]2.토지'!$A$9:$AK$71, 28, FALSE) -> 6011550.5 | U24: =VLOOKUP($A24&$A$18, '[1]2.토지'!$A$9:$AK$71, 29, FALSE) -> 34692 | V24: =VLOOKUP($A24&$A$18, '[1]2.토지'!$A$9:$AK$71, 30, FALSE) -> 2305954.7 | W24: =VLOOKUP($A24&$A$18, '[1]2.토지'!$A$9:$AK$71, 31, FALSE) -> 11992052 | X24: =VLOOKUP($A24&$A$18, '[1]2.토지'!$A$9:$AK$71, 32, FALSE) -> 2715474.8 | Y24: =VLOOKUP($A24&$A$18, '[1]2.토지'!$A$9:$AK$71, 33, FALSE) -> 430421 | Z24: =VLOOKUP($A24&$A$18, '[1]2.토지'!$A$9:$AK$71, 34, FALSE) -> 1392727.2 | AA24: =VLOOKUP($A24&$A$18, '[1]2.토지'!$A$9:$AK$71, 35, FALSE) -> 53518 | AB24: =VLOOKUP($A24&$A$18, '[1]2.토지'!$A$9:$AK$71, 36, FALSE) -> 3944056.6 | AC24: =VLOOKUP($A24&$A$18, '[1]2.토지'!$A$9:$AK$71, 37, FALSE) -> 14635458
A25: 2021 | B25: =VLOOKUP($A25&$A$18, '[1]2.토지'!$A$9:$AK$71, 4, FALSE) -> 8.8369822e+08 | C25: =VLOOKUP($A25&$A$18, '[1]2.토지'!$A$9:$AK$71, 11, FALSE) -> 38719065 | D25: =VLOOKUP($A25&$A$18, '[1]2.토지'!$A$9:$AK$71, 12, FALSE) -> 71594302 | E25: =VLOOKUP($A25&$A$18, '[1]2.토지'!$A$9:$AK$71, 13, FALSE) -> 2264305.4 | F25: =VLOOKUP($A25&$A$18, '[1]2.토지'!$A$9:$AK$71, 14, FALSE) -> 1307402.2 | G25: =VLOOKUP($A25&$A$18, '[1]2.토지'!$A$9:$AK$71, 15, FALSE) -> 4.7166669e+08 | H25: =VLOOKUP($A25&$A$18, '[1]2.토지'!$A$9:$AK$71, 16, FALSE) -> 7 | I25: =VLOOKUP($A25&$A$18, '[1]2.토지'!$A$9:$AK$71, 17, FALSE) -> 90606078 | J25: =VLOOKUP($A25&$A$18, '[1]2.토지'!$A$9:$AK$71, 18, FALSE) -> 26783816 | K25: =VLOOKUP($A25&$A$18, '[1]2.토지'!$A$9:$AK$71, 19, FALSE) -> 10969971 | L25: =VLOOKUP($A25&$A$18, '[1]2.토지'!$A$9:$AK$71, 20, FALSE) -> 992477 | M25: =VLOOKUP($A25&$A$18, '[1]2.토지'!$A$9:$AK$71, 21, FALSE) -> 584484.2 | N25: =VLOOKUP($A25&$A$18, '[1]2.토지'!$A$9:$AK$71, 22, FALSE) -> 1137963.5 | O25: =VLOOKUP($A25&$A$18, '[1]2.토지'!$A$9:$AK$71, 23, FALSE) -> 60806298 | P25: =VLOOKUP($A25&$A$18, '[1]2.토지'!$A$9:$AK$71, 24, FALSE) -> 2702508.5 | Q25: =VLOOKUP($A25&$A$18, '[1]2.토지'!$A$9:$AK$71, 25, FALSE) -> 44153149 | R25: =VLOOKUP($A25&$A$18, '[1]2.토지'!$A$9:$AK$71, 26, FALSE) -> 3989951.1 | S25: =VLOOKUP($A25&$A$18, '[1]2.토지'!$A$9:$AK$71, 27, FALSE) -> 11456217 | T25: =VLOOKUP($A25&$A$18, '[1]2.토지'!$A$9:$AK$71, 28, FALSE) -> 5994028.5 | U25: =VLOOKUP($A25&$A$18, '[1]2.토지'!$A$9:$AK$71, 29, FALSE) -> 34692 | V25: =VLOOKUP($A25&$A$18, '[1]2.토지'!$A$9:$AK$71, 30, FALSE) -> 2308227.3 | W25: =VLOOKUP($A25&$A$18, '[1]2.토지'!$A$9:$AK$71, 31, FALSE) -> 12072127 | X25: =VLOOKUP($A25&$A$18, '[1]2.토지'!$A$9:$AK$71, 32, FALSE) -> 2716961.8 | Y25: =VLOOKUP($A25&$A$18, '[1]2.토지'!$A$9:$AK$71, 33, FALSE) -> 441768 | Z25: =VLOOKUP($A25&$A$18, '[1]2.토지'!$A$9:$AK$71, 34, FALSE) -> 1400858.5 | AA25: =VLOOKUP($A25&$A$18, '[1]2.토지'!$A$9:$AK$71, 35, FALSE) -> 53518 | AB25: =VLOOKUP($A25&$A$18, '[1]2.토지'!$A$9:$AK$71, 36, FALSE) -> 3899841.6 | AC25: =VLOOKUP($A25&$A$18, '[1]2.토지'!$A$9:$AK$71, 37, FALSE) -> 15041512
A27: 경상북도
A28: 2015 | B28: =VLOOKUP($A28&$A$27, '[2]2.토지'!$A$9:$AK$160, 4, FALSE) -> 19030737844 | C28: =VLOOKUP($A28&$A$27, '[2]2.토지'!$A$9:$AK$160, 5, FALSE) -> 1255190978 | D28: =VLOOKUP($A28&$A$27, '[2]2.토지'!$A$9:$AK$160, 6, FALSE) -> 1761287843 | E28: =VLOOKUP($A28&$A$27, '[2]2.토지'!$A$9:$AK$160, 7, FALSE) -> 155577390 | F28: =VLOOKUP($A28&$A$27, '[2]2.토지'!$A$9:$AK$160, 8, FALSE) -> 52593460 | G28: =VLOOKUP($A28&$A$27, '[2]2.토지'!$A$9:$AK$160, 9, FALSE) -> 13612859635 | H28: =VLOOKUP($A28&$A$27, '[2]2.토지'!$A$9:$AK$160, 10, FALSE) -> 502 | I28: =VLOOKUP($A28&$A$27, '[2]2.토지'!$A$9:$AK$160, 11, FALSE) -> 313153218 | J28: =VLOOKUP($A28&$A$27, '[2]2.토지'!$A$9:$AK$160, 12, FALSE) -> 104513738 | K28: =VLOOKUP($A28&$A$27, '[2]2.토지'!$A$9:$AK$160, 13, FALSE) -> 31488469 | L28: =VLOOKUP($A28&$A$27, '[2]2.토지'!$A$9:$AK$160, 14, FALSE) -> 2405273 | M28: =VLOOKUP($A28&$A$27, '[2]2.토지'!$A$9:$AK$160, 15, FALSE) -> 1753795 | N28: =VLOOKUP($A28&$A$27, '[2]2.토지'!$A$9:$AK$160, 16, FALSE) -> 13735782 | O28: =VLOOKUP($A28&$A$27, '[2]2.토지'!$A$9:$AK$160, 17, FALSE) -> 402518675 | P28: =VLOOKUP($A28&$A$27, '[2]2.토지'!$A$9:$AK$160, 18, FALSE) -> 20969387 | Q28: =VLOOKUP($A28&$A$27, '[2]2.토지'!$A$9:$AK$160, 19, FALSE) -> 30278526 | R28: =VLOOKUP($A28&$A$27, '[2]2.토지'!$A$9:$AK$160, 20, FALSE) -> 566773252 | S28: =VLOOKUP($A28&$A$27, '[2]2.토지'!$A$9:$AK$160, 21, FALSE) -> 351382570 | T28: =VLOOKUP($A28&$A$27, '[2]2.토지'!$A$9:$AK$160, 22, FALSE) -> 176491768 | U28: =VLOOKUP($A28&$A$27, '[2]2.토지'!$A$9:$AK$160, 23, FALSE) -> 1032366 | V28: =VLOOKUP($A28&$A$27, '[2]2.토지'!$A$9:$AK$160, 24, FALSE) -> 2642952 | W28: =VLOOKUP($A28&$A$27, '[2]2.토지'!$A$9:$AK$160, 25, FALSE) -> 8717230 | X28: =VLOOKUP($A28&$A$27, '[2]2.토지'!$A$9:$AK$160, 26, FALSE) -> 27980104 | Y28: =VLOOKUP($A28&$A$27, '[2]2.토지'!$A$9:$AK$160, 27, FALSE) -> 2274032 | Z28: =VLOOKUP($A28&$A$27, '[2]2.토지'!$A$9:$AK$160, 28, FALSE) -> 5428438 | AA28: =VLOOKUP($A28&$A$27, '[2]2.토지'!$A$9:$AK$160, 29, FALSE) -> 1396833 | AB28: =VLOOKUP($A28&$A$27, '[2]2.토지'!$A$9:$AK$160, 30, FALSE) -> 59492221 | AC28: =VLOOKUP($A28&$A$27, '[2]2.토지'!$A$9:$AK$160, 31, FALSE) -> 68799407
A29: 2016 | B29: =VLOOKUP($A29&$A$27, '[2]2.토지'!$A$9:$AK$160, 4, FALSE) -> 19031416972 | C29: =VLOOKUP($A29&$A$27, '[2]2.토지'!$A$9:$AK$160, 5, FALSE) -> 1249971177 | D29: =VLOOKUP($A29&$A$27, '[2]2.토지'!$A$9:$AK$160, 6, FALSE) -> 1751397435 | E29: =VLOOKUP($A29&$A$27, '[2]2.토지'!$A$9:$AK$160, 7, FALSE) -> 156506918 | F29: =VLOOKUP($A29&$A$27, '[2]2.토지'!$A$9:$AK$160, 8, FALSE) -> 52336233 | G29: =VLOOKUP($A29&$A$27, '[2]2.토지'!$A$9:$AK$160, 9, FALSE) -> 13605595447 | H29: =VLOOKUP($A29&$A$27, '[2]2.토지'!$A$9:$AK$160, 10, FALSE) -> 502 | I29: =VLOOKUP($A29&$A$27, '[2]2.토지'!$A$9:$AK$160, 11, FALSE) -> 319642827 | J29: =VLOOKUP($A29&$A$27, '[2]2.토지'!$A$9:$AK$160, 12, FALSE) -> 109283521 | K29: =VLOOKUP($A29&$A$27, '[2]2.토지'!$A$9:$AK$160, 13, FALSE) -> 31635450 | L29: =VLOOKUP($A29&$A$27, '[2]2.토지'!$A$9:$AK$160, 14, FALSE) -> 2653279 | M29: =VLOOKUP($A29&$A$27, '[2]2.토지'!$A$9:$AK$160, 15, FALSE) -> 1787910 | N29: =VLOOKUP($A29&$A$27, '[2]2.토지'!$A$9:$AK$160, 16, FALSE) -> 14567390 | O29: =VLOOKUP($A29&$A$27, '[2]2.토지'!$A$9:$AK$160, 17, FALSE) -> 406519922 | P29: =VLOOKUP($A29&$A$27, '[2]2.토지'!$A$9:$AK$160, 18, FALSE) -> 20961672 | Q29: =VLOOKUP($A29&$A$27, '[2]2.토지'!$A$9:$AK$160, 19, FALSE) -> 30643095 | R29: =VLOOKUP($A29&$A$27, '[2]2.토지'!$A$9:$AK$160, 20, FALSE) -> 566762874 | S29: =VLOOKUP($A29&$A$27, '[2]2.토지'!$A$9:$AK$160, 21, FALSE) -> 350864241 | T29: =VLOOKUP($A29&$A$27, '[2]2.토지'!$A$9:$AK$160, 22, FALSE) -> 178851258 | U29: =VLOOKUP($A29&$A$27, '[2]2.토지'!$A$9:$AK$160, 23, FALSE) -> 1033193 | V29: =VLOOKUP($A29&$A$27, '[2]2.토지'!$A$9:$AK$160, 24, FALSE) -> 2657504 | W29: =VLOOKUP($A29&$A$27, '[2]2.토지'!$A$9:$AK$160, 25, FALSE) -> 10182934 | X29: =VLOOKUP($A29&$A$27, '[2]2.토지'!$A$9:$AK$160, 26, FALSE) -> 28244644 | Y29: =VLOOKUP($A29&$A$27, '[2]2.토지'!$A$9:$AK$160, 27, FALSE) -> 2356085 | Z29: =VLOOKUP($A29&$A$27, '[2]2.토지'!$A$9:$AK$160, 28, FALSE) -> 5577859 | AA29: =VLOOKUP($A29&$A$27, '[2]2.토지'!$A$9:$AK$160, 29, FALSE) -> 1422466 | AB29: =VLOOKUP($A29&$A$27, '[2]2.토지'!$A$9:$AK$160, 30, FALSE) -> 59367139 | AC29: =VLOOKUP($A29&$A$27, '[2]2.토지'!$A$9:$AK$160, 31, FALSE) -> 70593999
A30: 2017 | B30: =VLOOKUP($A30&$A$27, '[2]2.토지'!$A$9:$AK$160, 4, FALSE) -> 19032539824 | C30: =VLOOKUP($A30&$A$27, '[2]2.토지'!$A$9:$AK$160, 5, FALSE) -> 1246760473 | D30: =VLOOKUP($A30&$A$27, '[2]2.토지'!$A$9:$AK$160, 6, FALSE) -> 1743676073 | E30: =VLOOKUP($A30&$A$27, '[2]2.토지'!$A$9:$AK$160, 7, FALSE) -> 157874133 | F30: =VLOOKUP($A30&$A$27, '[2]2.토지'!$A$9:$AK$160, 8, FALSE) -> 51934941 | G30: =VLOOKUP($A30&$A$27, '[2]2.토지'!$A$9:$AK$160, 9, FALSE) -> 13595754146 | H30: =VLOOKUP($A30&$A$27, '[2]2.토지'!$A$9:$AK$160, 10, FALSE) -> 515 | I30: =VLOOKUP($A30&$A$27, '[2]2.토지'!$A$9:$AK$160, 11, FALSE) -> 324514101 | J30: =VLOOKUP($A30&$A$27, '[2]2.토지'!$A$9:$AK$160, 12, FALSE) -> 112022357 | K30: =VLOOKUP($A30&$A$27, '[2]2.토지'!$A$9:$AK$160, 13, FALSE) -> 31696144 | L30: =VLOOKUP($A30&$A$27, '[2]2.토지'!$A$9:$AK$160, 14, FALSE) -> 2773513 | M30: =VLOOKUP($A30&$A$27, '[2]2.토지'!$A$9:$AK$160, 15, FALSE) -> 1810958 | N30: =VLOOKUP($A30&$A$27, '[2]2.토지'!$A$9:$AK$160, 16, FALSE) -> 15210351 | O30: =VLOOKUP($A30&$A$27, '[2]2.토지'!$A$9:$AK$160, 17, FALSE) -> 412737264 | P30: =VLOOKUP($A30&$A$27, '[2]2.토지'!$A$9:$AK$160, 18, FALSE) -> 20978438 | Q30: =VLOOKUP($A30&$A$27, '[2]2.토지'!$A$9:$AK$160, 19, FALSE) -> 30764201 | R30: =VLOOKUP($A30&$A$27, '[2]2.토지'!$A$9:$AK$160, 20, FALSE) -> 566763952 | S30: =VLOOKUP($A30&$A$27, '[2]2.토지'!$A$9:$AK$160, 21, FALSE) -> 351006483 | T30: =VLOOKUP($A30&$A$27, '[2]2.토지'!$A$9:$AK$160, 22, FALSE) -> 180094997 | U30: =VLOOKUP($A30&$A$27, '[2]2.토지'!$A$9:$AK$160, 23, FALSE) -> 1052492 | V30: =VLOOKUP($A30&$A$27, '[2]2.토지'!$A$9:$AK$160, 24, FALSE) -> 2664895 | W30: =VLOOKUP($A30&$A$27, '[2]2.토지'!$A$9:$AK$160, 25, FALSE) -> 10955769 | X30: =VLOOKUP($A30&$A$27, '[2]2.토지'!$A$9:$AK$160, 26, FALSE) -> 28880373 | Y30: =VLOOKUP($A30&$A$27, '[2]2.토지'!$A$9:$AK$160, 27, FALSE) -> 3306174 | Z30: =VLOOKUP($A30&$A$27, '[2]2.토지'!$A$9:$AK$160, 28, FALSE) -> 5705558 | AA30: =VLOOKUP($A30&$A$27, '[2]2.토지'!$A$9:$AK$160, 29, FALSE) -> 1435674 | AB30: =VLOOKUP($A30&$A$27, '[2]2.토지'!$A$9:$AK$160, 30, FALSE) -> 59236659 | AC30: =VLOOKUP($A30&$A$27, '[2]2.토지'!$A$9:$AK$160, 31, FALSE) -> 72929190
A31: 2018 | B31: =VLOOKUP($A31&$A$27, '[2]2.토지'!$A$9:$AK$160, 4, FALSE) -> 19032867577 | C31: =VLOOKUP($A31&$A$27, '[2]2.토지'!$A$9:$AK$160, 5, FALSE) -> 1246559603 | D31: =VLOOKUP($A31&$A$27, '[2]2.토지'!$A$9:$AK$160, 6, FALSE) -> 1737012274 | E31: =VLOOKUP($A31&$A$27, '[2]2.토지'!$A$9:$AK$160, 7, FALSE) -> 161647279 | F31: =VLOOKUP($A31&$A$27, '[2]2.토지'!$A$9:$AK$160, 8, FALSE) -> 51941675 | G31: =VLOOKUP($A31&$A$27, '[2]2.토지'!$A$9:$AK$160, 9, FALSE) -> 13577865047 | H31: =VLOOKUP($A31&$A$27, '[2]2.토지'!$A$9:$AK$160, 10, FALSE) -> 515 | I31: =VLOOKUP($A31&$A$27, '[2]2.토지'!$A$9:$AK$160, 11, FALSE) -> 329340203 | J31: =VLOOKUP($A31&$A$27, '[2]2.토지'!$A$9:$AK$160, 12, FALSE) -> 114152837 | K31: =VLOOKUP($A31&$A$27, '[2]2.토지'!$A$9:$AK$160, 13, FALSE) -> 32253085 | L31: =VLOOKUP($A31&$A$27, '[2]2.토지'!$A$9:$AK$160, 14, FALSE) -> 2862830 | M31: =VLOOKUP($A31&$A$27, '[2]2.토지'!$A$9:$AK$160, 15, FALSE) -> 1825709 | N31: =VLOOKUP($A31&$A$27, '[2]2.토지'!$A$9:$AK$160, 16, FALSE) -> 15936768 | O31: =VLOOKUP($A31&$A$27, '[2]2.토지'!$A$9:$AK$160, 17, FALSE) -> 419341430 | P31: =VLOOKUP($A31&$A$27, '[2]2.토지'!$A$9:$AK$160, 18, FALSE) -> 20968677 | Q31: =VLOOKUP($A31&$A$27, '[2]2.토지'!$A$9:$AK$160, 19, FALSE) -> 30960839 | R31: =VLOOKUP($A31&$A$27, '[2]2.토지'!$A$9:$AK$160, 20, FALSE) -> 566610346 | S31: =VLOOKUP($A31&$A$27, '[2]2.토지'!$A$9:$AK$160, 21, FALSE) -> 350537711 | T31: =VLOOKUP($A31&$A$27, '[2]2.토지'!$A$9:$AK$160, 22, FALSE) -> 182536792 | U31: =VLOOKUP($A31&$A$27, '[2]2.토지'!$A$9:$AK$160, 23, FALSE) -> 1025628 | V31: =VLOOKUP($A31&$A$27, '[2]2.토지'!$A$9:$AK$160, 24, FALSE) -> 2673842 | W31: =VLOOKUP($A31&$A$27, '[2]2.토지'!$A$9:$AK$160, 25, FALSE) -> 11621885 | X31: =VLOOKUP($A31&$A$27, '[2]2.토지'!$A$9:$AK$160, 26, FALSE) -> 29941065 | Y31: =VLOOKUP($A31&$A$27, '[2]2.토지'!$A$9:$AK$160, 27, FALSE) -> 3728027 | Z31: =VLOOKUP($A31&$A$27, '[2]2.토지'!$A$9:$AK$160, 28, FALSE) -> 5832902 | AA31: =VLOOKUP($A31&$A$27, '[2]2.토지'!$A$9:$AK$160, 29, FALSE) -> 1435713 | AB31: =VLOOKUP($A31&$A$27, '[2]2.토지'!$A$9:$AK$160, 30, FALSE) -> 59109131 | AC31: =VLOOKUP($A31&$A$27, '[2]2.토지'!$A$9:$AK$160, 31, FALSE) -> 75145765
A32: 2019 | B32: =VLOOKUP($A32&$A$27, '[2]2.토지'!$A$9:$AK$160, 4, FALSE) -> 19033343124 | C32: =VLOOKUP($A32&$A$27, '[2]2.토지'!$A$9:$AK$160, 5, FALSE) -> 1242918694 | D32: =VLOOKUP($A32&$A$27, '[2]2.토지'!$A$9:$AK$160, 6, FALSE) -> 1730670360 | E32: =VLOOKUP($A32&$A$27, '[2]2.토지'!$A$9:$AK$160, 7, FALSE) -> 161791552 | F32: =VLOOKUP($A32&$A$27, '[2]2.토지'!$A$9:$AK$160, 8, FALSE) -> 52111350 | G32: =VLOOKUP($A32&$A$27, '[2]2.토지'!$A$9:$AK$160, 9, FALSE) -> 13570218206 | H32: =VLOOKUP($A32&$A$27, '[2]2.토지'!$A$9:$AK$160, 10, FALSE) -> 515 | I32: =VLOOKUP($A32&$A$27, '[2]2.토지'!$A$9:$AK$160, 11, FALSE) -> 333561964 | J32: =VLOOKUP($A32&$A$27, '[2]2.토지'!$A$9:$AK$160, 12, FALSE) -> 115190179 | K32: =VLOOKUP($A32&$A$27, '[2]2.토지'!$A$9:$AK$160, 13, FALSE) -> 32725592 | L32: =VLOOKUP($A32&$A$27, '[2]2.토지'!$A$9:$AK$160, 14, FALSE) -> 3155921 | M32: =VLOOKUP($A32&$A$27, '[2]2.토지'!$A$9:$AK$160, 15, FALSE) -> 1838215 | N32: =VLOOKUP($A32&$A$27, '[2]2.토지'!$A$9:$AK$160, 16, FALSE) -> 16744999 | O32: =VLOOKUP($A32&$A$27, '[2]2.토지'!$A$9:$AK$160, 17, FALSE) -> 423038955 | P32: =VLOOKUP($A32&$A$27, '[2]2.토지'!$A$9:$AK$160, 18, FALSE) -> 20961036 | Q32: =VLOOKUP($A32&$A$27, '[2]2.토지'!$A$9:$AK$160, 19, FALSE) -> 31145279 | R32: =VLOOKUP($A32&$A$27, '[2]2.토지'!$A$9:$AK$160, 20, FALSE) -> 566660489 | S32: =VLOOKUP($A32&$A$27, '[2]2.토지'!$A$9:$AK$160, 21, FALSE) -> 351165982 | T32: =VLOOKUP($A32&$A$27, '[2]2.토지'!$A$9:$AK$160, 22, FALSE) -> 182754725 | U32: =VLOOKUP($A32&$A$27, '[2]2.토지'!$A$9:$AK$160, 23, FALSE) -> 1029578 | V32: =VLOOKUP($A32&$A$27, '[2]2.토지'!$A$9:$AK$160, 24, FALSE) -> 2696689 | W32: =VLOOKUP($A32&$A$27, '[2]2.토지'!$A$9:$AK$160, 25, FALSE) -> 12696881 | X32: =VLOOKUP($A32&$A$27, '[2]2.토지'!$A$9:$AK$160, 26, FALSE) -> 31210843 | Y32: =VLOOKUP($A32&$A$27, '[2]2.토지'!$A$9:$AK$160, 27, FALSE) -> 4202559 | Z32: =VLOOKUP($A32&$A$27, '[2]2.토지'!$A$9:$AK$160, 28, FALSE) -> 5954074 | AA32: =VLOOKUP($A32&$A$27, '[2]2.토지'!$A$9:$AK$160, 29, FALSE) -> 1435713 | AB32: =VLOOKUP($A32&$A$27, '[2]2.토지'!$A$9:$AK$160, 30, FALSE) -> 59175972 | AC32: =VLOOKUP($A32&$A$27, '[2]2.토지'!$A$9:$AK$160, 31, FALSE) -> 78286805
A33: 2020 | B33: =VLOOKUP($A33&$A$27, '[2]2.토지'!$A$9:$AK$160, 4, FALSE) -> 19034029463 | C33: =VLOOKUP($A33&$A$27, '[2]2.토지'!$A$9:$AK$160, 5, FALSE) -> 1239331690 | D33: =VLOOKUP($A33&$A$27, '[2]2.토지'!$A$9:$AK$160, 6, FALSE) -> 1723133386 | E33: =VLOOKUP($A33&$A$27, '[2]2.토지'!$A$9:$AK$160, 7, FALSE) -> 161872720 | F33: =VLOOKUP($A33&$A$27, '[2]2.토지'!$A$9:$AK$160, 8, FALSE) -> 52117881 | G33: =VLOOKUP($A33&$A$27, '[2]2.토지'!$A$9:$AK$160, 9, FALSE) -> 13559665655 | H33: =VLOOKUP($A33&$A$27, '[2]2.토지'!$A$9:$AK$160, 10, FALSE) -> 515 | I33: =VLOOKUP($A33&$A$27, '[2]2.토지'!$A$9:$AK$160, 11, FALSE) -> 337255516 | J33: =VLOOKUP($A33&$A$27, '[2]2.토지'!$A$9:$AK$160, 12, FALSE) -> 116685583 | K33: =VLOOKUP($A33&$A$27, '[2]2.토지'!$A$9:$AK$160, 13, FALSE) -> 32871204 | L33: =VLOOKUP($A33&$A$27, '[2]2.토지'!$A$9:$AK$160, 14, FALSE) -> 3323019 | M33: =VLOOKUP($A33&$A$27, '[2]2.토지'!$A$9:$AK$160, 15, FALSE) -> 1855507 | N33: =VLOOKUP($A33&$A$27, '[2]2.토지'!$A$9:$AK$160, 16, FALSE) -> 17347015 | O33: =VLOOKUP($A33&$A$27, '[2]2.토지'!$A$9:$AK$160, 17, FALSE) -> 431200628 | P33: =VLOOKUP($A33&$A$27, '[2]2.토지'!$A$9:$AK$160, 18, FALSE) -> 20939379 | Q33: =VLOOKUP($A33&$A$27, '[2]2.토지'!$A$9:$AK$160, 19, FALSE) -> 31251158 | R33: =VLOOKUP($A33&$A$27, '[2]2.토지'!$A$9:$AK$160, 20, FALSE) -> 566660134 | S33: =VLOOKUP($A33&$A$27, '[2]2.토지'!$A$9:$AK$160, 21, FALSE) -> 350886044 | T33: =VLOOKUP($A33&$A$27, '[2]2.토지'!$A$9:$AK$160, 22, FALSE) -> 183323256 | U33: =VLOOKUP($A33&$A$27, '[2]2.토지'!$A$9:$AK$160, 23, FALSE) -> 1077271 | V33: =VLOOKUP($A33&$A$27, '[2]2.토지'!$A$9:$AK$160, 24, FALSE) -> 2740174 | W33: =VLOOKUP($A33&$A$27, '[2]2.토지'!$A$9:$AK$160, 25, FALSE) -> 13863186 | X33: =VLOOKUP($A33&$A$27, '[2]2.토지'!$A$9:$AK$160, 26, FALSE) -> 32229768 | Y33: =VLOOKUP($A33&$A$27, '[2]2.토지'!$A$9:$AK$160, 27, FALSE) -> 4529510 | Z33: =VLOOKUP($A33&$A$27, '[2]2.토지'!$A$9:$AK$160, 28, FALSE) -> 6054734 | AA33: =VLOOKUP($A33&$A$27, '[2]2.토지'!$A$9:$AK$160, 29, FALSE) -> 1438346 | AB33: =VLOOKUP($A33&$A$27, '[2]2.토지'!$A$9:$AK$160, 30, FALSE) -> 59200648 | AC33: =VLOOKUP($A33&$A$27, '[2]2.토지'!$A$9:$AK$160, 31, FALSE) -> 83175536
A34: 2021 | B34: 1.9034795e+10 | C34: 1.2363726e+09 | D34: 1.7169349e+09 | E34: 1.6184911e+08 | F34: 52141524 | G34: 1.3551452e+10 | H34: 515.2 | I34: 3.4068726e+08 | J34: 118063032 | K34: 32956923 | L34: 3431321.7 | M34: 1875406.8 | N34: 18191947 | O34: 4.3707991e+08 | P34: 20931286 | Q34: 31320951 | R34: 5.6717929e+08 | S34: 3.510157e+08 | T34: 1.8340352e+08 | U34: 1092321.2 | V34: 2771900.4 | W34: 14259916 | X34: 32491814 | Y34: 4691148 | Z34: 6207166.9 | AA34: 1441528.3 | AB34: 59283743 | AC34: 87668344
A36: 자료: 대구통계연보, 경북통계연보

Sheet 3.강수량
A1: [목록]으로
A2: 3. 월별 강수량
O4: 단위:mm
B5: 계 | D5: 1월 | E5: 2월 | F5: 3월 | G5: 4월 | H5: 5월 | I5: 6월 | J5: 7월 | K5: 8월 | L5: 9월 | M5: 10월 | N5: 11월 | O5: 12월
C6: 연평균 강수량
A9: 대경권
A10: 2015 | B10: =SUM(B19,B28) -> 1680.8 | C10: =AVERAGE(D10:O10) -> 137.95833 | D10: =SUM(D19,E28) -> 42.8 | E10: =SUM(E19,F28) -> 55.8 | F10: =SUM(F19,G28) -> 126.8 | G10: =SUM(G19,H28) -> 107 | H10: =SUM(H19,I28) -> 115.1 | I10: =SUM(I19,J28) -> 202.5 | J10: =SUM(J19,K28) -> 275.4 | K10: =SUM(K19,L28) -> 322 | ... O10: =SUM(O19,P28) -> 33.5
A11: 2016 | B11: =SUM(B20,B29) -> 2426.3 | C11: =AVERAGE(D11:O11) -> 200.26667 | D11: =SUM(D20,E29) -> 56.6 | E11: =SUM(E20,F29) -> 62.8 | F11: =SUM(F20,G29) -> 218 | G11: =SUM(G20,H29) -> 212.4 | H11: =SUM(H20,I29) -> 112.4 | I11: =SUM(I20,J29) -> 318.2 | J11: =SUM(J20,K29) -> 406.5 | K11: =SUM(K20,L29) -> 337.4 | ... O11: =SUM(O20,P29) -> 41
A12: 2017 | B12: =SUM(B21,B30) -> 1474.4 | C12: =AVERAGE(D12:O12) -> 121.91667 | D12: =SUM(D21,E30) -> 39.4 | E12: =SUM(E21,F30) -> 52.3 | F12: =SUM(F21,G30) -> 112.6 | G12: =SUM(G21,H30) -> 73.9 | H12: =SUM(H21,I30) -> 78.5 | I12: =SUM(I21,J30) -> 298.8 | J12: =SUM(J21,K30) -> 288.8 | K12: =SUM(K21,L30) -> 267.5 | ... O12: =SUM(O21,P30) -> 11
A13: 2018 | B13: =SUM(B22,B31) -> 2624.6 | C13: =AVERAGE(D13:O13) -> 217.1 | D13: =SUM(D22,E31) -> 52.7 | E13: =SUM(E22,F31) -> 139.5 | F13: =SUM(F22,G31) -> 229 | G13: =SUM(G22,H31) -> 205 | H13: =SUM(H22,I31) -> 190.2 | I13: =SUM(I22,J31) -> 362.3 | J13: =SUM(J22,K31) -> 403.4 | K13: =SUM(K22,L31) -> 459.2 | ... O13: =SUM(O22,P31) -> 23.8
A14: 2019 | B14: =SUM(B23,B32) -> 2131.9 | C14: =AVERAGE(D14:O14) -> 176.61667 | D14: =SUM(D23,E32) -> 39 | E14: =SUM(E23,F32) -> 68.4 | F14: =SUM(F23,G32) -> 104.6 | G14: =SUM(G23,H32) -> 127.2 | H14: =SUM(H23,I32) -> 179 | I14: =SUM(I23,J32) -> 329 | J14: =SUM(J23,K32) -> 273.1 | K14: =SUM(K23,L32) -> 343.2 | ... O14: =SUM(O23,P32) -> 27.5
A15: 2020 | B15: =SUM(B24,B33) -> 2552.9 | C15: =AVERAGE(D15:O15) -> 210.55 | D15: =SUM(D24,E33) -> 130.6 | E15: =SUM(E24,F33) -> 63.2 | F15: =SUM(F24,G33) -> 61 | G15: =SUM(G24,H33) -> 104.9 | H15: =SUM(H24,I33) -> 189.3 | I15: =SUM(I24,J33) -> 583.6 | J15: =SUM(J24,K33) -> 622.3 | K15: =SUM(K24,L33) -> 510.1 | ... O15: =SUM(O24,P33) -> 2.8
A16: 2021 | B16: =SUM(B25,B34) -> 2044.2826 | C16: =AVERAGE(D16:O16) -> 169.01848 | D16: =SUM(D25,E34) -> 29.821739 | E16: =SUM(E25,F34) -> 112.25217 | F16: =SUM(F25,G34) -> 163.84783 | G16: =SUM(G25,H34) -> 154.62174 | H16: =SUM(H25,I34) -> 155.93478 | I16: =SUM(I25,J34) -> 264.29565 | J16: =SUM(J25,K34) -> 451.62174 | K16: =SUM(K25,L34) -> 391.13043 | ... O16: =SUM(O25,P34) -> 0.1
A18: 대구광역시
A19: 2015 | B19: =VLOOKUP($A19&$A$18, '[1]3.강수량'!$A$9:$U$71, 4, FALSE) -> 886.8 | C19: =AVERAGE(D19:O19) -> 73.9 | D19: =VLOOKUP($A19&$A$18, '[1]3.강수량'!$A$9:$U$71, 6, FALSE) -> 21.5 | E19: =VLOOKUP($A19&$A$18, '[1]3.강수량'!$A$9:$U$71, 7, FALSE) -> 11.6 | F19: =VLOOKUP($A19&$A$18, '[1]3.강수량'!$A$9:$U$71, 8, FALSE) -> 44.4 | G19: =VLOOKUP($A19&$A$18, '[1]3.강수량'!$A$9:$U$71, 9, FALSE) -> 76.4 | H19: =VLOOKUP($A19&$A$18, '[1]3.강수량'!$A$9:$U$71, 10, FALSE) -> 30.5 | I19: =VLOOKUP($A19&$A$18, '[1]3.강수량'!$A$9:$U$71, 11, FALSE) -> 62.6 | J19: =VLOOKUP($A19&$A$18, '[1]3.강수량'!$A$9:$U$71, 12, FALSE) -> 157.5 | K19: =VLOOKUP($A19&$A$18, '[1]3.강수량'!$A$9:$U$71, 13, FALSE) -> 269.5 | L19: =VLOOKUP($A19&$A$18, '[1]3.강수량'!$A$9:$U$71, 14, FALSE) -> 70.3 | M19: =VLOOKUP($A19&$A$18, '[1]3.강수량'!$A$9:$U$71, 15, FALSE) -> 38.1 | N19: =VLOOKUP($A19&$A$18, '[1]3.강수량'!$A$9:$U$71, 16, FALSE) -> 70.9 | O19: =VLOOKUP($A19&$A$18, '[1]3.강수량'!$A$9:$U$71, 17, FALSE) -> 33.5
A20: 2016 | B20: =VLOOKUP($A20&$A$18, '[1]3.강수량'!$A$9:$U$71, 4, FALSE) -> 1227.3 | C20: =AVERAGE(D20:O20) -> 102.275 | D20: =VLOOKUP($A20&$A$18, '[1]3.강수량'!$A$9:$U$71, 6, FALSE) -> 23.8 | E20: =VLOOKUP($A20&$A$18, '[1]3.강수량'!$A$9:$U$71, 7, FALSE) -> 15.5 | F20: =VLOOKUP($A20&$A$18, '[1]3.강수량'!$A$9:$U$71, 8, FALSE) -> 67.5 | G20: =VLOOKUP($A20&$A$18, '[1]3.강수량'!$A$9:$U$71, 9, FALSE) -> 151 | H20: =VLOOKUP($A20&$A$18, '[1]3.강수량'!$A$9:$U$71, 10, FALSE) -> 65 | I20: =VLOOKUP($A20&$A$18, '[1]3.강수량'!$A$9:$U$71, 11, FALSE) -> 45.7 | J20: =VLOOKUP($A20&$A$18, '[1]3.강수량'!$A$9:$U$71, 12, FALSE) -> 307.3 | K20: =VLOOKUP($A20&$A$18, '[1]3.강수량'!$A$9:$U$71, 13, FALSE) -> 81.2 | L20: =VLOOKUP($A20&$A$18, '[1]3.강수량'!$A$9:$U$71, 14, FALSE) -> 306.5 | M20: =VLOOKUP($A20&$A$18, '[1]3.강수량'!$A$9:$U$71, 15, FALSE) -> 111.5 | N20: =VLOOKUP($A20&$A$18, '[1]3.강수량'!$A$9:$U$71, 16, FALSE) -> 11.3 | O20: =VLOOKUP($A20&$A$18, '[1]3.강수량'!$A$9:$U$71, 17, FALSE) -> 41
A21: 2017 | B21: =VLOOKUP($A21&$A$18, '[1]3.강수량'!$A$9:$U$71, 4, FALSE) -> 663.7 | C21: =AVERAGE(D21:O21) -> 55.308333 | D21: =VLOOKUP($A21&$A$18, '[1]3.강수량'!$A$9:$U$71, 6, FALSE) -> 2.5 | E21: =VLOOKUP($A21&$A$18, '[1]3.강수량'!$A$9:$U$71, 7, FALSE) -> 25.7 | F21: =VLOOKUP($A21&$A$18, '[1]3.강수량'!$A$9:$U$71, 8, FALSE) -> 38.4 | G21: =VLOOKUP($A21&$A$18, '[1]3.강수량'!$A$9:$U$71, 9, FALSE) -> 53 | H21: =VLOOKUP($A21&$A$18, '[1]3.강수량'!$A$9:$U$71, 10, FALSE) -> 33.1 | I21: =VLOOKUP($A21&$A$18, '[1]3.강수량'!$A$9:$U$71, 11, FALSE) -> 71.5 | J21: =VLOOKUP($A21&$A$18, '[1]3.강수량'!$A$9:$U$71, 12, FALSE) -> 105.3 | K21: =VLOOKUP($A21&$A$18, '[1]3.강수량'!$A$9:$U$71, 13, FALSE) -> 171.3 | L21: =VLOOKUP($A21&$A$18, '[1]3.강수량'!$A$9:$U$71, 14, FALSE) -> 97.5 | M21: =VLOOKUP($A21&$A$18, '[1]3.강수량'!$A$9:$U$71, 15, FALSE) -> 54.3 | N21: =VLOOKUP($A21&$A$18, '[1]3.강수량'!$A$9:$U$71, 16, FALSE) -> 0.1 | O21: =VLOOKUP($A21&$A$18, '[1]3.강수량'!$A$9:$U$71, 17, FALSE) -> 11
A22: 2018 | B22: =VLOOKUP($A22&$A$18, '[1]3.강수량'!$A$9:$U$71, 4, FALSE) -> 1297.6 | C22: =AVERAGE(D22:O22) -> 108.13333 | D22: =VLOOKUP($A22&$A$18, '[1]3.강수량'!$A$9:$U$71, 6, FALSE) -> 21.1 | E22: =VLOOKUP($A22&$A$18, '[1]3.강수량'!$A$9:$U$71, 7, FALSE) -> 25.1 | F22: =VLOOKUP($A22&$A$18, '[1]3.강수량'!$A$9:$U$71, 8, FALSE) -> 98.7 | G22: =VLOOKUP($A22&$A$18, '[1]3.강수량'!$A$9:$U$71, 9, FALSE) -> 113 | H22: =VLOOKUP($A22&$A$18, '[1]3.강수량'!$A$9:$U$71, 10, FALSE) -> 99.7 | I22: =VLOOKUP($A22&$A$18, '[1]3.강수량'!$A$9:$U$71, 11, FALSE) -> 121.1 | J22: =VLOOKUP($A22&$A$18, '[1]3.강수량'!$A$9:$U$71, 12, FALSE) -> 169.6 | K22: =VLOOKUP($A22&$A$18, '[1]3.강수량'!$A$9:$U$71, 13, FALSE) -> 334.2 | L22: =VLOOKUP($A22&$A$18, '[1]3.강수량'!$A$9:$U$71, 14, FALSE) -> 109 | M22: =VLOOKUP($A22&$A$18, '[1]3.강수량'!$A$9:$U$71, 15, FALSE) -> 165.1 | N22: =VLOOKUP($A22&$A$18, '[1]3.강수량'!$A$9:$U$71, 16, FALSE) -> 17.2 | O22: =VLOOKUP($A22&$A$18, '[1]3.강수량'!$A$9:$U$71, 17, FALSE) -> 23.8
A23: 2019 | B23: =VLOOKUP($A23&$A$18, '[1]3.강수량'!$A$9:$U$71, 4, FALSE) -> 995.7 | C23: =AVERAGE(D23:O23) -> 82.975 | D23: =VLOOKUP($A23&$A$18, '[1]3.강수량'!$A$9:$U$71, 6, FALSE) -> 9.5 | E23: =VLOOKUP($A23&$A$18, '[1]3.강수량'!$A$9:$U$71, 7, FALSE) -> 26.2 | F23: =VLOOKUP($A23&$A$18, '[1]3.강수량'!$A$9:$U$71, 8, FALSE) -> 20.7 | G23: =VLOOKUP($A23&$A$18, '[1]3.강수량'!$A$9:$U$71, 9, FALSE) -> 88 | H23: =VLOOKUP($A23&$A$18, '[1]3.강수량'!$A$9:$U$71, 10, FALSE) -> 25.7 | I23: =VLOOKUP($A23&$A$18, '[1]3.강수량'!$A$9:$U$71, 11, FALSE) -> 160.8 | J23: =VLOOKUP($A23&$A$18, '[1]3.강수량'!$A$9:$U$71, 12, FALSE) -> 139.4 | K23: =VLOOKUP($A23&$A$18, '[1]3.강수량'!$A$9:$U$71, 13, FALSE) -> 141.9 | L23: =VLOOKUP($A23&$A$18, '[1]3.강수량'!$A$9:$U$71, 14, FALSE) -> 185.5 | M23: =VLOOKUP($A23&$A$18, '[1]3.강수량'!$A$9:$U$71, 15, FALSE) -> 155.2 | N23: =VLOOKUP($A23&$A$18, '[1]3.강수량'!$A$9:$U$71, 16, FALSE) -> 15.3 | O23: =VLOOKUP($A23&$A$18, '[1]3.강수량'!$A$9:$U$71, 17, FALSE) -> 27.5
