Workbook

Sheet 표지
B7: 대구∙경북 광역권 통계 - 기초항목 50
A10: • | B10: 본 자료는 대구광역시와 경상북도가 지역균형발전을 뒷받침할
B11: 대구경북 광역권 전반에 대한 정보를 제공하고자 작성하였습니다.
A13: • | B13: 대구, 경북이 보유한 기본통계 중에서 가장 기초가 되는 50개 항목을 선정하고,
B14: 각 통계항목을 통합하여 대경권 통계(2015년 ~ 2021년)로 수록하였습니다.
A16: • | B16: 통계에 대한 상세한 내용은 각 통계표의 출처(자료)를 참고하시기 바랍니다.
A46: • | B46: 자료 문의 | C46: : 대구광역시 빅데이터과 (053-803-5433)
C47: 경상북도 빅데이터과 (054-880-2532)

Sheet 목록
A1: 대구·경북 광역권통계 - 기초항목 50
A3: 부문 | B3: 항 목 명 | C3: 통계명(출처) | D3: 주기 | E3: 작성년도
A4: 토지기후 | B4: 1. 행정구역 현황 | C4: 기본통계 | D4: 년 | E4: 2015~2021 | F4: GO
B5: 2. 토지지목별 현황 | D5: 년 | E5: 2015~2021 | F5: GO
B6: 3. 월별 강수량 | D6: 월/년 | E6: 2015~2021 | F6: GO
A7: 인구 | B7: 4. 세대 및 인구 현황 | C7: 주민등록인구통계 | D7: 년 | E7: 2015~2021 | F7: GO
B8: 5. 연령별 인구 | D8: 년 | E8: 2015~2021 | F8: GO
B9: 6. 인구동향 | C9: 기본통계 | D9: 년 | E9: 2015~2021 | F9: GO
B10: 6-1. 인구이동 | D10: 년 | E10: 2015~2021 | F10: GO
B11: 7. 가구원수별 가구 | D11: 년 | E11: 2015~2021 | F11: GO
A12: 사업체 | B12: 8. 산업별 사업체수 | C12: 사업체 | D12: 년 | E12: 2015~2021 | F12: GO
B13: 8-1. 산업별 종사자수 | D13: 년 | E13: 2015~2021 | F13: GO
B14: 9. 종사자규모별 사업체수 | D14: 년 | E14: 2015~2021 | F14: GO
B15: 9-1. 종사자규모별 종사자수 | D15: 년 | E15: 2015~2021 | F15: GO
A16: 소득 | B16: 10. 지역소득(생산, 소득, 지출), 1인당 | C16: 지역내총생산 | D16: 년 | E16: 2015~2021 | F16: GO
A17: 농림수산업 | B17: 11. 농가 현황 | C17: 기본통계 | D17: 년 | E17: 2015~2021 | F17: GO
B18: 12. 작물 생산량 | D18: 년 | E18: 2015~2021 | F18: GO
B19: 13. 가축사육 | D19: 년 | E19: 2015~2021 | F19: GO
B20: 14. 임산물 생산량 | D20: 년 | E20: 2015~2021 | F20: GO
A21: 광업제조업 | B21: 15. 제조업 주요지표 | C21: 광업제조업 | D21: 년 | E21: 2015~2021 | F21: GO
B22: 16. 제조업 중분류별 사업체수, 종사자수 | D22: 년 | E22: 2015~2021 | F22: GO
B23: 17. 산업 및 농공단지 현황 | C23: 기본통계 | D23: 년 | E23: 2015~2021 | F23: GO
A24: 가스수도 | B24: 18. 가스 공급량 | C24: 기본통계 | D24: 년 | E24: 2015~2021 | F24: GO
B25: 19. 상수도 보급현황 | D25: 년 | E25: 2015~2021 | F25: GO
B26: 20. 하수도 보급률 | D26: 년 | E26: 2015~2021 | F26: GO
A27: 유통금융 | B27: 21. 유통업체 현황 | C27: 기본통계 | D27: 년 | E27: 2015~2020 | F27: GO
B28: 22. 수출입 통관실적 | D28: 년 | E28: 2015~2021 | F28: GO
B29: 23. 수출 수입 실적 | D29: 년 | E29: 2015~2021 | F29: GO
A30: 주택건설 | B30: 24. 주택현황 및 보급률 | C30: 기본통계 | D30: 년 | E30: 2015~2021 | F30: GO
B31: 25. 건축허가 | D31: 년 | E31: 2015~2021 | F31: GO
B32: 26. 용도지역 현황 | D32: 년 | E32: 2015~2021 | F32: GO
B33: 27. 도로현황 | D33: 년 | E33: 2015~2021 | F33: GO
A34: 교통관광 | B34: 28. 자동차 등록 | C34: 기본통계 | D34: 년 | E34: 2015~2021 | F34: GO
B35: 29. 영업용자동차 여객수송 | D35: 년 | E35: 2015~2021 | F35: GO
B36: 30. 관광사업체 등록 | D36: 년 | E36: 2015~2021 | F36: GO
A37: 보건위생 | B37: 31. 의료기관 현황 | C37: 기본통계 | D37: 년 | E37: 2015~2021 | F37: GO
B38: 32. 의료인력 및 보건소인력 | D38: 년 | E38: 2015~2021 | F38: GO
B39: 33. 식품위생관계업소 현황 | D39: 년 | E39: 2015~2021 | F39: GO
A40: 사회복지 | B40: 34. 건강보험 적용인구 | C40: 기본통계 | D40: 년 | E40: 2015~2021 | F40: GO
B41: 35. 국민연금 가입자 현황 | D41: 년 | E41: 2015~2021 | F41: GO
B42: 36. 노인복지시설 현황 | D42: 년 | E42: 2015~2021 | F42: GO
B43: 37. 국민기초생활수급자 현황 | D43: 년 | E43: 2015~2021 | F43: GO
B44: 38. 장애인 등록현황 | D44: 년 | E44: 2015~2021 | F44: GO
A45: 환경 | B45: 39. 환경오염물질 배출사업장 | C45: 기본통계 | D45: 년 | E45: 2015~2021 | F45: GO
B46: 40. 쓰레기 수거 | D46: 년 | E46: 2015~2020 | F46: GO
B47: 41. 폐기물 재활용률 | D47: 년 | E47: 2015~2021 | F47: GO
A48: 교육문화 | B48: 42. 학교현황 | C48: 기본통계 | D48: 년 | E48: 2015~2021 | F48: GO
B49: 43. 공공도서관 | D49: 년 | E49: 2015~2021 | F49: GO
B50: 44. 문화재 | D50: 년 | E50: 2015~2021 | F50: GO
A51: 재정 | B51: 45. 지방세 부담 | C51: 기본통계 | D51: 년 | E51: 2015~2021 | F51: GO
B52: 46. 예산결산 현황 | D52: 년 | E52: 2015~2021 | F52: GO
A53: 공공행정 | B53: 47. 공무원 현황 | C53: 기본통계 | D53: 년 | E53: 2015~2021 | F53: GO
B54: 48. 관공서 및 주요기관 현황 | D54: 년 | E54: 2015~2020 | F54: GO
B55: 49. 화재 발생 | D55: 년 | E55: 2015~2021 | F55: GO
B56: 50. 119 구급활동 실적 | D56: 년 | E56: 2015~2021 | F56: GO
A57: 계 | B57: 50 | D57: 년/월

Sheet 1.행정구역
A1: [목록]으로
A2: 1. 행정구역 현황
S4: 단위:개, ㎢, %
B5: 시·군 ·구 | F5: 읍·면·동 | K5: 출장소 | N5: 통·리 | Q5: 반 | R5: 면 적 (㎢)
C6: 시 | D6: 군 | E6: 구 | G6: 읍 | H6: 면 | I6: 동 | L6: 시·군·구 | M6: 읍·면 | O6: 통 | P6: 리 (행정) | S6: 구성비(%)
I7: 행정 | J7: 법정
A9: 대경권
A10: 2015 | B10: =SUM(B19,B28) -> 31 | C10: =SUM(C19,C28) -> 10 | D10: =SUM(D19,D28) -> 14 | E10: =SUM(E19,E28) -> 7 | F10: =SUM(F19,F28) -> 471 | G10: =SUM(G19,G28) -> 39 | H10: =SUM(H19,H28) -> 208 | I10: =SUM(I19,I28) -> 224 | ... S10: =SUM(S19,S28) -> 100
A11: 2016 | B11: =SUM(B20,B29) -> 31 | C11: =SUM(C20,C29) -> 10 | D11: =SUM(D20,D29) -> 14 | E11: =SUM(E20,E29) -> 7 | F11: =SUM(F20,F29) -> 471 | G11: =SUM(G20,G29) -> 39 | H11: =SUM(H20,H29) -> 208 | I11: =SUM(I20,I29) -> 224 | ... S11: =SUM(S20,S29) -> 100
A12: 2017 | B12: =SUM(B21,B30) -> 31 | C12: =SUM(C21,C30) -> 10 | D12: =SUM(D21,D30) -> 14 | E12: =SUM(E21,E30) -> 7 | F12: =SUM(F21,F30) -> 471 | G12: =SUM(G21,G30) -> 39 | H12: =SUM(H21,H30) -> 208 | I12: =SUM(I21,I30) -> 224 | ... S12: =SUM(S21,S30) -> 100
A13: 2018 | B13: =SUM(B22,B31) -> 31 | C13: =SUM(C22,C31) -> 10 | D13: =SUM(D22,D31) -> 14 | E13: =SUM(E22,E31) -> 7 | F13: =SUM(F22,F31) -> 471 | G13: =SUM(G22,G31) -> 42 | H13: =SUM(H22,H31) -> 205 | I13: =SUM(I22,I31) -> 224 | ... S13: =SUM(S22,S31) -> 100
A14: 2019 | B14: =SUM(B23,B32) -> 31 | C14: =SUM(C23,C32) -> 10 | D14: =SUM(D23,D32) -> 14 | E14: =SUM(E23,E32) -> 7 | F14: =SUM(F23,F32) -> 471 | G14: =SUM(G23,G32) -> 42 | H14: =SUM(H23,H32) -> 205 | I14: =SUM(I23,I32) -> 224 | ... S14: =SUM(S23,S32) -> 100
A15: 2020 | B15: =SUM(B24,B33) -> 31 | C15: =SUM(C24,C33) -> 10 | D15: =SUM(D24,D33) -> 14 | E15: =SUM(E24,E33) -> 7 | F15: =SUM(F24,F33) -> 473 | G15: =SUM(G24,G33) -> 43 | H15: =SUM(H24,H33) -> 204 | I15: =SUM(I24,I33) -> 226 | ... S15: =SUM(S24,S33) -> 100
A16: 2021 | B16: =SUM(B25,B34) -> 31 | C16: =SUM(C25,C34) -> 10 | D16: =SUM(D25,D34) -> 14 | E16: =SUM(E25,E34) -> 7 | F16: =SUM(F25,F34) -> 472 | G16: =SUM(G25,G34) -> 44 | H16: =SUM(H25,H34) -> 203 | I16: =SUM(I25,I34) -> 225 | ... S16: =SUM(S25,S34) -> 100
A18: 대구광역시
A19: 2015 | B19: =VLOOKUP($A19&$A$18, '[1]1.행정구역'!$A$9:$U$71, 4, FALSE) -> 8 | C19: =VLOOKUP($A19&$A$18, '[1]1.행정구역'!$A$9:$U$71, 5, FALSE) -> 0 | D19: =VLOOKUP($A19&$A$18, '[1]1.행정구역'!$A$9:$U$71, 6, FALSE) -> 1 | E19: =VLOOKUP($A19&$A$18, '[1]1.행정구역'!$A$9:$U$71, 7, FALSE) -> 7 | F19: =VLOOKUP($A19&$A$18, '[1]1.행정구역'!$A$9:$U$71, 8, FALSE) -> 139 | G19: =VLOOKUP($A19&$A$18, '[1]1.행정구역'!$A$9:$U$71, 9, FALSE) -> 3 | H19: =VLOOKUP($A19&$A$18, '[1]1.행정구역'!$A$9:$U$71, 10, FALSE) -> 6 | I19: =VLOOKUP($A19&$A$18, '[1]1.행정구역'!$A$9:$U$71, 11, FALSE) -> 130 | J19: =VLOOKUP($A19&$A$18, '[1]1.행정구역'!$A$9:$U$71, 12, FALSE) -> 195 | K19: =VLOOKUP($A19&$A$18, '[1]1.행정구역'!$A$9:$U$71, 13, FALSE) -> 2 | L19: =VLOOKUP($A19&$A$18, '[1]1.행정구역'!$A$9:$U$71, 14, FALSE) -> - | M19: =VLOOKUP($A19&$A$18, '[1]1.행정구역'!$A$9:$U$71, 15, FALSE) -> 2 | N19: =VLOOKUP($A19&$A$18, '[1]1.행정구역'!$A$9:$U$71, 16, FALSE) -> 3560 | O19: =VLOOKUP($A19&$A$18, '[1]1.행정구역'!$A$9:$U$71, 17, FALSE) -> 3294 | P19: =VLOOKUP($A19&$A$18, '[1]1.행정구역'!$A$9:$U$71, 18, FALSE) -> 266 | Q19: =VLOOKUP($A19&$A$18, '[1]1.행정구역'!$A$9:$U$71, 19, FALSE) -> 23442 | R19: =VLOOKUP($A19&$A$18, '[1]1.행정구역'!$A$9:$U$71, 20, FALSE) -> 883.56 | S19: =R19/R10*100 -> 4.4368117 | T19: =VLOOKUP($A19&$A$18, '[1]1.행정구역'!$A$9:$U$71, 5, FALSE) -> 0
A20: 2016 | B20: =VLOOKUP($A20&$A$18, '[1]1.행정구역'!$A$9:$U$71, 4, FALSE) -> 8 | C20: =VLOOKUP($A20&$A$18, '[1]1.행정구역'!$A$9:$U$71, 5, FALSE) -> 0 | D20: =VLOOKUP($A20&$A$18, '[1]1.행정구역'!$A$9:$U$71, 6, FALSE) -> 1 | E20: =VLOOKUP($A20&$A$18, '[1]1.행정구역'!$A$9:$U$71, 7, FALSE) -> 7 | F20: =VLOOKUP($A20&$A$18, '[1]1.행정구역'!$A$9:$U$71, 8, FALSE) -> 139 | G20: =VLOOKUP($A20&$A$18, '[1]1.행정구역'!$A$9:$U$71, 9, FALSE) -> 3 | H20: =VLOOKUP($A20&$A$18, '[1]1.행정구역'!$A$9:$U$71, 10, FALSE) -> 6 | I20: =VLOOKUP($A20&$A$18, '[1]1.행정구역'!$A$9:$U$71, 11, FALSE) -> 130 | J20: =VLOOKUP($A20&$A$18, '[1]1.행정구역'!$A$9:$U$71, 12, FALSE) -> 195 | K20: =VLOOKUP($A20&$A$18, '[1]1.행정구역'!$A$9:$U$71, 13, FALSE) -> 2 | L20: =VLOOKUP($A20&$A$18, '[1]1.행정구역'!$A$9:$U$71, 14, FALSE) -> - | M20: =VLOOKUP($A20&$A$18, '[1]1.행정구역'!$A$9:$U$71, 15, FALSE) -> 2 | N20: =VLOOKUP($A20&$A$18, '[1]1.행정구역'!$A$9:$U$71, 16, FALSE) -> 3605 | O20: =VLOOKUP($A20&$A$18, '[1]1.행정구역'!$A$9:$U$71, 17, FALSE) -> 3319 | P20: =VLOOKUP($A20&$A$18, '[1]1.행정구역'!$A$9:$U$71, 18, FALSE) -> 286 | Q20: =VLOOKUP($A20&$A$18, '[1]1.행정구역'!$A$9:$U$71, 19, FALSE) -> 23934 | R20: =VLOOKUP($A20&$A$18, '[1]1.행정구역'!$A$9:$U$71, 20, FALSE) -> 883.56 | S20: =R20/R11*100 -> 4.4366825
A21: 2017 | B21: =VLOOKUP($A21&$A$18, '[1]1.행정구역'!$A$9:$U$71, 4, FALSE) -> 8 | C21: =VLOOKUP($A21&$A$18, '[1]1.행정구역'!$A$9:$U$71, 5, FALSE) -> 0 | D21: =VLOOKUP($A21&$A$18, '[1]1.행정구역'!$A$9:$U$71, 6, FALSE) -> 1 | E21: =VLOOKUP($A21&$A$18, '[1]1.행정구역'!$A$9:$U$71, 7, FALSE) -> 7 | F21: =VLOOKUP($A21&$A$18, '[1]1.행정구역'!$A$9:$U$71, 8, FALSE) -> 139 | G21: =VLOOKUP($A21&$A$18, '[1]1.행정구역'!$A$9:$U$71, 9, FALSE) -> 3 | H21: =VLOOKUP($A21&$A$18, '[1]1.행정구역'!$A$9:$U$71, 10, FALSE) -> 6 | I21: =VLOOKUP($A21&$A$18, '[1]1.행정구역'!$A$9:$U$71, 11, FALSE) -> 130 | J21: =VLOOKUP($A21&$A$18, '[1]1.행정구역'!$A$9:$U$71, 12, FALSE) -> 195 | K21: =VLOOKUP($A21&$A$18, '[1]1.행정구역'!$A$9:$U$71, 13, FALSE) -> 2 | L21: =VLOOKUP($A21&$A$18, '[1]1.행정구역'!$A$9:$U$71, 14, FALSE) -> - | M21: =VLOOKUP($A21&$A$18, '[1]1.행정구역'!$A$9:$U$71, 15, FALSE) -> 2 | N21: =VLOOKUP($A21&$A$18, '[1]1.행정구역'!$A$9:$U$71, 16, FALSE) -> 3651 | O21: =VLOOKUP($A21&$A$18, '[1]1.행정구역'!$A$9:$U$71, 17, FALSE) -> 3352 | P21: =VLOOKUP($A21&$A$18, '[1]1.행정구역'!$A$9:$U$71, 18, FALSE) -> 299 | Q21: =VLOOKUP($A21&$A$18, '[1]1.행정구역'!$A$9:$U$71, 19, FALSE) -> 24356 | R21: =VLOOKUP($A21&$A$18, '[1]1.행정구역'!$A$9:$U$71, 20, FALSE) -> 883.6 | S21: =R21/R12*100 -> 4.4366027
A22: 2018 | B22: =VLOOKUP($A22&$A$18, '[1]1.행정구역'!$A$9:$U$71, 4, FALSE) -> 8 | C22: =VLOOKUP($A22&$A$18, '[1]1.행정구역'!$A$9:$U$71, 5, FALSE) -> 0 | D22: =VLOOKUP($A22&$A$18, '[1]1.행정구역'!$A$9:$U$71, 6, FALSE) -> 1 | E22: =VLOOKUP($A22&$A$18, '[1]1.행정구역'!$A$9:$U$71, 7, FALSE) -> 7 | F22: =VLOOKUP($A22&$A$18, '[1]1.행정구역'!$A$9:$U$71, 8, FALSE) -> 139 | G22: =VLOOKUP($A22&$A$18, '[1]1.행정구역'!$A$9:$U$71, 9, FALSE) -> 6 | H22: =VLOOKUP($A22&$A$18, '[1]1.행정구역'!$A$9:$U$71, 10, FALSE) -> 3 | I22: =VLOOKUP($A22&$A$18, '[1]1.행정구역'!$A$9:$U$71, 11, FALSE) -> 130 | J22: =VLOOKUP($A22&$A$18, '[1]1.행정구역'!$A$9:$U$71, 12, FALSE) -> 195 | K22: =VLOOKUP($A22&$A$18, '[1]1.행정구역'!$A$9:$U$71, 13, FALSE) -> 2 | L22: =VLOOKUP($A22&$A$18, '[1]1.행정구역'!$A$9:$U$71, 14, FALSE) -> - | M22: =VLOOKUP($A22&$A$18, '[1]1.행정구역'!$A$9:$U$71, 15, FALSE) -> 2 | N22: =VLOOKUP($A22&$A$18, '[1]1.행정구역'!$A$9:$U$71, 16, FALSE) -> 3692 | O22: =VLOOKUP($A22&$A$18, '[1]1.행정구역'!$A$9:$U$71, 17, FALSE) -> 3379 | P22: =VLOOKUP($A22&$A$18, '[1]1.행정구역'!$A$9:$U$71, 18, FALSE) -> 313 | Q22: =VLOOKUP($A22&$A$18, '[1]1.행정구역'!$A$9:$U$71, 19, FALSE) -> 24629 | R22: =VLOOKUP($A22&$A$18, '[1]1.행정구역'!$A$9:$U$71, 20, FALSE) -> 883.52 | S22: =R22/R13*100 -> 4.4363391
A23: 2019 | B23: =VLOOKUP($A23&$A$18, '[1]1.행정구역'!$A$9:$U$71, 4, FALSE) -> 8 | C23: =VLOOKUP($A23&$A$18, '[1]1.행정구역'!$A$9:$U$71, 5, FALSE) -> 0 | D23: =VLOOKUP($A23&$A$18, '[1]1.행정구역'!$A$9:$U$71, 6, FALSE) -> 1 | E23: =VLOOKUP($A23&$A$18, '[1]1.행정구역'!$A$9:$U$71, 7, FALSE) -> 7 | F23: =VLOOKUP($A23&$A$18, '[1]1.행정구역'!$A$9:$U$71, 8, FALSE) -> 139 | G23: =VLOOKUP($A23&$A$18, '[1]1.행정구역'!$A$9:$U$71, 9, FALSE) -> 6 | H23: =VLOOKUP($A23&$A$18, '[1]1.행정구역'!$A$9:$U$71, 10, FALSE) -> 3 | I23: =VLOOKUP($A23&$A$18, '[1]1.행정구역'!$A$9:$U$71, 11, FALSE) -> 130 | J23: =VLOOKUP($A23&$A$18, '[1]1.행정구역'!$A$9:$U$71, 12, FALSE) -> 195 | K23: =VLOOKUP($A23&$A$18, '[1]1.행정구역'!$A$9:$U$71, 13, FALSE) -> 2 | L23: =VLOOKUP($A23&$A$18, '[1]1.행정구역'!$A$9:$U$71, 14, FALSE) -> - | M23: =VLOOKUP($A23&$A$18, '[1]1.행정구역'!$A$9:$U$71, 15, FALSE) -> 2 | N23: =VLOOKUP($A23&$A$18, '[1]1.행정구역'!$A$9:$U$71, 16, FALSE) -> 3709 | O23: =VLOOKUP($A23&$A$18, '[1]1.행정구역'!$A$9:$U$71, 17, FALSE) -> 3395 | P23: =VLOOKUP($A23&$A$18, '[1]1.행정구역'!$A$9:$U$71, 18, FALSE) -> 314 | Q23: =VLOOKUP($A23&$A$18, '[1]1.행정구역'!$A$9:$U$71, 19, FALSE) -> 24761 | R23: =VLOOKUP($A23&$A$18, '[1]1.행정구역'!$A$9:$U$71, 20, FALSE) -> 883.52 | S23: =R23/R14*100 -> 4.4363391
A24: 2020 | B24: =VLOOKUP($A24&$A$18, '[1]1.행정구역'!$A$9:$U$71, 4, FALSE) -> 8 | C24: =VLOOKUP($A24&$A$18, '[1]1.행정구역'!$A$9:$U$71, 5, FALSE) -> 0 | D24: =VLOOKUP($A24&$A$18, '[1]1.행정구역'!$A$9:$U$71, 6, FALSE) -> 1 | E24: =VLOOKUP($A24&$A$18, '[1]1.행정구역'!$A$9:$U$71, 7, FALSE) -> 7 | F24: =VLOOKUP($A24&$A$18, '[1]1.행정구역'!$A$9:$U$71, 8, FALSE) -> 141 | G24: =VLOOKUP($A24&$A$18, '[1]1.행정구역'!$A$9:$U$71, 9, FALSE) -> 6 | H24: =VLOOKUP($A24&$A$18, '[1]1.행정구역'!$A$9:$U$71, 10, FALSE) -> 3 | I24: =VLOOKUP($A24&$A$18, '[1]1.행정구역'!$A$9:$U$71, 11, FALSE) -> 132 | J24: =VLOOKUP($A24&$A$18, '[1]1.행정구역'!$A$9:$U$71, 12, FALSE) -> 195 | K24: =VLOOKUP($A24&$A$18, '[1]1.행정구역'!$A$9:$U$71, 13, FALSE) -> 2 | L24: =VLOOKUP($A24&$A$18, '[1]1.행정구역'!$A$9:$U$71, 14, FALSE) -> - | M24: =VLOOKUP($A24&$A$18, '[1]1.행정구역'!$A$9:$U$71, 15, FALSE) -> 2 | N24: =VLOOKUP($A24&$A$18, '[1]1.행정구역'!$A$9:$U$71, 16, FALSE) -> 3741 | O24: =VLOOKUP($A24&$A$18, '[1]1.행정구역'!$A$9:$U$71, 17, FALSE) -> 3422 | P24: =VLOOKUP($A24&$A$18, '[1]1.행정구역'!$A$9:$U$71, 18, FALSE) -> 319 | Q24: =VLOOKUP($A24&$A$18, '[1]1.행정구역'!$A$9:$U$71, 19, FALSE) -> 24949 | R24: =VLOOKUP($A24&$A$18, '[1]1.행정구역'!$A$9:$U$71, 20, FALSE) -> 883.49 | S24: =R24/R15*100 -> 4.4357497
A25: 2021 | B25: =VLOOKUP($A25&$A$18, '[1]1.행정구역'!$A$9:$U$71, 4, FALSE) -> 8 | C25: =VLOOKUP($A25&$A$18, '[1]1.행정구역'!$A$9:$U$71, 5, FALSE) -> 0 | D25: =VLOOKUP($A25&$A$18, '[1]1.행정구역'!$A$9:$U$71, 6, FALSE) -> 1 | E25: =VLOOKUP($A25&$A$18, '[1]1.행정구역'!$A$9:$U$71, 7, FALSE) -> 7 | F25: =VLOOKUP($A25&$A$18, '[1]1.행정구역'!$A$9:$U$71, 8, FALSE) -> 142 | G25: =VLOOKUP($A25&$A$18, '[1]1.행정구역'!$A$9:$U$71, 9, FALSE) -> 6 | H25: =VLOOKUP($A25&$A$18, '[1]1.행정구역'!$A$9:$U$71, 10, FALSE) -> 3 | I25: =VLOOKUP($A25&$A$18, '[1]1.행정구역'!$A$9:$U$71, 11, FALSE) -> 133 | J25: =VLOOKUP($A25&$A$18, '[1]1.행정구역'!$A$9:$U$71, 12, FALSE) -> 195 | K25: =VLOOKUP($A25&$A$18, '[1]1.행정구역'!$A$9:$U$71, 13, FALSE) -> 2 | L25: =VLOOKUP($A25&$A$18, '[1]1.행정구역'!$A$9:$U$71, 14, FALSE) -> 0 | M25: =VLOOKUP($A25&$A$18, '[1]1.행정구역'!$A$9:$U$71, 15, FALSE) -> 2 | N25: =VLOOKUP($A25&$A$18, '[1]1.행정구역'!$A$9:$U$71, 16, FALSE) -> 3773 | O25: =VLOOKUP($A25&$A$18, '[1]1.행정구역'!$A$9:$U$71, 17, FALSE) -> 3451 | P25: =VLOOKUP($A25&$A$18, '[1]1.행정구역'!$A$9:$U$71, 18, FALSE) -> 322 | Q25: =VLOOKUP($A25&$A$18, '[1]1.행정구역'!$A$9:$U$71, 19, FALSE) -> 25059 | R25: =VLOOKUP($A25&$A$18, '[1]1.행정구역'!$A$9:$U$71, 20, FALSE) -> 883.69822 | S25: =R25/R16*100 -> 4.436526
A27: 경상북도
A28: 2015 | B28: =VLOOKUP($A28&$A$27, '[2]1.행정구역'!$A$9:$U$160, 4, FALSE) -> 23 | C28: =VLOOKUP($A28&$A$27, '[2]1.행정구역'!$A$9:$U$160, 5, FALSE) -> 10 | D28: =VLOOKUP($A28&$A$27, '[2]1.행정구역'!$A$9:$U$160, 6, FALSE) -> 13 | E28: =VLOOKUP($A28&$A$27, '[2]1.행정구역'!$A$9:$U$160, 7, FALSE) -> 0 | F28: =VLOOKUP($A28&$A$27, '[2]1.행정구역'!$A$9:$U$160, 8, FALSE) -> 332 | G28: =VLOOKUP($A28&$A$27, '[2]1.행정구역'!$A$9:$U$160, 9, FALSE) -> 36 | H28: =VLOOKUP($A28&$A$27, '[2]1.행정구역'!$A$9:$U$160, 10, FALSE) -> 202 | I28: =VLOOKUP($A28&$A$27, '[2]1.행정구역'!$A$9:$U$160, 11, FALSE) -> 94 | J28: =VLOOKUP($A28&$A$27, '[2]1.행정구역'!$A$9:$U$160, 12, FALSE) -> 297 | K28: =VLOOKUP($A28&$A$27, '[2]1.행정구역'!$A$9:$U$160, 13, FALSE) -> 14 | L28: =VLOOKUP($A28&$A$27, '[2]1.행정구역'!$A$9:$U$160, 14, FALSE) -> 0 | M28: =VLOOKUP($A28&$A$27, '[2]1.행정구역'!$A$9:$U$160, 15, FALSE) -> 14 | N28: =VLOOKUP($A28&$A$27, '[2]1.행정구역'!$A$9:$U$160, 16, FALSE) -> 7923 | O28: =VLOOKUP($A28&$A$27, '[2]1.행정구역'!$A$9:$U$160, 17, FALSE) -> 2751 | P28: =VLOOKUP($A28&$A$27, '[2]1.행정구역'!$A$9:$U$160, 18, FALSE) -> 5172 | Q28: =VLOOKUP($A28&$A$27, '[2]1.행정구역'!$A$9:$U$160, 19, FALSE) -> 40201 | R28: =VLOOKUP($A28&$A$27, '[2]1.행정구역'!$A$9:$U$160, 20, FALSE) -> 19030.74 | S28: =R28/R10*100 -> 95.563188
A29: 2016 | B29: =VLOOKUP($A29&$A$27, '[2]1.행정구역'!$A$9:$U$160, 4, FALSE) -> 23 | C29: =VLOOKUP($A29&$A$27, '[2]1.행정구역'!$A$9:$U$160, 5, FALSE) -> 10 | D29: =VLOOKUP($A29&$A$27, '[2]1.행정구역'!$A$9:$U$160, 6, FALSE) -> 13 | E29: =VLOOKUP($A29&$A$27, '[2]1.행정구역'!$A$9:$U$160, 7, FALSE) -> 0 | F29: =VLOOKUP($A29&$A$27, '[2]1.행정구역'!$A$9:$U$160, 8, FALSE) -> 332 | G29: =VLOOKUP($A29&$A$27, '[2]1.행정구역'!$A$9:$U$160, 9, FALSE) -> 36 | H29: =VLOOKUP($A29&$A$27, '[2]1.행정구역'!$A$9:$U$160, 10, FALSE) -> 202 | I29: =VLOOKUP($A29&$A$27, '[2]1.행정구역'!$A$9:$U$160, 11, FALSE) -> 94 | J29: =VLOOKUP($A29&$A$27, '[2]1.행정구역'!$A$9:$U$160, 12, FALSE) -> 297 | K29: =VLOOKUP($A29&$A$27, '[2]1.행정구역'!$A$9:$U$160, 13, FALSE) -> 14 | L29: =VLOOKUP($A29&$A$27, '[2]1.행정구역'!$A$9:$U$160, 14, FALSE) -> 1 | M29: =VLOOKUP($A29&$A$27, '[2]1.행정구역'!$A$9:$U$160, 15, FALSE) -> 13 | N29: =VLOOKUP($A29&$A$27, '[2]1.행정구역'!$A$9:$U$160, 16, FALSE) -> 7940 | O29: =VLOOKUP($A29&$A$27, '[2]1.행정구역'!$A$9:$U$160, 17, FALSE) -> 2759 | P29: =VLOOKUP($A29&$A$27, '[2]1.행정구역'!$A$9:$U$160, 18, FALSE) -> 5181 | Q29: =VLOOKUP($A29&$A$27, '[2]1.행정구역'!$A$9:$U$160, 19, FALSE) -> 40658 | R29: =VLOOKUP($A29&$A$27, '[2]1.행정구역'!$A$9:$U$160, 20, FALSE) -> 19031.32 | S29: =R29/R11*100 -> 95.563317
A30: 2017 | B30: =VLOOKUP($A30&$A$27, '[2]1.행정구역'!$A$9:$U$160, 4, FALSE) -> 23 | C30: =VLOOKUP($A30&$A$27, '[2]1.행정구역'!$A$9:$U$160, 5, FALSE) -> 10 | D30: =VLOOKUP($A30&$A$27, '[2]1.행정구역'!$A$9:$U$160, 6, FALSE) -> 13 | E30: =VLOOKUP($A30&$A$27, '[2]1.행정구역'!$A$9:$U$160, 7, FALSE) -> 0 | F30: =VLOOKUP($A30&$A$27, '[2]1.행정구역'!$A$9:$U$160, 8, FALSE) -> 332 | G30: =VLOOKUP($A30&$A$27, '[2]1.행정구역'!$A$9:$U$160, 9, FALSE) -> 36 | H30: =VLOOKUP($A30&$A$27, '[2]1.행정구역'!$A$9:$U$160, 10, FALSE) -> 202 | I30: =VLOOKUP($A30&$A$27, '[2]1.행정구역'!$A$9:$U$160, 11, FALSE) -> 94 | J30: =VLOOKUP($A30&$A$27, '[2]1.행정구역'!$A$9:$U$160, 12, FALSE) -> 295 | K30: =VLOOKUP($A30&$A$27, '[2]1.행정구역'!$A$9:$U$160, 13, FALSE) -> 14 | L30: =VLOOKUP($A30&$A$27, '[2]1.행정구역'!$A$9:$U$160, 14, FALSE) -> 1 | M30: =VLOOKUP($A30&$A$27, '[2]1.행정구역'!$A$9:$U$160, 15, FALSE) -> 13 | N30: =VLOOKUP($A30&$A$27, '[2]1.행정구역'!$A$9:$U$160, 16, FALSE) -> 8010 | O30: =VLOOKUP($A30&$A$27, '[2]1.행정구역'!$A$9:$U$160, 17, FALSE) -> 2797 | P30: =VLOOKUP($A30&$A$27, '[2]1.행정구역'!$A$9:$U$160, 18, FALSE) -> 5213 | Q30: =VLOOKUP($A30&$A$27, '[2]1.행정구역'!$A$9:$U$160, 19, FALSE) -> 41206 | R30: =VLOOKUP($A30&$A$27, '[2]1.행정구역'!$A$9:$U$160, 20, FALSE) -> 19032.54 | S30: =R30/R12*100 -> 95.563397
A31: 2018 | B31: =VLOOKUP($A31&$A$27, '[2]1.행정구역'!$A$9:$U$160, 4, FALSE) -> 23 | C31: =VLOOKUP($A31&$A$27, '[2]1.행정구역'!$A$9:$U$160, 5, FALSE) -> 10 | D31: =VLOOKUP($A31&$A$27, '[2]1.행정구역'!$A$9:$U$160, 6, FALSE) -> 13 | E31: =VLOOKUP($A31&$A$27, '[2]1.행정구역'!$A$9:$U$160, 7, FALSE) -> 0 | F31: =VLOOKUP($A31&$A$27, '[2]1.행정구역'!$A$9:$U$160, 8, FALSE) -> 332 | G31: =VLOOKUP($A31&$A$27, '[2]1.행정구역'!$A$9:$U$160, 9, FALSE) -> 36 | H31: =VLOOKUP($A31&$A$27, '[2]1.행정구역'!$A$9:$U$160, 10, FALSE) -> 202 | I31: =VLOOKUP($A31&$A$27, '[2]1.행정구역'!$A$9:$U$160, 11, FALSE) -> 94 | J31: =VLOOKUP($A31&$A$27, '[2]1.행정구역'!$A$9:$U$160, 12, FALSE) -> 295 | K31: =VLOOKUP($A31&$A$27, '[2]1.행정구역'!$A$9:$U$160, 13, FALSE) -> 14 | L31: =VLOOKUP($A31&$A$27, '[2]1.행정구역'!$A$9:$U$160, 14, FALSE) -> 0 | M31: =VLOOKUP($A31&$A$27, '[2]1.행정구역'!$A$9:$U$160, 15, FALSE) -> 14 | N31: =VLOOKUP($A31&$A$27, '[2]1.행정구역'!$A$9:$U$160, 16, FALSE) -> 8019 | O31: =VLOOKUP($A31&$A$27, '[2]1.행정구역'!$A$9:$U$160, 17, FALSE) -> 2781 | P31: =VLOOKUP($A31&$A$27, '[2]1.행정구역'!$A$9:$U$160, 18, FALSE) -> 5238 | Q31: =VLOOKUP($A31&$A$27, '[2]1.행정구역'!$A$9:$U$160, 19, FALSE) -> 41287 | R31: =VLOOKUP($A31&$A$27, '[2]1.행정구역'!$A$9:$U$160, 20, FALSE) -> 19032 | S31: =R31/R13*100 -> 95.563661
A32: 2019 | B32: =VLOOKUP($A32&$A$27, '[2]1.행정구역'!$A$9:$U$160, 4, FALSE) -> 23 | C32: =VLOOKUP($A32&$A$27, '[2]1.행정구역'!$A$9:$U$160, 5, FALSE) -> 10 | D32: =VLOOKUP($A32&$A$27, '[2]1.행정구역'!$A$9:$U$160, 6, FALSE) -> 13 | E32: =VLOOKUP($A32&$A$27, '[2]1.행정구역'!$A$9:$U$160, 7, FALSE) -> 0 | F32: =VLOOKUP($A32&$A$27, '[2]1.행정구역'!$A$9:$U$160, 8, FALSE) -> 332 | G32: =VLOOKUP($A32&$A$27, '[2]1.행정구역'!$A$9:$U$160, 9, FALSE) -> 36 | H32: =VLOOKUP($A32&$A$27, '[2]1.행정구역'!$A$9:$U$160, 10, FALSE) -> 202 | I32: =VLOOKUP($A32&$A$27, '[2]1.행정구역'!$A$9:$U$160, 11, FALSE) -> 94 | J32: =VLOOKUP($A32&$A$27, '[2]1.행정구역'!$A$9:$U$160, 12, FALSE) -> 295 | K32: =VLOOKUP($A32&$A$27, '[2]1.행정구역'!$A$9:$U$160, 13, FALSE) -> 14 | L32: =VLOOKUP($A32&$A$27, '[2]1.행정구역'!$A$9:$U$160, 14, FALSE) -> 0 | M32: =VLOOKUP($A32&$A$27, '[2]1.행정구역'!$A$9:$U$160, 15, FALSE) -> 14 | N32: =VLOOKUP($A32&$A$27, '[2]1.행정구역'!$A$9:$U$160, 16, FALSE) -> 8083 | O32: =VLOOKUP($A32&$A$27, '[2]1.행정구역'!$A$9:$U$160, 17, FALSE) -> 2835 | P32: =VLOOKUP($A32&$A$27, '[2]1.행정구역'!$A$9:$U$160, 18, FALSE) -> 5248 | Q32: =VLOOKUP($A32&$A$27, '[2]1.행정구역'!$A$9:$U$160, 19, FALSE) -> 41805 | R32: =VLOOKUP($A32&$A$27, '[2]1.행정구역'!$A$9:$U$160, 20, FALSE) -> 19032 | S32: =R32/R14*100 -> 95.563661
A33: 2020 | B33: =VLOOKUP($A33&$A$27, '[2]1.행정구역'!$A$9:$U$160, 4, FALSE) -> 23 | C33: =VLOOKUP($A33&$A$27, '[2]1.행정구역'!$A$9:$U$160, 5, FALSE) -> 10 | D33: =VLOOKUP($A33&$A$27, '[2]1.행정구역'!$A$9:$U$160, 6, FALSE) -> 13 | E33: =VLOOKUP($A33&$A$27, '[2]1.행정구역'!$A$9:$U$160, 7, FALSE) -> 0 | F33: =VLOOKUP($A33&$A$27, '[2]1.행정구역'!$A$9:$U$160, 8, FALSE) -> 332 | G33: =VLOOKUP($A33&$A$27, '[2]1.행정구역'!$A$9:$U$160, 9, FALSE) -> 37 | H33: =VLOOKUP($A33&$A$27, '[2]1.행정구역'!$A$9:$U$160, 10, FALSE) -> 201 | I33: =VLOOKUP($A33&$A$27, '[2]1.행정구역'!$A$9:$U$160, 11, FALSE) -> 94 | J33: =VLOOKUP($A33&$A$27, '[2]1.행정구역'!$A$9:$U$160, 12, FALSE) -> 295 | K33: =VLOOKUP($A33&$A$27, '[2]1.행정구역'!$A$9:$U$160, 13, FALSE) -> 14 | L33: =VLOOKUP($A33&$A$27, '[2]1.행정구역'!$A$9:$U$160, 14, FALSE) -> 0 | M33: =VLOOKUP($A33&$A$27, '[2]1.행정구역'!$A$9:$U$160, 15, FALSE) -> 14 | N33: =VLOOKUP($A33&$A$27, '[2]1.행정구역'!$A$9:$U$160, 16, FALSE) -> 8092 | O33: =VLOOKUP($A33&$A$27, '[2]1.행정구역'!$A$9:$U$160, 17, FALSE) -> 2836 | P33: =VLOOKUP($A33&$A$27, '[2]1.행정구역'!$A$9:$U$160, 18, FALSE) -> 5256 | Q33: =VLOOKUP($A33&$A$27, '[2]1.행정구역'!$A$9:$U$160, 19, FALSE) -> 41969 | R33: =VLOOKUP($A33&$A$27, '[2]1.행정구역'!$A$9:$U$160, 20, FALSE) -> 19034 | S33: =R33/R15*100 -> 95.56425
A34: 2021 | B34: 23 | C34: 10 | D34: 13 | E34: 0 | F34: 330 | G34: 38 | H34: 200 | I34: 92 | J34: 295 | K34: 14 | L34: 0 | M34: 14 | N34: 8099 | O34: 2831 | P34: 5268 | Q34: 42145 | R34: 19035 | S34: =R34/R16*100 -> 95.563474
A36: 자료: 대구통계연보, 경북통계연보

Sheet 2.토지
A1: [목록]으로
A2: 2. 토지지목별 현황
N4: 단위:㎡ | AC4: 단위:㎡
B5: 계 | C5: 전 | D5: 답 | E5: 과 수 원 | F5: 목 장 용 지 | G5: 임 야 | H5: 광천지 | I5: 대 지 | J5: 공 장 용 지 | K5: 학 교 용 지 | L5: 주차장 | M5: 주유소용지 | N5: 창고용지 | O5: 도 로 | P5: 철 도 용 지 | Q5: 하 천 | R5: 제 방 | S5: 구 거 | T5: 유 지 | U5: 양 어 장 | V5: 수 도 용 지 | W5: 공 원 | X5: 체 육 용 지 | Y5: 유 원 지 | Z5: 종 교 용 지 | AA5: 사 적 지 | AB5: 묘 지 | AC5: 잡 종 지
A9: 대경권
A10: 2015 | B10: =SUM(B19,B28) -> 1.9914301e+10 | C10: =SUM(C19,C28) -> 1.2967375e+09 | D10: =SUM(D19,D28) -> 1.8396492e+09 | E10: =SUM(E19,E28) -> 157837999 | F10: =SUM(F19,F28) -> 54006383 | G10: =SUM(G19,G28) -> 1.4089004e+10 | H10: =SUM(H19,H28) -> 508 | I10: =SUM(I19,I28) -> 3.9912525e+08 | ... AC10: =SUM(AC19,AC28) -> 82517030
A11: 2016 | B11: =SUM(B20,B29) -> 1.9914978e+10 | C11: =SUM(C20,C29) -> 1.2911093e+09 | D11: =SUM(D20,D29) -> 1.8287024e+09 | E11: =SUM(E20,E29) -> 1.5873466e+08 | F11: =SUM(F20,F29) -> 53737914 | G11: =SUM(G20,G29) -> 1.4080706e+10 | H11: =SUM(H20,H29) -> 508 | I11: =SUM(I20,I29) -> 4.0653261e+08 | ... AC11: =SUM(AC20,AC29) -> 85006714
A12: 2017 | B12: =SUM(B21,B30) -> 1.9916143e+10 | C12: =SUM(C21,C30) -> 1286828595 | D12: =SUM(D21,D30) -> 1.8177394e+09 | E12: =SUM(E21,E30) -> 1.6009806e+08 | F12: =SUM(F21,F30) -> 53301841 | G12: =SUM(G21,G30) -> 1.4068758e+10 | H12: =SUM(H21,H30) -> 521 | I12: =SUM(I21,I30) -> 4.131238e+08 | ... AC12: =SUM(AC21,AC30) -> 87560389
A13: 2018 | B13: =SUM(B22,B31) -> 1.9916387e+10 | C13: =SUM(C22,C31) -> 1.2863152e+09 | D13: =SUM(D22,D31) -> 1.8104399e+09 | E13: =SUM(E22,E31) -> 1.6407826e+08 | F13: =SUM(F22,F31) -> 53306238 | G13: =SUM(G22,G31) -> 1.4050392e+10 | H13: =SUM(H22,H31) -> 522 | I13: =SUM(I22,I31) -> 4.1858886e+08 | ... AC13: =SUM(AC22,AC31) -> 89807781
A14: 2019 | B14: =SUM(B23,B32) -> 1.991686e+10 | C14: =SUM(C23,C32) -> 1282190068 | D14: =SUM(D23,D32) -> 1.8034134e+09 | E14: =SUM(E23,E32) -> 1.6408575e+08 | F14: =SUM(F23,F32) -> 53448261 | G14: =SUM(G23,G32) -> 1.4042565e+10 | H14: =SUM(H23,H32) -> 522 | I14: =SUM(I23,I32) -> 4.2359086e+08 | ... AC14: =SUM(AC23,AC32) -> 92937527
A15: 2020 | B15: =SUM(B24,B33) -> 19917516940 | C15: =SUM(C24,C33) -> 1.278515e+09 | D15: =SUM(D24,D33) -> 1.7956319e+09 | E15: =SUM(E24,E33) -> 1.6416527e+08 | F15: =SUM(F24,F33) -> 53452709 | G15: =SUM(G24,G33) -> 1.4031958e+10 | H15: =SUM(H24,H33) -> 522 | I15: =SUM(I24,I33) -> 4.2743041e+08 | ... AC15: =SUM(AC24,AC33) -> 97810994
A16: 2021 | B16: =SUM(B25,B34) -> 1.9918493e+10 | C16: =SUM(C25,C34) -> 1.2750916e+09 | D16: =SUM(D25,D34) -> 1.7885292e+09 | E16: =SUM(E25,E34) -> 1.6411342e+08 | F16: =SUM(F25,F34) -> 53448926 | G16: =SUM(G25,G34) -> 1.4023119e+10 | H16: =SUM(H25,H34) -> 522.2 | I16: =SUM(I25,I34) -> 4.3129334e+08 | ... AC16: =SUM(AC25,AC34) -> 1.0270986e+08
A18: 대구광역시
A19: 2015 | B19: =VLOOKUP($A19&$A$18, '[1]2.토지'!$A$9:$AK$71, 4, FALSE) -> 8.8356268e+08 | C19: =VLOOKUP($A19&$A$18, '[1]2.토지'!$A$9:$AK$71, 11, FALSE) -> 41546514 | D19: =VLOOKUP($A19&$A$18, '[1]2.토지'!$A$9:$AK$71, 12, FALSE) -> 78361363 | E19: =VLOOKUP($A19&$A$18, '[1]2.토지'!$A$9:$AK$71, 13, FALSE) -> 2260609 | F19: =VLOOKUP($A19&$A$18, '[1]2.토지'!$A$9:$AK$71, 14, FALSE) -> 1412923 | G19: =VLOOKUP($A19&$A$18, '[1]2.토지'!$A$9:$AK$71, 15, FALSE) -> 4.76144e+08 | H19: =VLOOKUP($A19&$A$18, '[1]2.토지'!$A$9:$AK$71, 16, FALSE) -> 6 | I19: =VLOOKUP($A19&$A$18, '[1]2.토지'!$A$9:$AK$71, 17, FALSE) -> 85972035 | J19: =VLOOKUP($A19&$A$18, '[1]2.토지'!$A$9:$AK$71, 18, FALSE) -> 23624483 | K19: =VLOOKUP($A19&$A$18, '[1]2.토지'!$A$9:$AK$71, 19, FALSE) -> 10731305 | L19: =VLOOKUP($A19&$A$18, '[1]2.토지'!$A$9:$AK$71, 20, FALSE) -> 809431.1 | M19: =VLOOKUP($A19&$A$18, '[1]2.토지'!$A$9:$AK$71, 21, FALSE) -> 596133.2 | N19: =VLOOKUP($A19&$A$18, '[1]2.토지'!$A$9:$AK$71, 22, FALSE) -> 1039072.4 | O19: =VLOOKUP($A19&$A$18, '[1]2.토지'!$A$9:$AK$71, 23, FALSE) -> 57611439 | P19: =VLOOKUP($A19&$A$18, '[1]2.토지'!$A$9:$AK$71, 24, FALSE) -> 2606694.5 | Q19: =VLOOKUP($A19&$A$18, '[1]2.토지'!$A$9:$AK$71, 25, FALSE) -> 44180239 | R19: =VLOOKUP($A19&$A$18, '[1]2.토지'!$A$9:$AK$71, 26, FALSE) -> 3992822.1 | S19: =VLOOKUP($A19&$A$18, '[1]2.토지'!$A$9:$AK$71, 27, FALSE) -> 12060710 | T19: =VLOOKUP($A19&$A$18, '[1]2.토지'!$A$9:$AK$71, 28, FALSE) -> 5918508.7 | U19: =VLOOKUP($A19&$A$18, '[1]2.토지'!$A$9:$AK$71, 29, FALSE) -> 34360 | V19: =VLOOKUP($A19&$A$18, '[1]2.토지'!$A$9:$AK$71, 30, FALSE) -> 2273036 | W19: =VLOOKUP($A19&$A$18, '[1]2.토지'!$A$9:$AK$71, 31, FALSE) -> 10458101 | X19: =VLOOKUP($A19&$A$18, '[1]2.토지'!$A$9:$AK$71, 32, FALSE) -> 2449127.3 | Y19: =VLOOKUP($A19&$A$18, '[1]2.토지'!$A$9:$AK$71, 33, FALSE) -> 352180 | Z19: =VLOOKUP($A19&$A$18, '[1]2.토지'!$A$9:$AK$71, 34, FALSE) -> 1289387.5 | AA19: =VLOOKUP($A19&$A$18, '[1]2.토지'!$A$9:$AK$71, 35, FALSE) -> 26716 | AB19: =VLOOKUP($A19&$A$18, '[1]2.토지'!$A$9:$AK$71, 36, FALSE) -> 4093859.3 | AC19: =VLOOKUP($A19&$A$18, '[1]2.토지'!$A$9:$AK$71, 37, FALSE) -> 13717623
A20: 2016 | B20: =VLOOKUP($A20&$A$18, '[1]2.토지'!$A$9:$AK$71, 4, FALSE) -> 8.8356138e+08 | C20: =VLOOKUP($A20&$A$18, '[1]2.토지'!$A$9:$AK$71, 11, FALSE) -> 41138153 | D20: =VLOOKUP($A20&$A$18, '[1]2.토지'!$A$9:$AK$71, 12, FALSE) -> 77304975 | E20: =VLOOKUP($A20&$A$18, '[1]2.토지'!$A$9:$AK$71, 13, FALSE) -> 2227737.4 | F20: =VLOOKUP($A20&$A$18, '[1]2.토지'!$A$9:$AK$71, 14, FALSE) -> 1401681 | G20: =VLOOKUP($A20&$A$18, '[1]2.토지'!$A$9:$AK$71, 15, FALSE) -> 4.7511019e+08 | H20: =VLOOKUP($A20&$A$18, '[1]2.토지'!$A$9:$AK$71, 16, FALSE) -> 6 | I20: =VLOOKUP($A20&$A$18, '[1]2.토지'!$A$9:$AK$71, 17, FALSE) -> 86889783 | J20: =VLOOKUP($A20&$A$18, '[1]2.토지'!$A$9:$AK$71, 18, FALSE) -> 23790155 | K20: =VLOOKUP($A20&$A$18, '[1]2.토지'!$A$9:$AK$71, 19, FALSE) -> 10751987 | L20: =VLOOKUP($A20&$A$18, '[1]2.토지'!$A$9:$AK$71, 20, FALSE) -> 851132.2 | M20: =VLOOKUP($A20&$A$18, '[1]2.토지'!$A$9:$AK$71, 21, FALSE) -> 596489.7 | N20: =VLOOKUP($A20&$A$18, '[1]2.토지'!$A$9:$AK$71, 22, FALSE) -> 1055674.2 | O20: =VLOOKUP($A20&$A$18, '[1]2.토지'!$A$9:$AK$71, 23, FALSE) -> 57815599 | P20: =VLOOKUP($A20&$A$18, '[1]2.토지'!$A$9:$AK$71, 24, FALSE) -> 2684431.5 | Q20: =VLOOKUP($A20&$A$18, '[1]2.토지'!$A$9:$AK$71, 25, FALSE) -> 44148837 | R20: =VLOOKUP($A20&$A$18, '[1]2.토지'!$A$9:$AK$71, 26, FALSE) -> 3991734.1 | S20: =VLOOKUP($A20&$A$18, '[1]2.토지'!$A$9:$AK$71, 27, FALSE) -> 11973232 | T20: =VLOOKUP($A20&$A$18, '[1]2.토지'!$A$9:$AK$71, 28, FALSE) -> 5908904.7 | U20: =VLOOKUP($A20&$A$18, '[1]2.토지'!$A$9:$AK$71, 29, FALSE) -> 34692 | V20: =VLOOKUP($A20&$A$18, '[1]2.토지'!$A$9:$AK$71, 30, FALSE) -> 2289722 | W20: =VLOOKUP($A20&$A$18, '[1]2.토지'!$A$9:$AK$71, 31, FALSE) -> 10638112 | X20: =VLOOKUP($A20&$A$18, '[1]2.토지'!$A$9:$AK$71, 32, FALSE) -> 2658734.4 | Y20: =VLOOKUP($A20&$A$18, '[1]2.토지'!$A$9:$AK$71, 33, FALSE) -> 421715 | Z20: =VLOOKUP($A20&$A$18, '[1]2.토지'!$A$9:$AK$71, 34, FALSE) -> 1341196 | AA20: =VLOOKUP($A20&$A$18, '[1]2.토지'!$A$9:$AK$71, 35, FALSE) -> 53552 | AB20: =VLOOKUP($A20&$A$18, '[1]2.토지'!$A$9:$AK$71, 36, FALSE) -> 4070240.3 | AC20: =VLOOKUP($A20&$A$18, '[1]2.토지'!$A$9:$AK$71, 37, FALSE) -> 14412715
A21: 2017 | B21: =VLOOKUP($A21&$A$18, '[1]2.토지'!$A$9:$AK$71, 4, FALSE) -> 8.8360311e+08 | C21: =VLOOKUP($A21&$A$18, '[1]2.토지'!$A$9:$AK$71, 11, FALSE) -> 40068122 | D21: =VLOOKUP($A21&$A$18, '[1]2.토지'!$A$9:$AK$71, 12, FALSE) -> 74063298 | E21: =VLOOKUP($A21&$A$18, '[1]2.토지'!$A$9:$AK$71, 13, FALSE) -> 2223927.1 | F21: =VLOOKUP($A21&$A$18, '[1]2.토지'!$A$9:$AK$71, 14, FALSE) -> 1366900 | G21: =VLOOKUP($A21&$A$18, '[1]2.토지'!$A$9:$AK$71, 15, FALSE) -> 4.7300389e+08 | H21: =VLOOKUP($A21&$A$18, '[1]2.토지'!$A$9:$AK$71, 16, FALSE) -> 6 | I21: =VLOOKUP($A21&$A$18, '[1]2.토지'!$A$9:$AK$71, 17, FALSE) -> 88609696 | J21: =VLOOKUP($A21&$A$18, '[1]2.토지'!$A$9:$AK$71, 18, FALSE) -> 26557904 | K21: =VLOOKUP($A21&$A$18, '[1]2.토지'!$A$9:$AK$71, 19, FALSE) -> 10800369 | L21: =VLOOKUP($A21&$A$18, '[1]2.토지'!$A$9:$AK$71, 20, FALSE) -> 924069.6 | M21: =VLOOKUP($A21&$A$18, '[1]2.토지'!$A$9:$AK$71, 21, FALSE) -> 600382.9 | N21: =VLOOKUP($A21&$A$18, '[1]2.토지'!$A$9:$AK$71, 22, FALSE) -> 1096487.9 | O21: =VLOOKUP($A21&$A$18, '[1]2.토지'!$A$9:$AK$71, 23, FALSE) -> 58759349 | P21: =VLOOKUP($A21&$A$18, '[1]2.토지'!$A$9:$AK$71, 24, FALSE) -> 2684680.5 | Q21: =VLOOKUP($A21&$A$18, '[1]2.토지'!$A$9:$AK$71, 25, FALSE) -> 44219879 | R21: =VLOOKUP($A21&$A$18, '[1]2.토지'!$A$9:$AK$71, 26, FALSE) -> 3976515.1 | S21: =VLOOKUP($A21&$A$18, '[1]2.토지'!$A$9:$AK$71, 27, FALSE) -> 11601709 | T21: =VLOOKUP($A21&$A$18, '[1]2.토지'!$A$9:$AK$71, 28, FALSE) -> 6027671.3 | U21: =VLOOKUP($A21&$A$18, '[1]2.토지'!$A$9:$AK$71, 29, FALSE) -> 34692 | V21: =VLOOKUP($A21&$A$18, '[1]2.토지'!$A$9:$AK$71, 30, FALSE) -> 2301472.2 | W21: =VLOOKUP($A21&$A$18, '[1]2.토지'!$A$9:$AK$71, 31, FALSE) -> 11504734 | X21: =VLOOKUP($A21&$A$18, '[1]2.토지'!$A$9:$AK$71, 32, FALSE) -> 2718899.8 | Y21: =VLOOKUP($A21&$A$18, '[1]2.토지'!$A$9:$AK$71, 33, FALSE) -> 424955 | Z21: =VLOOKUP($A21&$A$18, '[1]2.토지'!$A$9:$AK$71, 34, FALSE) -> 1363944.6 | AA21: =VLOOKUP($A21&$A$18, '[1]2.토지'!$A$9:$AK$71, 35, FALSE) -> 53552 | AB21: =VLOOKUP($A21&$A$18, '[1]2.토지'!$A$9:$AK$71, 36, FALSE) -> 3984806.2 | AC21: =VLOOKUP($A21&$A$18, '[1]2.토지'!$A$9:$AK$71, 37, FALSE) -> 14631199
A22: 2018 | B22: =VLOOKUP($A22&$A$18, '[1]2.토지'!$A$9:$AK$71, 4, FALSE) -> 8.8351927e+08 | C22: =VLOOKUP($A22&$A$18, '[1]2.토지'!$A$9:$AK$71, 11, FALSE) -> 39755584 | D22: =VLOOKUP($A22&$A$18, '[1]2.토지'!$A$9:$AK$71, 12, FALSE) -> 73427632 | E22: =VLOOKUP($A22&$A$18, '[1]2.토지'!$A$9:$AK$71, 13, FALSE) -> 2430977.1 | F22: =VLOOKUP($A22&$A$18, '[1]2.토지'!$A$9:$AK$71, 14, FALSE) -> 1364563 | G22: =VLOOKUP($A22&$A$18, '[1]2.토지'!$A$9:$AK$71, 15, FALSE) -> 4.7252727e+08 | H22: =VLOOKUP($A22&$A$18, '[1]2.토지'!$A$9:$AK$71, 16, FALSE) -> 7 | I22: =VLOOKUP($A22&$A$18, '[1]2.토지'!$A$9:$AK$71, 17, FALSE) -> 89248653 | J22: =VLOOKUP($A22&$A$18, '[1]2.토지'!$A$9:$AK$71, 18, FALSE) -> 26615332 | K22: =VLOOKUP($A22&$A$18, '[1]2.토지'!$A$9:$AK$71, 19, FALSE) -> 10790054 | L22: =VLOOKUP($A22&$A$18, '[1]2.토지'!$A$9:$AK$71, 20, FALSE) -> 950102.1 | M22: =VLOOKUP($A22&$A$18, '[1]2.토지'!$A$9:$AK$71, 21, FALSE) -> 597129.2 | N22: =VLOOKUP($A22&$A$18, '[1]2.토지'!$A$9:$AK$71, 22, FALSE) -> 1109327.1 | O22: =VLOOKUP($A22&$A$18, '[1]2.토지'!$A$9:$AK$71, 23, FALSE) -> 59027585 | P22: =VLOOKUP($A22&$A$18, '[1]2.토지'!$A$9:$AK$71, 24, FALSE) -> 2685637.5 | Q22: =VLOOKUP($A22&$A$18, '[1]2.토지'!$A$9:$AK$71, 25, FALSE) -> 44215831 | R22: =VLOOKUP($A22&$A$18, '[1]2.토지'!$A$9:$AK$71, 26, FALSE) -> 3988876.1 | S22: =VLOOKUP($A22&$A$18, '[1]2.토지'!$A$9:$AK$71, 27, FALSE) -> 11552534 | T22: =VLOOKUP($A22&$A$18, '[1]2.토지'!$A$9:$AK$71, 28, FALSE) -> 5994677.5 | U22: =VLOOKUP($A22&$A$18, '[1]2.토지'!$A$9:$AK$71, 29, FALSE) -> 34692 | V22: =VLOOKUP($A22&$A$18, '[1]2.토지'!$A$9:$AK$71, 30, FALSE) -> 2310596.2 | W22: =VLOOKUP($A22&$A$18, '[1]2.토지'!$A$9:$AK$71, 31, FALSE) -> 11688472 | X22: =VLOOKUP($A22&$A$18, '[1]2.토지'!$A$9:$AK$71, 32, FALSE) -> 2720243.8 | Y22: =VLOOKUP($A22&$A$18, '[1]2.토지'!$A$9:$AK$71, 33, FALSE) -> 426764 | Z22: =VLOOKUP($A22&$A$18, '[1]2.토지'!$A$9:$AK$71, 34, FALSE) -> 1378534.4 | AA22: =VLOOKUP($A22&$A$18, '[1]2.토지'!$A$9:$AK$71, 35, FALSE) -> 53552 | AB22: =VLOOKUP($A22&$A$18, '[1]2.토지'!$A$9:$AK$71, 36, FALSE) -> 3962625.2 | AC22: =VLOOKUP($A22&$A$18, '[1]2.토지'!$A$9:$AK$71, 37, FALSE) -> 14662016
A23: 2019 | B23: =VLOOKUP($A23&$A$18, '[1]2.토지'!$A$9:$AK$71, 4, FALSE) -> 8.8351731e+08 | C23: =VLOOKUP($A23&$A$18, '[1]2.토지'!$A$9:$AK$71, 11, FALSE) -> 39271374 | D23: =VLOOKUP($A23&$A$18, '[1]2.토지'!$A$9:$AK$71, 12, FALSE) -> 72742998 | E23: =VLOOKUP($A23&$A$18, '[1]2.토지'!$A$9:$AK$71, 13, FALSE) -> 2294201.4 | F23: =VLOOKUP($A23&$A$18, '[1]2.토지'!$A$9:$AK$71, 14, FALSE) -> 1336910.9 | G23: =VLOOKUP($A23&$A$18, '[1]2.토지'!$A$9:$AK$71, 15, FALSE) -> 4.7234694e+08 | H23: =VLOOKUP($A23&$A$18, '[1]2.토지'!$A$9:$AK$71, 16, FALSE) -> 7 | I23: =VLOOKUP($A23&$A$18, '[1]2.토지'!$A$9:$AK$71, 17, FALSE) -> 90028893 | J23: =VLOOKUP($A23&$A$18, '[1]2.토지'!$A$9:$AK$71, 18, FALSE) -> 26679324 | K23: =VLOOKUP($A23&$A$18, '[1]2.토지'!$A$9:$AK$71, 19, FALSE) -> 10818270 | L23: =VLOOKUP($A23&$A$18, '[1]2.토지'!$A$9:$AK$71, 20, FALSE) -> 976682.9 | M23: =VLOOKUP($A23&$A$18, '[1]2.토지'!$A$9:$AK$71, 21, FALSE) -> 594710.1 | N23: =VLOOKUP($A23&$A$18, '[1]2.토지'!$A$9:$AK$71, 22, FALSE) -> 1123315.4 | O23: =VLOOKUP($A23&$A$18, '[1]2.토지'!$A$9:$AK$71, 23, FALSE) -> 59444906 | P23: =VLOOKUP($A23&$A$18, '[1]2.토지'!$A$9:$AK$71, 24, FALSE) -> 2687486.5 | Q23: =VLOOKUP($A23&$A$18, '[1]2.토지'!$A$9:$AK$71, 25, FALSE) -> 44173900 | R23: =VLOOKUP($A23&$A$18, '[1]2.토지'!$A$9:$AK$71, 26, FALSE) -> 3987908.1 | S23: =VLOOKUP($A23&$A$18, '[1]2.토지'!$A$9:$AK$71, 27, FALSE) -> 11520301 | T23: =VLOOKUP($A23&$A$18, '[1]2.토지'!$A$9:$AK$71, 28, FALSE) -> 6017416.5 | U23: =VLOOKUP($A23&$A$18, '[1]2.토지'!$A$9:$AK$71, 29, FALSE) -> 34692 | V23: =VLOOKUP($A23&$A$18, '[1]2.토지'!$A$9:$AK$71, 30, FALSE) -> 2305947.7 | W23: =VLOOKUP($A23&$A$18, '[1]2.토지'!$A$9:$AK$71, 31, FALSE) -> 11944615 | X23: =VLOOKUP($A23&$A$18, '[1]2.토지'!$A$9:$AK$71, 32, FALSE) -> 2714554.8 | Y23: =VLOOKUP($A23&$A$18, '[1]2.토지'!$A$9:$AK$71, 33, FALSE) -> 431356 | Z23: =VLOOKUP($A23&$A$18, '[1]2.토지'!$A$9:$AK$71, 34, FALSE) -> 1384805.4 | AA23: =VLOOKUP($A23&$A$18, '[1]2.토지'!$A$9:$AK$71, 35, FALSE) -> 53518 | AB23: =VLOOKUP($A23&$A$18, '[1]2.토지'!$A$9:$AK$71, 36, FALSE) -> 3951553.6 | AC23: =VLOOKUP($A23&$A$18, '[1]2.토지'!$A$9:$AK$71, 37, FALSE) -> 14650722
A24: 2020 | B24: =VLOOKUP($A24&$A$18, '[1]2.토지'!$A$9:$AK$71, 4, FALSE) -> 883487477 | C24: =VLOOKUP($A24&$A$18, '[1]2.토지'!$A$9:$AK$71, 11, FALSE) -> 39183357 | D24: =VLOOKUP($A24&$A$18, '[1]2.토지'!$A$9:$AK$71, 12, FALSE) -> 72498538 | E24: =VLOOKUP($A24&$A$18, '[1]2.토지'!$A$9:$AK$71, 13, FALSE) -> 2292545.4 | F24: =VLOOKUP($A24&$A$18, '[1]2.토지'!$A$9:$AK$71, 14, FALSE) -> 1334827.9 | G24: =VLOOKUP($A24&$A$18, '[1]2.토지'!$A$9:$AK$71, 15, FALSE) -> 4.7229276e+08 | H24: =VLOOKUP($A24&$A$18, '[1]2.토지'!$A$9:$AK$71, 16, FALSE) -> 7 | I24: =VLOOKUP($A24&$A$18, '[1]2.토지'!$A$9:$AK$71, 17, FALSE) -> 90174896 | J24: =VLOOKUP($A24&$A$18, '[1]2.토지'!$A$9:$AK$71, 18, FALSE) -> 26728022 | K24: =VLOOKUP($A24&$A$18, '[1]2.토지'!$A$9:$AK$71, 19, FALSE) -> 10829312 | L24: =VLOOKUP($A24&$A$18, '[1]2.토지'!$A$9:$AK$71, 20, FALSE) -> 994486.4 | M24: =VLOOKUP($A24&$A$18, '[1]2.토지'!$A$9:$AK$71, 21, FALSE) -> 589236.6 | N24: =VLOOKUP($A24&$A$18, '[1]2.토지'!$A$9:$AK$71, 22, FALSE) -> 1128019.6 | O24: =VLOOKUP($A24&$A$18, '[1]2.토지'!$A$9:$AK$71, 23, FALSE) -> 59567611 | P24: =VLOOKUP($A24&$A$18, '[1]2.토지'!$A$9:$AK$71, 24, FALSE) -> 2695909.5 | Q24: =VLOOKUP($A24&$A$18, '[1]2.토지'!$A$9:$AK$71, 25, FALSE) -> 44165566 | R24: =VLOOKUP($A24&$A$18, '[1]2.토지'!$A$9:$AK$71, 26, FALSE) -> 4002083.1 | S24: =VLOOKUP($A24&$A$18, '[1]2.토지'!$A$9:$AK$71, 27, FALSE) -> 11494399 | T24: =VLOOKUP($A24&$A$18, '[1]2.토지'!$A$9:$AK$71, 28, FALSE) -> 6011550.5 | U24: =VLOOKUP($A24&$A$18, '[1]2.토지'!$A$9:$AK$71, 29, FALSE) -> 34692 | V24: =VLOOKUP($A24&$A$18, '[1]2.토지'!$A$9:$AK$71, 30, FALSE) -> 2305954.7 | W24: =VLOOKUP($A24&$A$18, '[1]2.토지'!$A$9:$AK$71, 31, FALSE) -> 11992052 | X24: =VLOOKUP($A24&$A$18, '[1]2.토지'!$A$9:$AK$71, 32, FALSE) -> 2715474.8 | Y24: =VLOOKUP($A24&$A$18, '[1]2.토지'!$A$9:$AK$71, 33, FALSE) -> 430421 | Z24: =VLOOKUP($A24&$A$18, '[1]2.토지'!$A$9:$AK$71, 34, FALSE) -> 1392727.2 | AA24: =VLOOKUP($A24&$A$18, '[1]2.토지'!$A$9:$AK$71, 35, FALSE) -> 53518 | AB24: =VLOOKUP($A24&$A$18, '[1]2.토지'!$A$9:$AK$71, 36, FALSE) -> 3944056.6 | AC24: =VLOOKUP($A24&$A$18, '[1]2.토지'!$A$9:$AK$71, 37, FALSE) -> 14635458
A25: 2021 | B25: =VLOOKUP($A25&$A$18, '[1]2.토지'!$A$9:$AK$71, 4, FALSE) -> 8.8369822e+08 | C25: =VLOOKUP($A25&$A$18, '[1]2.토지'!$A$9:$AK$71, 11, FALSE) -> 38719065 | D25: =VLOOKUP($A25&$A$18, '[1]2.토지'!$A$9:$AK$71, 12, FALSE) -> 71594302 | E25: =VLOOKUP($A25&$A$18, '[1]2.토지'!$A$9:$AK$71, 13, FALSE) -> 2264305.4 | F25: =VLOOKUP($A25&$A$18, '[1]2.토지'!$A$9:$AK$71, 14, FALSE) -> 1307402.2 | G25: =VLOOKUP($A25&$A$18, '[1]2.토지'!$A$9:$AK$71, 15, FALSE) -> 4.7166669e+08 | H25: =VLOOKUP($A25&$A$18, '[1]2.토지'!$A$9:$AK$71, 16, FALSE) -> 7 | I25: =VLOOKUP($A25&$A$18, '[1]2.토지'!$A$9:$AK$71, 17, FALSE) -> 90606078 | J25: =VLOOKUP($A25&$A$18, '[1]2.토지'!$A$9:$AK$71, 18, FALSE) -> 26783816 | K25: =VLOOKUP($A25&$A$18, '[1]2.토지'!$A$9:$AK$71, 19, FALSE) -> 10969971 | L25: =VLOOKUP($A25&$A$18, '[1]2.토지'!$A$9:$AK$71, 20, FALSE) -> 992477 | M25: =VLOOKUP($A25&$A$18, '[1]2.토지'!$A$9:$AK$71, 21, FALSE) -> 584484.2 | N25: =VLOOKUP($A25&$A$18, '[1]2.토지'!$A$9:$AK$71, 22, FALSE) -> 1137963.5 | O25: =VLOOKUP($A25&$A$18, '[1]2.토지'!$A$9:$AK$71, 23, FALSE) -> 60806298 | P25: =VLOOKUP($A25&$A$18, '[1]2.토지'!$A$9:$AK$71, 24, FALSE) -> 2702508.5 | Q25: =VLOOKUP($A25&$A$18, '[1]2.토지'!$A$9:$AK$71, 25, FALSE) -> 44153149 | R25: =VLOOKUP($A25&$A$18, '[1]2.토지'!$A$9:$AK$71, 26, FALSE) -> 3989951.1 | S25: =VLOOKUP($A25&$A$18, '[1]2.토지'!$A$9:$AK$71, 27, FALSE) -> 11456217 | T25: =VLOOKUP($A25&$A$18, '[1]2.토지'!$A$9:$AK$71, 28, FALSE) -> 5994028.5 | U25: =VLOOKUP($A25&$A$18, '[1]2.토지'!$A$9:$AK$71, 29, FALSE) -> 34692 | V25: =VLOOKUP($A25&$A$18, '[1]2.토지'!$A$9:$AK$71, 30, FALSE) -> 2308227.3 | W25: =VLOOKUP($A25&$A$18, '[1]2.토지'!$A$9:$AK$71, 31, FALSE) -> 12072127 | X25: =VLOOKUP($A25&$A$18, '[1]2.토지'!$A$9:$AK$71, 32, FALSE) -> 2716961.8 | Y25: =VLOOKUP($A25&$A$18, '[1]2.토지'!$A$9:$AK$71, 33, FALSE) -> 441768 | Z25: =VLOOKUP($A25&$A$18, '[1]2.토지'!$A$9:$AK$71, 34, FALSE) -> 1400858.5 | AA25: =VLOOKUP($A25&$A$18, '[1]2.토지'!$A$9:$AK$71, 35, FALSE) -> 53518 | AB25: =VLOOKUP($A25&$A$18, '[1]2.토지'!$A$9:$AK$71, 36, FALSE) -> 3899841.6 | AC25: =VLOOKUP($A25&$A$18, '[1]2.토지'!$A$9:$AK$71, 37, FALSE) -> 15041512
A27: 경상북도
A28: 2015 | B28: =VLOOKUP($A28&$A$27, '[2]2.토지'!$A$9:$AK$160, 4, FALSE) -> 19030737844 | C28: =VLOOKUP($A28&$A$27, '[2]2.토지'!$A$9:$AK$160, 5, FALSE) -> 1255190978 | D28: =VLOOKUP($A28&$A$27, '[2]2.토지'!$A$9:$AK$160, 6, FALSE) -> 1761287843 | E28: =VLOOKUP($A28&$A$27, '[2]2.토지'!$A$9:$AK$160, 7, FALSE) -> 155577390 | F28: =VLOOKUP($A28&$A$27, '[2]2.토지'!$A$9:$AK$160, 8, FALSE) -> 52593460 | G28: =VLOOKUP($A28&$A$27, '[2]2.토지'!$A$9:$AK$160, 9, FALSE) -> 13612859635 | H28: =VLOOKUP($A28&$A$27, '[2]2.토지'!$A$9:$AK$160, 10, FALSE) -> 502 | I28: =VLOOKUP($A28&$A$27, '[2]2.토지'!$A$9:$AK$160, 11, FALSE) -> 313153218 | J28: =VLOOKUP($A28&$A$27, '[2]2.토지'!$A$9:$AK$160, 12, FALSE) -> 104513738 | K28: =VLOOKUP($A28&$A$27, '[2]2.토지'!$A$9:$AK$160, 13, FALSE) -> 31488469 | L28: =VLOOKUP($A28&$A$27, '[2]2.토지'!$A$9:$AK$160, 14, FALSE) -> 2405273 | M28: =VLOOKUP($A28&$A$27, '[2]2.토지'!$A$9:$AK$160, 15, FALSE) -> 1753795 | N28: =VLOOKUP($A28&$A$27, '[2]2.토지'!$A$9:$AK$160, 16, FALSE) -> 13735782 | O28: =VLOOKUP($A28&$A$27, '[2]2.토지'!$A$9:$AK$160, 17, FALSE) -> 402518675 | P28: =VLOOKUP($A28&$A$27, '[2]2.토지'!$A$9:$AK$160, 18, FALSE) -> 20969387 | Q28: =VLOOKUP($A28&$A$27, '[2]2.토지'!$A$9:$AK$160, 19, FALSE) -> 30278526 | R28: =VLOOKUP($A28&$A$27, '[2]2.토지'!$A$9:$AK$160, 20, FALSE) -> 566773252 | S28: =VLOOKUP($A28&$A$27, '[2]2.토지'!$A$9:$AK$160, 21, FALSE) -> 351382570 | T28: =VLOOKUP($A28&$A$27, '[2]2.토지'!$A$9:$AK$160, 22, FALSE) -> 176491768 | U28: =VLOOKUP($A28&$A$27, '[2]2.토지'!$A$9:$AK$160, 23, FALSE) -> 1032366 | V28: =VLOOKUP($A28&$A$27, '[2]2.토지'!$A$9:$AK$160, 24, FALSE) -> 2642952 | W28: =VLOOKUP($A28&$A$27, '[2]2.토지'!$A$9:$AK$160, 25, FALSE) -> 8717230 | X28: =VLOOKUP($A28&$A$27, '[2]2.토지'!$A$9:$AK$160, 26, FALSE) -> 27980104 | Y28: =VLOOKUP($A28&$A$27, '[2]2.토지'!$A$9:$AK$160, 27, FALSE) -> 2274032 | Z28: =VLOOKUP($A28&$A$27, '[2]2.토지'!$A$9:$AK$160, 28, FALSE) -> 5428438 | AA28: =VLOOKUP($A28&$A$27, '[2]2.토지'!$A$9:$AK$160, 29, FALSE) -> 1396833 | AB28: =VLOOKUP($A28&$A$27, '[2]2.토지'!$A$9:$AK$160, 30, FALSE) -> 59492221 | AC28: =VLOOKUP($A28&$A$27, '[2]2.토지'!$A$9:$AK$160, 31, FALSE) -> 68799407
A29: 2016 | B29: =VLOOKUP($A29&$A$27, '[2]2.토지'!$A$9:$AK$160, 4, FALSE) -> 19031416972 | C29: =VLOOKUP($A29&$A$27, '[2]2.토지'!$A$9:$AK$160, 5, FALSE) -> 1249971177 | D29: =VLOOKUP($A29&$A$27, '[2]2.토지'!$A$9:$AK$160, 6, FALSE) -> 1751397435 | E29: =VLOOKUP($A29&$A$27, '[2]2.토지'!$A$9:$AK$160, 7, FALSE) -> 156506918 | F29: =VLOOKUP($A29&$A$27, '[2]2.토지'!$A$9:$AK$160, 8, FALSE) -> 52336233 | G29: =VLOOKUP($A29&$A$27, '[2]2.토지'!$A$9:$AK$160, 9, FALSE) -> 13605595447 | H29: =VLOOKUP($A29&$A$27, '[2]2.토지'!$A$9:$AK$160, 10, FALSE) -> 502 | I29: =VLOOKUP($A29&$A$27, '[2]2.토지'!$A$9:$AK$160, 11, FALSE) -> 319642827 | J29: =VLOOKUP($A29&$A$27, '[2]2.토지'!$A$9:$AK$160, 12, FALSE) -> 109283521 | K29: =VLOOKUP($A29&$A$27, '[2]2.토지'!$A$9:$AK$160, 13, FALSE) -> 31635450 | L29: =VLOOKUP($A29&$A$27, '[2]2.토지'!$A$9:$AK$160, 14, FALSE) -> 2653279 | M29: =VLOOKUP($A29&$A$27, '[2]2.토지'!$A$9:$AK$160, 15, FALSE) -> 1787910 | N29: =VLOOKUP($A29&$A$27, '[2]2.토지'!$A$9:$AK$160, 16, FALSE) -> 14567390 | O29: =VLOOKUP($A29&$A$27, '[2]2.토지'!$A$9:$AK$160, 17, FALSE) -> 406519922 | P29: =VLOOKUP($A29&$A$27, '[2]2.토지'!$A$9:$AK$160, 18, FALSE) -> 20961672 | Q29: =VLOOKUP($A29&$A$27, '[2]2.토지'!$A$9:$AK$160, 19, FALSE) -> 30643095 | R29: =VLOOKUP($A29&$A$27, '[2]2.토지'!$A$9:$AK$160, 20, FALSE) -> 566762874 | S29: =VLOOKUP($A29&$A$27, '[2]2.토지'!$A$9:$AK$160, 21, FALSE) -> 350864241 | T29: =VLOOKUP($A29&$A$27, '[2]2.토지'!$A$9:$AK$160, 22, FALSE) -> 178851258 | U29: =VLOOKUP($A29&$A$27, '[2]2.토지'!$A$9:$AK$160, 23, FALSE) -> 1033193 | V29: =VLOOKUP($A29&$A$27, '[2]2.토지'!$A$9:$AK$160, 24, FALSE) -> 2657504 | W29: =VLOOKUP($A29&$A$27, '[2]2.토지'!$A$9:$AK$160, 25, FALSE) -> 10182934 | X29: =VLOOKUP($A29&$A$27, '[2]2.토지'!$A$9:$AK$160, 26, FALSE) -> 28244644 | Y29: =VLOOKUP($A29&$A$27, '[2]2.토지'!$A$9:$AK$160, 27, FALSE) -> 2356085 | Z29: =VLOOKUP($A29&$A$27, '[2]2.토지'!$A$9:$AK$160, 28, FALSE) -> 5577859 | AA29: =VLOOKUP($A29&$A$27, '[2]2.토지'!$A$9:$AK$160, 29, FALSE) -> 1422466 | AB29: =VLOOKUP($A29&$A$27, '[2]2.토지'!$A$9:$AK$160, 30, FALSE) -> 59367139 | AC29: =VLOOKUP($A29&$A$27, '[2]2.토지'!$A$9:$AK$160, 31, FALSE) -> 70593999
A30: 2017 | B30: =VLOOKUP($A30&$A$27, '[2]2.토지'!$A$9:$AK$160, 4, FALSE) -> 19032539824 | C30: =VLOOKUP($A30&$A$27, '[2]2.토지'!$A$9:$AK$160, 5, FALSE) -> 1246760473 | D30: =VLOOKUP($A30&$A$27, '[2]2.토지'!$A$9:$AK$160, 6, FALSE) -> 1743676073 | E30: =VLOOKUP($A30&$A$27, '[2]2.토지'!$A$9:$AK$160, 7, FALSE) -> 157874133 | F30: =VLOOKUP($A30&$A$27, '[2]2.토지'!$A$9:$AK$160, 8, FALSE) -> 51934941 | G30: =VLOOKUP($A30&$A$27, '[2]2.토지'!$A$9:$AK$160, 9, FALSE) -> 13595754146 | H30: =VLOOKUP($A30&$A$27, '[2]2.토지'!$A$9:$AK$160, 10, FALSE) -> 515 | I30: =VLOOKUP($A30&$A$27, '[2]2.토지'!$A$9:$AK$160, 11, FALSE) -> 324514101 | J30: =VLOOKUP($A30&$A$27, '[2]2.토지'!$A$9:$AK$160, 12, FALSE) -> 112022357 | K30: =VLOOKUP($A30&$A$27, '[2]2.토지'!$A$9:$AK$160, 13, FALSE) -> 31696144 | L30: =VLOOKUP($A30&$A$27, '[2]2.토지'!$A$9:$AK$160, 14, FALSE) -> 2773513 | M30: =VLOOKUP($A30&$A$27, '[2]2.토지'!$A$9:$AK$160, 15, FALSE) -> 1810958 | N30: =VLOOKUP($A30&$A$27, '[2]2.토지'!$A$9:$AK$160, 16, FALSE) -> 15210351 | O30: =VLOOKUP($A30&$A$27, '[2]2.토지'!$A$9:$AK$160, 17, FALSE) -> 412737264 | P30: =VLOOKUP($A30&$A$27, '[2]2.토지'!$A$9:$AK$160, 18, FALSE) -> 20978438 | Q30: =VLOOKUP($A30&$A$27, '[2]2.토지'!$A$9:$AK$160, 19, FALSE) -> 30764201 | R30: =VLOOKUP($A30&$A$27, '[2]2.토지'!$A$9:$AK$160, 20, FALSE) -> 566763952 | S30: =VLOOKUP($A30&$A$27, '[2]2.토지'!$A$9:$AK$160, 21, FALSE) -> 351006483 | T30: =VLOOKUP($A30&$A$27, '[2]2.토지'!$A$9:$AK$160, 22, FALSE) -> 180094997 | U30: =VLOOKUP($A30&$A$27, '[2]2.토지'!$A$9:$AK$160, 23, FALSE) -> 1052492 | V30: =VLOOKUP($A30&$A$27, '[2]2.토지'!$A$9:$AK$160, 24, FALSE) -> 2664895 | W30: =VLOOKUP($A30&$A$27, '[2]2.토지'!$A$9:$AK$160, 25, FALSE) -> 10955769 | X30: =VLOOKUP($A30&$A$27, '[2]2.토지'!$A$9:$AK$160, 26, FALSE) -> 28880373 | Y30: =VLOOKUP($A30&$A$27, '[2]2.토지'!$A$9:$AK$160, 27, FALSE) -> 3306174 | Z30: =VLOOKUP($A30&$A$27, '[2]2.토지'!$A$9:$AK$160, 28, FALSE) -> 5705558 | AA30: =VLOOKUP($A30&$A$27, '[2]2.토지'!$A$9:$AK$160, 29, FALSE) -> 1435674 | AB30: =VLOOKUP($A30&$A$27, '[2]2.토지'!$A$9:$AK$160, 30, FALSE) -> 59236659 | AC30: =VLOOKUP($A30&$A$27, '[2]2.토지'!$A$9:$AK$160, 31, FALSE) -> 72929190
A31: 2018 | B31: =VLOOKUP($A31&$A$27, '[2]2.토지'!$A$9:$AK$160, 4, FALSE) -> 19032867577 | C31: =VLOOKUP($A31&$A$27, '[2]2.토지'!$A$9:$AK$160, 5, FALSE) -> 1246559603 | D31: =VLOOKUP($A31&$A$27, '[2]2.토지'!$A$9:$AK$160, 6, FALSE) -> 1737012274 | E31: =VLOOKUP($A31&$A$27, '[2]2.토지'!$A$9:$AK$160, 7, FALSE) -> 161647279 | F31: =VLOOKUP($A31&$A$27, '[2]2.토지'!$A$9:$AK$160, 8, FALSE) -> 51941675 | G31: =VLOOKUP($A31&$A$27, '[2]2.토지'!$A$9:$AK$160, 9, FALSE) -> 13577865047 | H31: =VLOOKUP($A31&$A$27, '[2]2.토지'!$A$9:$AK$160, 10, FALSE) -> 515 | I31: =VLOOKUP($A31&$A$27, '[2]2.토지'!$A$9:$AK$160, 11, FALSE) -> 329340203 | J31: =VLOOKUP($A31&$A$27, '[2]2.토지'!$A$9:$AK$160, 12, FALSE) -> 114152837 | K31: =VLOOKUP($A31&$A$27, '[2]2.토지'!$A$9:$AK$160, 13, FALSE) -> 32253085 | L31: =VLOOKUP($A31&$A$27, '[2]2.토지'!$A$9:$AK$160, 14, FALSE) -> 2862830 | M31: =VLOOKUP($A31&$A$27, '[2]2.토지'!$A$9:$AK$160, 15, FALSE) -> 1825709 | N31: =VLOOKUP($A31&$A$27, '[2]2.토지'!$A$9:$AK$160, 16, FALSE) -> 15936768 | O31: =VLOOKUP($A31&$A$27, '[2]2.토지'!$A$9:$AK$160, 17, FALSE) -> 419341430 | P31: =VLOOKUP($A31&$A$27, '[2]2.토지'!$A$9:$AK$160, 18, FALSE) -> 20968677 | Q31: =VLOOKUP($A31&$A$27, '[2]2.토지'!$A$9:$AK$160, 19, FALSE) -> 30960839 | R31: =VLOOKUP($A31&$A$27, '[2]2.토지'!$A$9:$AK$160, 20, FALSE) -> 566610346 | S31: =VLOOKUP($A31&$A$27, '[2]2.토지'!$A$9:$AK$160, 21, FALSE) -> 350537711 | T31: =VLOOKUP($A31&$A$27, '[2]2.토지'!$A$9:$AK$160, 22, FALSE) -> 182536792 | U31: =VLOOKUP($A31&$A$27, '[2]2.토지'!$A$9:$AK$160, 23, FALSE) -> 1025628 | V31: =VLOOKUP($A31&$A$27, '[2]2.토지'!$A$9:$AK$160, 24, FALSE) -> 2673842 | W31: =VLOOKUP($A31&$A$27, '[2]2.토지'!$A$9:$AK$160, 25, FALSE) -> 11621885 | X31: =VLOOKUP($A31&$A$27, '[2]2.토지'!$A$9:$AK$160, 26, FALSE) -> 29941065 | Y31: =VLOOKUP($A31&$A$27, '[2]2.토지'!$A$9:$AK$160, 27, FALSE) -> 3728027 | Z31: =VLOOKUP($A31&$A$27, '[2]2.토지'!$A$9:$AK$160, 28, FALSE) -> 5832902 | AA31: =VLOOKUP($A31&$A$27, '[2]2.토지'!$A$9:$AK$160, 29, FALSE) -> 1435713 | AB31: =VLOOKUP($A31&$A$27, '[2]2.토지'!$A$9:$AK$160, 30, FALSE) -> 59109131 | AC31: =VLOOKUP($A31&$A$27, '[2]2.토지'!$A$9:$AK$160, 31, FALSE) -> 75145765
A32: 2019 | B32: =VLOOKUP($A32&$A$27, '[2]2.토지'!$A$9:$AK$160, 4, FALSE) -> 19033343124 | C32: =VLOOKUP($A32&$A$27, '[2]2.토지'!$A$9:$AK$160, 5, FALSE) -> 1242918694 | D32: =VLOOKUP($A32&$A$27, '[2]2.토지'!$A$9:$AK$160, 6, FALSE) -> 1730670360 | E32: =VLOOKUP($A32&$A$27, '[2]2.토지'!$A$9:$AK$160, 7, FALSE) -> 161791552 | F32: =VLOOKUP($A32&$A$27, '[2]2.토지'!$A$9:$AK$160, 8, FALSE) -> 52111350 | G32: =VLOOKUP($A32&$A$27, '[2]2.토지'!$A$9:$AK$160, 9, FALSE) -> 13570218206 | H32: =VLOOKUP($A32&$A$27, '[2]2.토지'!$A$9:$AK$160, 10, FALSE) -> 515 | I32: =VLOOKUP($A32&$A$27, '[2]2.토지'!$A$9:$AK$160, 11, FALSE) -> 333561964 | J32: =VLOOKUP($A32&$A$27, '[2]2.토지'!$A$9:$AK$160, 12, FALSE) -> 115190179 | K32: =VLOOKUP($A32&$A$27, '[2]2.토지'!$A$9:$AK$160, 13, FALSE) -> 32725592 | L32: =VLOOKUP($A32&$A$27, '[2]2.토지'!$A$9:$AK$160, 14, FALSE) -> 3155921 | M32: =VLOOKUP($A32&$A$27, '[2]2.토지'!$A$9:$AK$160, 15, FALSE) -> 1838215 | N32: =VLOOKUP($A32&$A$27, '[2]2.토지'!$A$9:$AK$160, 16, FALSE) -> 16744999 | O32: =VLOOKUP($A32&$A$27, '[2]2.토지'!$A$9:$AK$160, 17, FALSE) -> 423038955 | P32: =VLOOKUP($A32&$A$27, '[2]2.토지'!$A$9:$AK$160, 18, FALSE) -> 20961036 | Q32: =VLOOKUP($A32&$A$27, '[2]2.토지'!$A$9:$AK$160, 19, FALSE) -> 31145279 | R32: =VLOOKUP($A32&$A$27, '[2]2.토지'!$A$9:$AK$160, 20, FALSE) -> 566660489 | S32: =VLOOKUP($A32&$A$27, '[2]2.토지'!$A$9:$AK$160, 21, FALSE) -> 351165982 | T32: =VLOOKUP($A32&$A$27, '[2]2.토지'!$A$9:$AK$160, 22, FALSE) -> 182754725 | U32: =VLOOKUP($A32&$A$27, '[2]2.토지'!$A$9:$AK$160, 23, FALSE) -> 1029578 | V32: =VLOOKUP($A32&$A$27, '[2]2.토지'!$A$9:$AK$160, 24, FALSE) -> 2696689 | W32: =VLOOKUP($A32&$A$27, '[2]2.토지'!$A$9:$AK$160, 25, FALSE) -> 12696881 | X32: =VLOOKUP($A32&$A$27, '[2]2.토지'!$A$9:$AK$160, 26, FALSE) -> 31210843 | Y32: =VLOOKUP($A32&$A$27, '[2]2.토지'!$A$9:$AK$160, 27, FALSE) -> 4202559 | Z32: =VLOOKUP($A32&$A$27, '[2]2.토지'!$A$9:$AK$160, 28, FALSE) -> 5954074 | AA32: =VLOOKUP($A32&$A$27, '[2]2.토지'!$A$9:$AK$160, 29, FALSE) -> 1435713 | AB32: =VLOOKUP($A32&$A$27, '[2]2.토지'!$A$9:$AK$160, 30, FALSE) -> 59175972 | AC32: =VLOOKUP($A32&$A$27, '[2]2.토지'!$A$9:$AK$160, 31, FALSE) -> 78286805
A33: 2020 | B33: =VLOOKUP($A33&$A$27, '[2]2.토지'!$A$9:$AK$160, 4, FALSE) -> 19034029463 | C33: =VLOOKUP($A33&$A$27, '[2]2.토지'!$A$9:$AK$160, 5, FALSE) -> 1239331690 | D33: =VLOOKUP($A33&$A$27, '[2]2.토지'!$A$9:$AK$160, 6, FALSE) -> 1723133386 | E33: =VLOOKUP($A33&$A$27, '[2]2.토지'!$A$9:$AK$160, 7, FALSE) -> 161872720 | F33: =VLOOKUP($A33&$A$27, '[2]2.토지'!$A$9:$AK$160, 8, FALSE) -> 52117881 | G33: =VLOOKUP($A33&$A$27, '[2]2.토지'!$A$9:$AK$160, 9, FALSE) -> 13559665655 | H33: =VLOOKUP($A33&$A$27, '[2]2.토지'!$A$9:$AK$160, 10, FALSE) -> 515 | I33: =VLOOKUP($A33&$A$27, '[2]2.토지'!$A$9:$AK$160, 11, FALSE) -> 337255516 | J33: =VLOOKUP($A33&$A$27, '[2]2.토지'!$A$9:$AK$160, 12, FALSE) -> 116685583 | K33: =VLOOKUP($A33&$A$27, '[2]2.토지'!$A$9:$AK$160, 13, FALSE) -> 32871204 | L33: =VLOOKUP($A33&$A$27, '[2]2.토지'!$A$9:$AK$160, 14, FALSE) -> 3323019 | M33: =VLOOKUP($A33&$A$27, '[2]2.토지'!$A$9:$AK$160, 15, FALSE) -> 1855507 | N33: =VLOOKUP($A33&$A$27, '[2]2.토지'!$A$9:$AK$160, 16, FALSE) -> 17347015 | O33: =VLOOKUP($A33&$A$27, '[2]2.토지'!$A$9:$AK$160, 17, FALSE) -> 431200628 | P33: =VLOOKUP($A33&$A$27, '[2]2.토지'!$A$9:$AK$160, 18, FALSE) -> 20939379 | Q33: =VLOOKUP($A33&$A$27, '[2]2.토지'!$A$9:$AK$160, 19, FALSE) -> 31251158 | R33: =VLOOKUP($A33&$A$27, '[2]2.토지'!$A$9:$AK$160, 20, FALSE) -> 566660134 | S33: =VLOOKUP($A33&$A$27, '[2]2.토지'!$A$9:$AK$160, 21, FALSE) -> 350886044 | T33: =VLOOKUP($A33&$A$27, '[2]2.토지'!$A$9:$AK$160, 22, FALSE) -> 183323256 | U33: =VLOOKUP($A33&$A$27, '[2]2.토지'!$A$9:$AK$160, 23, FALSE) -> 1077271 | V33: =VLOOKUP($A33&$A$27, '[2]2.토지'!$A$9:$AK$160, 24, FALSE) -> 2740174 | W33: =VLOOKUP($A33&$A$27, '[2]2.토지'!$A$9:$AK$160, 25, FALSE) -> 13863186 | X33: =VLOOKUP($A33&$A$27, '[2]2.토지'!$A$9:$AK$160, 26, FALSE) -> 32229768 | Y33: =VLOOKUP($A33&$A$27, '[2]2.토지'!$A$9:$AK$160, 27, FALSE) -> 4529510 | Z33: =VLOOKUP($A33&$A$27, '[2]2.토지'!$A$9:$AK$160, 28, FALSE) -> 6054734 | AA33: =VLOOKUP($A33&$A$27, '[2]2.토지'!$A$9:$AK$160, 29, FALSE) -> 1438346 | AB33: =VLOOKUP($A33&$A$27, '[2]2.토지'!$A$9:$AK$160, 30, FALSE) -> 59200648 | AC33: =VLOOKUP($A33&$A$27, '[2]2.토지'!$A$9:$AK$160, 31, FALSE) -> 83175536
A34: 2021 | B34: 1.9034795e+10 | C34: 1.2363726e+09 | D34: 1.7169349e+09 | E34: 1.6184911e+08 | F34: 52141524 | G34: 1.3551452e+10 | H34: 515.2 | I34: 3.4068726e+08 | J34: 118063032 | K34: 32956923 | L34: 3431321.7 | M34: 1875406.8 | N34: 18191947 | O34: 4.3707991e+08 | P34: 20931286 | Q34: 31320951 | R34: 5.6717929e+08 | S34: 3.510157e+08 | T34: 1.8340352e+08 | U34: 1092321.2 | V34: 2771900.4 | W34: 14259916 | X34: 32491814 | Y34: 4691148 | Z34: 6207166.9 | AA34: 1441528.3 | AB34: 59283743 | AC34: 87668344
A36: 자료: 대구통계연보, 경북통계연보

Sheet 3.강수량
A1: [목록]으로
A2: 3. 월별 강수량
O4: 단위:mm
B5: 계 | D5: 1월 | E5: 2월 | F5: 3월 | G5: 4월 | H5: 5월 | I5: 6월 | J5: 7월 | K5: 8월 | L5: 9월 | M5: 10월 | N5: 11월 | O5: 12월
C6: 연평균 강수량
A9: 대경권
A10: 2015 | B10: =SUM(B19,B28) -> 1680.8 | C10: =AVERAGE(D10:O10) -> 137.95833 | D10: =SUM(D19,E28) -> 42.8 | E10: =SUM(E19,F28) -> 55.8 | F10: =SUM(F19,G28) -> 126.8 | G10: =SUM(G19,H28) -> 107 | H10: =SUM(H19,I28) -> 115.1 | I10: =SUM(I19,J28) -> 202.5 | J10: =SUM(J19,K28) -> 275.4 | K10: =SUM(K19,L28) -> 322 | ... O10: =SUM(O19,P28) -> 33.5
A11: 2016 | B11: =SUM(B20,B29) -> 2426.3 | C11: =AVERAGE(D11:O11) -> 200.26667 | D11: =SUM(D20,E29) -> 56.6 | E11: =SUM(E20,F29) -> 62.8 | F11: =SUM(F20,G29) -> 218 | G11: =SUM(G20,H29) -> 212.4 | H11: =SUM(H20,I29) -> 112.4 | I11: =SUM(I20,J29) -> 318.2 | J11: =SUM(J20,K29) -> 406.5 | K11: =SUM(K20,L29) -> 337.4 | ... O11: =SUM(O20,P29) -> 41
A12: 2017 | B12: =SUM(B21,B30) -> 1474.4 | C12: =AVERAGE(D12:O12) -> 121.91667 | D12: =SUM(D21,E30) -> 39.4 | E12: =SUM(E21,F30) -> 52.3 | F12: =SUM(F21,G30) -> 112.6 | G12: =SUM(G21,H30) -> 73.9 | H12: =SUM(H21,I30) -> 78.5 | I12: =SUM(I21,J30) -> 298.8 | J12: =SUM(J21,K30) -> 288.8 | K12: =SUM(K21,L30) -> 267.5 | ... O12: =SUM(O21,P30) -> 11
A13: 2018 | B13: =SUM(B22,B31) -> 2624.6 | C13: =AVERAGE(D13:O13) -> 217.1 | D13: =SUM(D22,E31) -> 52.7 | E13: =SUM(E22,F31) -> 139.5 | F13: =SUM(F22,G31) -> 229 | G13: =SUM(G22,H31) -> 205 | H13: =SUM(H22,I31) -> 190.2 | I13: =SUM(I22,J31) -> 362.3 | J13: =SUM(J22,K31) -> 403.4 | K13: =SUM(K22,L31) -> 459.2 | ... O13: =SUM(O22,P31) -> 23.8
A14: 2019 | B14: =SUM(B23,B32) -> 2131.9 | C14: =AVERAGE(D14:O14) -> 176.61667 | D14: =SUM(D23,E32) -> 39 | E14: =SUM(E23,F32) -> 68.4 | F14: =SUM(F23,G32) -> 104.6 | G14: =SUM(G23,H32) -> 127.2 | H14: =SUM(H23,I32) -> 179 | I14: =SUM(I23,J32) -> 329 | J14: =SUM(J23,K32) -> 273.1 | K14: =SUM(K23,L32) -> 343.2 | ... O14: =SUM(O23,P32) -> 27.5
A15: 2020 | B15: =SUM(B24,B33) -> 2552.9 | C15: =AVERAGE(D15:O15) -> 210.55 | D15: =SUM(D24,E33) -> 130.6 | E15: =SUM(E24,F33) -> 63.2 | F15: =SUM(F24,G33) -> 61 | G15: =SUM(G24,H33) -> 104.9 | H15: =SUM(H24,I33) -> 189.3 | I15: =SUM(I24,J33) -> 583.6 | J15: =SUM(J24,K33) -> 622.3 | K15: =SUM(K24,L33) -> 510.1 | ... O15: =SUM(O24,P33) -> 2.8
A16: 2021 | B16: =SUM(B25,B34) -> 2044.2826 | C16: =AVERAGE(D16:O16) -> 169.01848 | D16: =SUM(D25,E34) -> 29.821739 | E16: =SUM(E25,F34) -> 112.25217 | F16: =SUM(F25,G34) -> 163.84783 | G16: =SUM(G25,H34) -> 154.62174 | H16: =SUM(H25,I34) -> 155.93478 | I16: =SUM(I25,J34) -> 264.29565 | J16: =SUM(J25,K34) -> 451.62174 | K16: =SUM(K25,L34) -> 391.13043 | ... O16: =SUM(O25,P34) -> 0.1
A18: 대구광역시
A19: 2015 | B19: =VLOOKUP($A19&$A$18, '[1]3.강수량'!$A$9:$U$71, 4, FALSE) -> 886.8 | C19: =AVERAGE(D19:O19) -> 73.9 | D19: =VLOOKUP($A19&$A$18, '[1]3.강수량'!$A$9:$U$71, 6, FALSE) -> 21.5 | E19: =VLOOKUP($A19&$A$18, '[1]3.강수량'!$A$9:$U$71, 7, FALSE) -> 11.6 | F19: =VLOOKUP($A19&$A$18, '[1]3.강수량'!$A$9:$U$71, 8, FALSE) -> 44.4 | G19: =VLOOKUP($A19&$A$18, '[1]3.강수량'!$A$9:$U$71, 9, FALSE) -> 76.4 | H19: =VLOOKUP($A19&$A$18, '[1]3.강수량'!$A$9:$U$71, 10, FALSE) -> 30.5 | I19: =VLOOKUP($A19&$A$18, '[1]3.강수량'!$A$9:$U$71, 11, FALSE) -> 62.6 | J19: =VLOOKUP($A19&$A$18, '[1]3.강수량'!$A$9:$U$71, 12, FALSE) -> 157.5 | K19: =VLOOKUP($A19&$A$18, '[1]3.강수량'!$A$9:$U$71, 13, FALSE) -> 269.5 | L19: =VLOOKUP($A19&$A$18, '[1]3.강수량'!$A$9:$U$71, 14, FALSE) -> 70.3 | M19: =VLOOKUP($A19&$A$18, '[1]3.강수량'!$A$9:$U$71, 15, FALSE) -> 38.1 | N19: =VLOOKUP($A19&$A$18, '[1]3.강수량'!$A$9:$U$71, 16, FALSE) -> 70.9 | O19: =VLOOKUP($A19&$A$18, '[1]3.강수량'!$A$9:$U$71, 17, FALSE) -> 33.5
A20: 2016 | B20: =VLOOKUP($A20&$A$18, '[1]3.강수량'!$A$9:$U$71, 4, FALSE) -> 1227.3 | C20: =AVERAGE(D20:O20) -> 102.275 | D20: =VLOOKUP($A20&$A$18, '[1]3.강수량'!$A$9:$U$71, 6, FALSE) -> 23.8 | E20: =VLOOKUP($A20&$A$18, '[1]3.강수량'!$A$9:$U$71, 7, FALSE) -> 15.5 | F20: =VLOOKUP($A20&$A$18, '[1]3.강수량'!$A$9:$U$71, 8, FALSE) -> 67.5 | G20: =VLOOKUP($A20&$A$18, '[1]3.강수량'!$A$9:$U$71, 9, FALSE) -> 151 | H20: =VLOOKUP($A20&$A$18, '[1]3.강수량'!$A$9:$U$71, 10, FALSE) -> 65 | I20: =VLOOKUP($A20&$A$18, '[1]3.강수량'!$A$9:$U$71, 11, FALSE) -> 45.7 | J20: =VLOOKUP($A20&$A$18, '[1]3.강수량'!$A$9:$U$71, 12, FALSE) -> 307.3 | K20: =VLOOKUP($A20&$A$18, '[1]3.강수량'!$A$9:$U$71, 13, FALSE) -> 81.2 | L20: =VLOOKUP($A20&$A$18, '[1]3.강수량'!$A$9:$U$71, 14, FALSE) -> 306.5 | M20: =VLOOKUP($A20&$A$18, '[1]3.강수량'!$A$9:$U$71, 15, FALSE) -> 111.5 | N20: =VLOOKUP($A20&$A$18, '[1]3.강수량'!$A$9:$U$71, 16, FALSE) -> 11.3 | O20: =VLOOKUP($A20&$A$18, '[1]3.강수량'!$A$9:$U$71, 17, FALSE) -> 41
A21: 2017 | B21: =VLOOKUP($A21&$A$18, '[1]3.강수량'!$A$9:$U$71, 4, FALSE) -> 663.7 | C21: =AVERAGE(D21:O21) -> 55.308333 | D21: =VLOOKUP($A21&$A$18, '[1]3.강수량'!$A$9:$U$71, 6, FALSE) -> 2.5 | E21: =VLOOKUP($A21&$A$18, '[1]3.강수량'!$A$9:$U$71, 7, FALSE) -> 25.7 | F21: =VLOOKUP($A21&$A$18, '[1]3.강수량'!$A$9:$U$71, 8, FALSE) -> 38.4 | G21: =VLOOKUP($A21&$A$18, '[1]3.강수량'!$A$9:$U$71, 9, FALSE) -> 53 | H21: =VLOOKUP($A21&$A$18, '[1]3.강수량'!$A$9:$U$71, 10, FALSE) -> 33.1 | I21: =VLOOKUP($A21&$A$18, '[1]3.강수량'!$A$9:$U$71, 11, FALSE) -> 71.5 | J21: =VLOOKUP($A21&$A$18, '[1]3.강수량'!$A$9:$U$71, 12, FALSE) -> 105.3 | K21: =VLOOKUP($A21&$A$18, '[1]3.강수량'!$A$9:$U$71, 13, FALSE) -> 171.3 | L21: =VLOOKUP($A21&$A$18, '[1]3.강수량'!$A$9:$U$71, 14, FALSE) -> 97.5 | M21: =VLOOKUP($A21&$A$18, '[1]3.강수량'!$A$9:$U$71, 15, FALSE) -> 54.3 | N21: =VLOOKUP($A21&$A$18, '[1]3.강수량'!$A$9:$U$71, 16, FALSE) -> 0.1 | O21: =VLOOKUP($A21&$A$18, '[1]3.강수량'!$A$9:$U$71, 17, FALSE) -> 11
A22: 2018 | B22: =VLOOKUP($A22&$A$18, '[1]3.강수량'!$A$9:$U$71, 4, FALSE) -> 1297.6 | C22: =AVERAGE(D22:O22) -> 108.13333 | D22: =VLOOKUP($A22&$A$18, '[1]3.강수량'!$A$9:$U$71, 6, FALSE) -> 21.1 | E22: =VLOOKUP($A22&$A$18, '[1]3.강수량'!$A$9:$U$71, 7, FALSE) -> 25.1 | F22: =VLOOKUP($A22&$A$18, '[1]3.강수량'!$A$9:$U$71, 8, FALSE) -> 98.7 | G22: =VLOOKUP($A22&$A$18, '[1]3.강수량'!$A$9:$U$71, 9, FALSE) -> 113 | H22: =VLOOKUP($A22&$A$18, '[1]3.강수량'!$A$9:$U$71, 10, FALSE) -> 99.7 | I22: =VLOOKUP($A22&$A$18, '[1]3.강수량'!$A$9:$U$71, 11, FALSE) -> 121.1 | J22: =VLOOKUP($A22&$A$18, '[1]3.강수량'!$A$9:$U$71, 12, FALSE) -> 169.6 | K22: =VLOOKUP($A22&$A$18, '[1]3.강수량'!$A$9:$U$71, 13, FALSE) -> 334.2 | L22: =VLOOKUP($A22&$A$18, '[1]3.강수량'!$A$9:$U$71, 14, FALSE) -> 109 | M22: =VLOOKUP($A22&$A$18, '[1]3.강수량'!$A$9:$U$71, 15, FALSE) -> 165.1 | N22: =VLOOKUP($A22&$A$18, '[1]3.강수량'!$A$9:$U$71, 16, FALSE) -> 17.2 | O22: =VLOOKUP($A22&$A$18, '[1]3.강수량'!$A$9:$U$71, 17, FALSE) -> 23.8
A23: 2019 | B23: =VLOOKUP($A23&$A$18, '[1]3.강수량'!$A$9:$U$71, 4, FALSE) -> 995.7 | C23: =AVERAGE(D23:O23) -> 82.975 | D23: =VLOOKUP($A23&$A$18, '[1]3.강수량'!$A$9:$U$71, 6, FALSE) -> 9.5 | E23: =VLOOKUP($A23&$A$18, '[1]3.강수량'!$A$9:$U$71, 7, FALSE) -> 26.2 | F23: =VLOOKUP($A23&$A$18, '[1]3.강수량'!$A$9:$U$71, 8, FALSE) -> 20.7 | G23: =VLOOKUP($A23&$A$18, '[1]3.강수량'!$A$9:$U$71, 9, FALSE) -> 88 | H23: =VLOOKUP($A23&$A$18, '[1]3.강수량'!$A$9:$U$71, 10, FALSE) -> 25.7 | I23: =VLOOKUP($A23&$A$18, '[1]3.강수량'!$A$9:$U$71, 11, FALSE) -> 160.8 | J23: =VLOOKUP($A23&$A$18, '[1]3.강수량'!$A$9:$U$71, 12, FALSE) -> 139.4 | K23: =VLOOKUP($A23&$A$18, '[1]3.강수량'!$A$9:$U$71, 13, FALSE) -> 141.9 | L23: =VLOOKUP($A23&$A$18, '[1]3.강수량'!$A$9:$U$71, 14, FALSE) -> 185.5 | M23: =VLOOKUP($A23&$A$18, '[1]3.강수량'!$A$9:$U$71, 15, FALSE) -> 155.2 | N23: =VLOOKUP($A23&$A$18, '[1]3.강수량'!$A$9:$U$71, 16, FALSE) -> 15.3 | O23: =VLOOKUP($A23&$A$18, '[1]3.강수량'!$A$9:$U$71, 17, FALSE) -> 27.5
A24: 2020 | B24: =VLOOKUP($A24&$A$18, '[1]3.강수량'!$A$9:$U$71, 4, FALSE) -> 1244.9 | C24: =AVERAGE(D24:O24) -> 103.74167 | D24: =VLOOKUP($A24&$A$18, '[1]3.강수량'!$A$9:$U$71, 6, FALSE) -> 70.4 | E24: =VLOOKUP($A24&$A$18, '[1]3.강수량'!$A$9:$U$71, 7, FALSE) -> 40.2 | F24: =VLOOKUP($A24&$A$18, '[1]3.강수량'!$A$9:$U$71, 8, FALSE) -> 24.5 | G24: =VLOOKUP($A24&$A$18, '[1]3.강수량'!$A$9:$U$71, 9, FALSE) -> 32.4 | H24: =VLOOKUP($A24&$A$18, '[1]3.강수량'!$A$9:$U$71, 10, FALSE) -> 38.1 | I24: =VLOOKUP($A24&$A$18, '[1]3.강수량'!$A$9:$U$71, 11, FALSE) -> 185.3 | J24: =VLOOKUP($A24&$A$18, '[1]3.강수량'!$A$9:$U$71, 12, FALSE) -> 330.5 | K24: =VLOOKUP($A24&$A$18, '[1]3.강수량'!$A$9:$U$71, 13, FALSE) -> 322.7 | L24: =VLOOKUP($A24&$A$18, '[1]3.강수량'!$A$9:$U$71, 14, FALSE) -> 161 | M24: =VLOOKUP($A24&$A$18, '[1]3.강수량'!$A$9:$U$71, 15, FALSE) -> 13.1 | N24: =VLOOKUP($A24&$A$18, '[1]3.강수량'!$A$9:$U$71, 16, FALSE) -> 23.9 | O24: =VLOOKUP($A24&$A$18, '[1]3.강수량'!$A$9:$U$71, 17, FALSE) -> 2.8
A25: 2021 | B25: =VLOOKUP($A25&$A$18, '[1]3.강수량'!$A$9:$U$71, 4, FALSE) -> 910 | C25: =AVERAGE(D25:O25) -> 75.833333 | D25: =VLOOKUP($A25&$A$18, '[1]3.강수량'!$A$9:$U$71, 6, FALSE) -> 11.9 | E25: =VLOOKUP($A25&$A$18, '[1]3.강수량'!$A$9:$U$71, 7, FALSE) -> 19.2 | F25: =VLOOKUP($A25&$A$18, '[1]3.강수량'!$A$9:$U$71, 8, FALSE) -> 95.2 | G25: =VLOOKUP($A25&$A$18, '[1]3.강수량'!$A$9:$U$71, 9, FALSE) -> 43 | H25: =VLOOKUP($A25&$A$18, '[1]3.강수량'!$A$9:$U$71, 10, FALSE) -> 90.9 | I25: =VLOOKUP($A25&$A$18, '[1]3.강수량'!$A$9:$U$71, 11, FALSE) -> 55.1 | J25: =VLOOKUP($A25&$A$18, '[1]3.강수량'!$A$9:$U$71, 12, FALSE) -> 153.3 | K25: =VLOOKUP($A25&$A$18, '[1]3.강수량'!$A$9:$U$71, 13, FALSE) -> 256.3 | L25: =VLOOKUP($A25&$A$18, '[1]3.강수량'!$A$9:$U$71, 14, FALSE) -> 84.1 | M25: =VLOOKUP($A25&$A$18, '[1]3.강수량'!$A$9:$U$71, 15, FALSE) -> 57.8 | N25: =VLOOKUP($A25&$A$18, '[1]3.강수량'!$A$9:$U$71, 16, FALSE) -> 43.1 | O25: =VLOOKUP($A25&$A$18, '[1]3.강수량'!$A$9:$U$71, 17, FALSE) -> 0.1
A27: 경상북도
A28: 2015 | B28: =VLOOKUP($A28&$A$27, '[2]3.강수량'!$A$9:$U$160, 4, FALSE) -> 794 | C28: =AVERAGE(D28:O28) -> 66.175 | D28: =VLOOKUP($A28&$A$27, '[2]3.강수량'!$A$9:$U$160, 5, FALSE) -> 25.4 | E28: =VLOOKUP($A28&$A$27, '[2]3.강수량'!$A$9:$U$160, 6, FALSE) -> 21.3 | F28: =VLOOKUP($A28&$A$27, '[2]3.강수량'!$A$9:$U$160, 7, FALSE) -> 44.2 | G28: =VLOOKUP($A28&$A$27, '[2]3.강수량'!$A$9:$U$160, 8, FALSE) -> 82.4 | H28: =VLOOKUP($A28&$A$27, '[2]3.강수량'!$A$9:$U$160, 9, FALSE) -> 30.6 | I28: =VLOOKUP($A28&$A$27, '[2]3.강수량'!$A$9:$U$160, 10, FALSE) -> 84.6 | J28: =VLOOKUP($A28&$A$27, '[2]3.강수량'!$A$9:$U$160, 11, FALSE) -> 139.9 | K28: =VLOOKUP($A28&$A$27, '[2]3.강수량'!$A$9:$U$160, 12, FALSE) -> 117.9 | L28: =VLOOKUP($A28&$A$27, '[2]3.강수량'!$A$9:$U$160, 13, FALSE) -> 52.5 | M28: =VLOOKUP($A28&$A$27, '[2]3.강수량'!$A$9:$U$160, 14, FALSE) -> 44.3 | N28: =VLOOKUP($A28&$A$27, '[2]3.강수량'!$A$9:$U$160, 15, FALSE) -> 118.7 | O28: =VLOOKUP($A28&$A$27, '[2]3.강수량'!$A$9:$U$160, 16, FALSE) -> 32.3
A29: 2016 | B29: =VLOOKUP($A29&$A$27, '[2]3.강수량'!$A$9:$U$160, 4, FALSE) -> 1199 | C29: =AVERAGE(D29:O29) -> 99.916667 | D29: =VLOOKUP($A29&$A$27, '[2]3.강수량'!$A$9:$U$160, 5, FALSE) -> 23.1 | E29: =VLOOKUP($A29&$A$27, '[2]3.강수량'!$A$9:$U$160, 6, FALSE) -> 32.8 | F29: =VLOOKUP($A29&$A$27, '[2]3.강수량'!$A$9:$U$160, 7, FALSE) -> 47.3 | G29: =VLOOKUP($A29&$A$27, '[2]3.강수량'!$A$9:$U$160, 8, FALSE) -> 150.5 | H29: =VLOOKUP($A29&$A$27, '[2]3.강수량'!$A$9:$U$160, 9, FALSE) -> 61.4 | I29: =VLOOKUP($A29&$A$27, '[2]3.강수량'!$A$9:$U$160, 10, FALSE) -> 47.4 | J29: =VLOOKUP($A29&$A$27, '[2]3.강수량'!$A$9:$U$160, 11, FALSE) -> 272.5 | K29: =VLOOKUP($A29&$A$27, '[2]3.강수량'!$A$9:$U$160, 12, FALSE) -> 99.2 | L29: =VLOOKUP($A29&$A$27, '[2]3.강수량'!$A$9:$U$160, 13, FALSE) -> 256.2 | M29: =VLOOKUP($A29&$A$27, '[2]3.강수량'!$A$9:$U$160, 14, FALSE) -> 126.4 | N29: =VLOOKUP($A29&$A$27, '[2]3.강수량'!$A$9:$U$160, 15, FALSE) -> 25.7 | O29: =VLOOKUP($A29&$A$27, '[2]3.강수량'!$A$9:$U$160, 16, FALSE) -> 56.5
A30: 2017 | B30: =VLOOKUP($A30&$A$27, '[2]3.강수량'!$A$9:$U$160, 4, FALSE) -> 810.7 | C30: =AVERAGE(D30:O30) -> 67.566667 | D30: =VLOOKUP($A30&$A$27, '[2]3.강수량'!$A$9:$U$160, 5, FALSE) -> 11.5 | E30: =VLOOKUP($A30&$A$27, '[2]3.강수량'!$A$9:$U$160, 6, FALSE) -> 36.9 | F30: =VLOOKUP($A30&$A$27, '[2]3.강수량'!$A$9:$U$160, 7, FALSE) -> 26.6 | G30: =VLOOKUP($A30&$A$27, '[2]3.강수량'!$A$9:$U$160, 8, FALSE) -> 74.2 | H30: =VLOOKUP($A30&$A$27, '[2]3.강수량'!$A$9:$U$160, 9, FALSE) -> 20.9 | I30: =VLOOKUP($A30&$A$27, '[2]3.강수량'!$A$9:$U$160, 10, FALSE) -> 45.4 | J30: =VLOOKUP($A30&$A$27, '[2]3.강수량'!$A$9:$U$160, 11, FALSE) -> 227.3 | K30: =VLOOKUP($A30&$A$27, '[2]3.강수량'!$A$9:$U$160, 12, FALSE) -> 183.5 | L30: =VLOOKUP($A30&$A$27, '[2]3.강수량'!$A$9:$U$160, 13, FALSE) -> 96.2 | M30: =VLOOKUP($A30&$A$27, '[2]3.강수량'!$A$9:$U$160, 14, FALSE) -> 66.2 | N30: =VLOOKUP($A30&$A$27, '[2]3.강수량'!$A$9:$U$160, 15, FALSE) -> 5.7 | O30: =VLOOKUP($A30&$A$27, '[2]3.강수량'!$A$9:$U$160, 16, FALSE) -> 16.4
A31: 2018 | B31: =VLOOKUP($A31&$A$27, '[2]3.강수량'!$A$9:$U$160, 4, FALSE) -> 1327 | C31: =AVERAGE(D31:O31) -> 110.58333 | D31: =VLOOKUP($A31&$A$27, '[2]3.강수량'!$A$9:$U$160, 5, FALSE) -> 19.4 | E31: =VLOOKUP($A31&$A$27, '[2]3.강수량'!$A$9:$U$160, 6, FALSE) -> 31.6 | F31: =VLOOKUP($A31&$A$27, '[2]3.강수량'!$A$9:$U$160, 7, FALSE) -> 114.4 | G31: =VLOOKUP($A31&$A$27, '[2]3.강수량'!$A$9:$U$160, 8, FALSE) -> 130.3 | H31: =VLOOKUP($A31&$A$27, '[2]3.강수량'!$A$9:$U$160, 9, FALSE) -> 92 | I31: =VLOOKUP($A31&$A$27, '[2]3.강수량'!$A$9:$U$160, 10, FALSE) -> 90.5 | J31: =VLOOKUP($A31&$A$27, '[2]3.강수량'!$A$9:$U$160, 11, FALSE) -> 241.2 | K31: =VLOOKUP($A31&$A$27, '[2]3.강수량'!$A$9:$U$160, 12, FALSE) -> 233.8 | L31: =VLOOKUP($A31&$A$27, '[2]3.강수량'!$A$9:$U$160, 13, FALSE) -> 125 | M31: =VLOOKUP($A31&$A$27, '[2]3.강수량'!$A$9:$U$160, 14, FALSE) -> 186.6 | N31: =VLOOKUP($A31&$A$27, '[2]3.강수량'!$A$9:$U$160, 15, FALSE) -> 29.7 | O31: =VLOOKUP($A31&$A$27, '[2]3.강수량'!$A$9:$U$160, 16, FALSE) -> 32.5
A32: 2019 | B32: =VLOOKUP($A32&$A$27, '[2]3.강수량'!$A$9:$U$160, 4, FALSE) -> 1136.2 | C32: =AVERAGE(D32:O32) -> 94.691667 | D32: =VLOOKUP($A32&$A$27, '[2]3.강수량'!$A$9:$U$160, 5, FALSE) -> 12.6 | E32: =VLOOKUP($A32&$A$27, '[2]3.강수량'!$A$9:$U$160, 6, FALSE) -> 29.5 | F32: =VLOOKUP($A32&$A$27, '[2]3.강수량'!$A$9:$U$160, 7, FALSE) -> 42.2 | G32: =VLOOKUP($A32&$A$27, '[2]3.강수량'!$A$9:$U$160, 8, FALSE) -> 83.9 | H32: =VLOOKUP($A32&$A$27, '[2]3.강수량'!$A$9:$U$160, 9, FALSE) -> 39.2 | I32: =VLOOKUP($A32&$A$27, '[2]3.강수량'!$A$9:$U$160, 10, FALSE) -> 153.3 | J32: =VLOOKUP($A32&$A$27, '[2]3.강수량'!$A$9:$U$160, 11, FALSE) -> 168.2 | K32: =VLOOKUP($A32&$A$27, '[2]3.강수량'!$A$9:$U$160, 12, FALSE) -> 133.7 | L32: =VLOOKUP($A32&$A$27, '[2]3.강수량'!$A$9:$U$160, 13, FALSE) -> 201.3 | M32: =VLOOKUP($A32&$A$27, '[2]3.강수량'!$A$9:$U$160, 14, FALSE) -> 207.7 | N32: =VLOOKUP($A32&$A$27, '[2]3.강수량'!$A$9:$U$160, 15, FALSE) -> 38.6 | O32: =VLOOKUP($A32&$A$27, '[2]3.강수량'!$A$9:$U$160, 16, FALSE) -> 26.1
A33: 2020 | B33: =VLOOKUP($A33&$A$27, '[2]3.강수량'!$A$9:$U$160, 4, FALSE) -> 1308 | C33: =AVERAGE(D33:O33) -> 113.64167 | D33: =VLOOKUP($A33&$A$27, '[2]3.강수량'!$A$9:$U$160, 5, FALSE) -> 82 | E33: =VLOOKUP($A33&$A$27, '[2]3.강수량'!$A$9:$U$160, 6, FALSE) -> 60.2 | F33: =VLOOKUP($A33&$A$27, '[2]3.강수량'!$A$9:$U$160, 7, FALSE) -> 23 | G33: =VLOOKUP($A33&$A$27, '[2]3.강수량'!$A$9:$U$160, 8, FALSE) -> 36.5 | H33: =VLOOKUP($A33&$A$27, '[2]3.강수량'!$A$9:$U$160, 9, FALSE) -> 72.5 | I33: =VLOOKUP($A33&$A$27, '[2]3.강수량'!$A$9:$U$160, 10, FALSE) -> 151.2 | J33: =VLOOKUP($A33&$A$27, '[2]3.강수량'!$A$9:$U$160, 11, FALSE) -> 398.3 | K33: =VLOOKUP($A33&$A$27, '[2]3.강수량'!$A$9:$U$160, 12, FALSE) -> 291.8 | L33: =VLOOKUP($A33&$A$27, '[2]3.강수량'!$A$9:$U$160, 13, FALSE) -> 187.4 | M33: =VLOOKUP($A33&$A$27, '[2]3.강수량'!$A$9:$U$160, 14, FALSE) -> 13.4 | N33: =VLOOKUP($A33&$A$27, '[2]3.강수량'!$A$9:$U$160, 15, FALSE) -> 37.6 | O33: =VLOOKUP($A33&$A$27, '[2]3.강수량'!$A$9:$U$160, 16, FALSE) -> 9.8
A34: 2021 | B34: =SUM(D34:O34) -> 1134.2826 | C34: =AVERAGE(D34:O34) -> 94.523551 | D34: 16.06087 | E34: 17.921739 | F34: 93.052174 | G34: 68.647826 | H34: 111.62174 | I34: 65.034783 | J34: 209.19565 | K34: 298.32174 | L34: 134.83043 | M34: 73.143478 | N34: 37.704348 | O34: 8.7478261
A36: 자료: 대구통계연보, 경북통계연보 주: 연평균 강수량은 1월 ~ 12월의 평균임

Sheet 4.세대및 인구
A1: [목록]으로
A2: 4. 세대 및 인구 현황
R4: 단위 : 세대, 명, %
B5: 세대1) | D5: 인 구 | N5: 65세이상 고령자2) | P5: 인구밀도 (명/㎢) | R5: 인구성장률 (%)
D6: 합 계 | H6: 한 국 인 | K6: 외 국 인 | Q6: 면적 (㎢)
C7: 구성비(%) | E7: 구성비(%) | F7: 남 | G7: 여 | I7: 남 | J7: 여 | L7: 남 | M7: 여 | O7: 구성비(%)
A9: 대경권
A10: 2015 | B10: =SUM(B19,B28) -> 2152008 | C10: =B10/B10*100 -> 100 | D10: =SUM(D19,D28) -> 5266561 | E10: =D10/D10*100 -> 100 | F10: =SUM(F19,F28) -> 2641217 | G10: =SUM(G19,G28) -> 2625344 | H10: =SUM(H19,H28) -> 5190655 | I10: =SUM(I19,I28) -> 2594597 | J10: =SUM(J19,J28) -> 2596058 | K10: =SUM(K19,K28) -> 75906 | L10: =SUM(L19,L28) -> 46620 | M10: =SUM(M19,M28) -> 29286 | N10: =SUM(N19,N28) -> 795756 | O10: =N10/N10*100 -> 100 | P10: =D10/Q10 -> 264.45781 | Q10: =SUM(Q19,Q28) -> 19914.56 | R10: -
A11: 2016 | B11: =SUM(B20,B29) -> 2174863 | C11: =B11/B11*100 -> 100 | D11: =SUM(D20,D29) -> 5262799 | E11: =D11/D11*100 -> 100 | F11: =SUM(F20,F29) -> 2638641 | G11: =SUM(G20,G29) -> 2624158 | H11: =SUM(H20,H29) -> 5184955 | I11: =SUM(I20,I29) -> 2591037 | J11: =SUM(J20,J29) -> 2593918 | K11: =SUM(K20,K29) -> 77844 | L11: =SUM(L20,L29) -> 47604 | M11: =SUM(M20,M29) -> 30240 | N11: =SUM(N20,N29) -> 821318 | O11: =N11/N11*100 -> 100 | P11: =D11/Q11 -> 264.26891 | Q11: =SUM(Q20,Q29) -> 19914.56 | R11: =(D11/D10-1)*100 -> -0.071431813
A12: 2017 | B12: =SUM(B21,B30) -> 2200014 | C12: =B12/B12*100 -> 100 | D12: =SUM(D21,D30) -> 5246743 | E12: =D12/D12*100 -> 100 | F12: =SUM(F21,F30) -> 2629480 | G12: =SUM(G21,G30) -> 2617263 | H12: =SUM(H21,H30) -> 5166937 | I12: =SUM(I21,I30) -> 2580978 | J12: =SUM(J21,J30) -> 2585959 | K12: =SUM(K21,K30) -> 79806 | L12: =SUM(L21,L30) -> 48502 | M12: =SUM(M21,M30) -> 31304 | N12: =SUM(N21,N30) -> 860140 | O12: =N12/N12*100 -> 100 | P12: =D12/Q12 -> 263.43568 | Q12: =SUM(Q21,Q30) -> 19916.6 | R12: =(D12/D11-1)*100 -> -0.3050848
A13: 2018 | B13: =SUM(B22,B31) -> 2228617 | C13: =B13/B13*100 -> 100 | D13: =SUM(D22,D31) -> 5223602 | E13: =D13/D13*100 -> 100 | F13: =SUM(F22,F31) -> 2617430 | G13: =SUM(G22,G31) -> 2606172 | H13: =SUM(H22,H31) -> 5138600 | I13: =SUM(I22,I31) -> 2566031 | J13: =SUM(J22,J31) -> 2572569 | K13: =SUM(K22,K31) -> 85002 | L13: =SUM(L22,L31) -> 51399 | M13: =SUM(M22,M31) -> 33603 | N13: =SUM(N22,N31) -> 892283 | O13: =N13/N13*100 -> 100 | P13: =D13/Q13 -> 262.27484 | Q13: =SUM(Q22,Q31) -> 19916.52 | R13: =(D13/D12-1)*100 -> -0.44105457
A14: 2019 | B14: =SUM(B23,B32) -> 2258799 | C14: =B14/B14*100 -> 100 | D14: =SUM(D23,D32) -> 5192177 | E14: =D14/D14*100 -> 100 | F14: =SUM(F23,F32) -> 2600185 | G14: =SUM(G23,G32) -> 2591992 | H14: =SUM(H23,H32) -> 5103867 | I14: =SUM(I23,I32) -> 2547323 | J14: =SUM(J23,J32) -> 2556544 | K14: =SUM(K23,K32) -> 88310 | L14: =SUM(L23,L32) -> 52862 | M14: =SUM(M23,M32) -> 35448 | N14: =SUM(N23,N32) -> 928692 | O14: =N14/N14*100 -> 100 | P14: =D14/Q14 -> 260.697 | Q14: =SUM(Q23,Q32) -> 19916.52 | R14: =(D14/D13-1)*100 -> -0.60159637
A15: 2020 | B15: =SUM(B24,B33) -> 2311289 | C15: =B15/B15*100 -> 100 | D15: =SUM(D24,D33) -> 5138035 | E15: =D15/D15*100 -> 100 | F15: =SUM(F24,F33) -> 2569927 | G15: =SUM(G24,G33) -> 2568108 | H15: =SUM(H24,H33) -> 5057768 | I15: =SUM(I24,I33) -> 2522320 | J15: =SUM(J24,J33) -> 2535448 | K15: =SUM(K24,K33) -> 80267 | L15: =SUM(L24,L33) -> 47607 | M15: =SUM(M24,M33) -> 32660 | N15: =SUM(N24,N33) -> 974209 | O15: =N15/N15*100 -> 100 | P15: =D15/Q15 -> 257.96599 | Q15: =SUM(Q24,Q33) -> 19917.49 | R15: =(D15/D14-1)*100 -> -1.0427611
A16: 2021 | B16: =SUM(B25,B34) -> 2340739 | C16: =B16/B16*100 -> 100 | D16: =SUM(D25,D34) -> 5090351 | E16: =D16/D16*100 -> 100 | F16: =SUM(F25,F34) -> 2545029 | G16: =SUM(G25,G34) -> 2545322 | H16: =SUM(I16:J16) -> 5012021 | I16: =I25+I34 -> 2499293 | J16: =J25+J34 -> 2512728 | K16: =SUM(K25,K34) -> 78330 | L16: =SUM(L25,L34) -> 45736 | M16: =SUM(M25,M34) -> 32594 | N16: =SUM(N25,N34) -> 1013372 | O16: =N16/N16*100 -> 100 | P16: =D16/Q16 -> 255.55639 | Q16: =SUM(Q25,Q34) -> 19918.7 | R16: =(D16/D15-1)*100 -> -0.92805907
A18: 대구광역시
A19: 2015 | B19: =VLOOKUP($A19&$A$18, '[1]4.세대및 인구'!$A$9:$U$71, 4, FALSE) -> 982360 | C19: =B19/B10*100 -> 45.648529 | D19: =VLOOKUP($A19&$A$18, '[1]4.세대및 인구'!$A$9:$U$71, 6, FALSE) -> 2513970 | E19: =D19/D10*100 -> 47.734565 | F19: =VLOOKUP($A19&$A$18, '[1]4.세대및 인구'!$A$9:$U$71, 8, FALSE) -> 1252332 | G19: =VLOOKUP($A19&$A$18, '[1]4.세대및 인구'!$A$9:$U$71, 9, FALSE) -> 1261638 | H19: =VLOOKUP($A19&$A$18, '[1]4.세대및 인구'!$A$9:$U$71, 10, FALSE) -> 2487829 | I19: =VLOOKUP($A19&$A$18, '[1]4.세대및 인구'!$A$9:$U$71, 11, FALSE) -> 1237291 | J19: =VLOOKUP($A19&$A$18, '[1]4.세대및 인구'!$A$9:$U$71, 12, FALSE) -> 1250538 | K19: =VLOOKUP($A19&$A$18, '[1]4.세대및 인구'!$A$9:$U$71, 13, FALSE) -> 26141 | L19: =VLOOKUP($A19&$A$18, '[1]4.세대및 인구'!$A$9:$U$71, 14, FALSE) -> 15041 | M19: =VLOOKUP($A19&$A$18, '[1]4.세대및 인구'!$A$9:$U$71, 15, FALSE) -> 11100 | N19: =VLOOKUP($A19&$A$18, '[1]4.세대및 인구'!$A$9:$U$71, 16, FALSE) -> 316122 | O19: =N19/N10*100 -> 39.725996 | P19: =VLOOKUP($A19&$A$18, '[1]4.세대및 인구'!$A$9:$U$71, 18, FALSE) -> 2845 | Q19: =VLOOKUP($A19&$A$18, '[1]4.세대및 인구'!$A$9:$U$71, 19, FALSE) -> 883.56 | R19: -
A20: 2016 | B20: =VLOOKUP($A20&$A$18, '[1]4.세대및 인구'!$A$9:$U$71, 4, FALSE) -> 994220 | C20: =B20/B11*100 -> 45.714144 | D20: =VLOOKUP($A20&$A$18, '[1]4.세대및 인구'!$A$9:$U$71, 6, FALSE) -> 2511050 | E20: =D20/D11*100 -> 47.713204 | F20: =VLOOKUP($A20&$A$18, '[1]4.세대및 인구'!$A$9:$U$71, 8, FALSE) -> 1249381 | G20: =VLOOKUP($A20&$A$18, '[1]4.세대및 인구'!$A$9:$U$71, 9, FALSE) -> 1261669 | H20: =VLOOKUP($A20&$A$18, '[1]4.세대및 인구'!$A$9:$U$71, 10, FALSE) -> 2484557 | I20: =VLOOKUP($A20&$A$18, '[1]4.세대및 인구'!$A$9:$U$71, 11, FALSE) -> 1234169 | J20: =VLOOKUP($A20&$A$18, '[1]4.세대및 인구'!$A$9:$U$71, 12, FALSE) -> 1250388 | K20: =VLOOKUP($A20&$A$18, '[1]4.세대및 인구'!$A$9:$U$71, 13, FALSE) -> 26493 | L20: =VLOOKUP($A20&$A$18, '[1]4.세대및 인구'!$A$9:$U$71, 14, FALSE) -> 15212 | M20: =VLOOKUP($A20&$A$18, '[1]4.세대및 인구'!$A$9:$U$71, 15, FALSE) -> 11281 | N20: =VLOOKUP($A20&$A$18, '[1]4.세대및 인구'!$A$9:$U$71, 16, FALSE) -> 328901 | O20: =N20/N11*100 -> 40.045512 | P20: =VLOOKUP($A20&$A$18, '[1]4.세대및 인구'!$A$9:$U$71, 18, FALSE) -> 2842 | Q20: =VLOOKUP($A20&$A$18, '[1]4.세대및 인구'!$A$9:$U$71, 19, FALSE) -> 883.56 | R20: =(D20/D19-1)*100 -> -0.11615095
A21: 2017 | B21: =VLOOKUP($A21&$A$18, '[1]4.세대및 인구'!$A$9:$U$71, 4, FALSE) -> 1006753 | C21: =B21/B12*100 -> 45.761209 | D21: =VLOOKUP($A21&$A$18, '[1]4.세대및 인구'!$A$9:$U$71, 6, FALSE) -> 2501673 | E21: =D21/D12*100 -> 47.680494 | F21: =VLOOKUP($A21&$A$18, '[1]4.세대및 인구'!$A$9:$U$71, 8, FALSE) -> 1242733 | G21: =VLOOKUP($A21&$A$18, '[1]4.세대및 인구'!$A$9:$U$71, 9, FALSE) -> 1258940 | H21: =VLOOKUP($A21&$A$18, '[1]4.세대및 인구'!$A$9:$U$71, 10, FALSE) -> 2475231 | I21: =VLOOKUP($A21&$A$18, '[1]4.세대및 인구'!$A$9:$U$71, 11, FALSE) -> 1227814 | J21: =VLOOKUP($A21&$A$18, '[1]4.세대및 인구'!$A$9:$U$71, 12, FALSE) -> 1247417 | K21: =VLOOKUP($A21&$A$18, '[1]4.세대및 인구'!$A$9:$U$71, 13, FALSE) -> 26442 | L21: =VLOOKUP($A21&$A$18, '[1]4.세대및 인구'!$A$9:$U$71, 14, FALSE) -> 14919 | M21: =VLOOKUP($A21&$A$18, '[1]4.세대및 인구'!$A$9:$U$71, 15, FALSE) -> 11523 | N21: =VLOOKUP($A21&$A$18, '[1]4.세대및 인구'!$A$9:$U$71, 16, FALSE) -> 347459 | O21: =N21/N12*100 -> 40.395633 | P21: =VLOOKUP($A21&$A$18, '[1]4.세대및 인구'!$A$9:$U$71, 18, FALSE) -> 2831 | Q21: =VLOOKUP($A21&$A$18, '[1]4.세대및 인구'!$A$9:$U$71, 19, FALSE) -> 883.6 | R21: =(D21/D20-1)*100 -> -0.37342944
A22: 2018 | B22: =VLOOKUP($A22&$A$18, '[1]4.세대및 인구'!$A$9:$U$71, 4, FALSE) -> 1021266 | C22: =B22/B13*100 -> 45.825101 | D22: =VLOOKUP($A22&$A$18, '[1]4.세대및 인구'!$A$9:$U$71, 6, FALSE) -> 2489802 | E22: =D22/D13*100 -> 47.664466 | F22: =VLOOKUP($A22&$A$18, '[1]4.세대및 인구'!$A$9:$U$71, 8, FALSE) -> 1234848 | G22: =VLOOKUP($A22&$A$18, '[1]4.세대및 인구'!$A$9:$U$71, 9, FALSE) -> 1254954 | H22: =VLOOKUP($A22&$A$18, '[1]4.세대및 인구'!$A$9:$U$71, 10, FALSE) -> 2461769 | I22: =VLOOKUP($A22&$A$18, '[1]4.세대및 인구'!$A$9:$U$71, 11, FALSE) -> 1219342 | J22: =VLOOKUP($A22&$A$18, '[1]4.세대및 인구'!$A$9:$U$71, 12, FALSE) -> 1242427 | K22: =VLOOKUP($A22&$A$18, '[1]4.세대및 인구'!$A$9:$U$71, 13, FALSE) -> 28033 | L22: =VLOOKUP($A22&$A$18, '[1]4.세대및 인구'!$A$9:$U$71, 14, FALSE) -> 15506 | M22: =VLOOKUP($A22&$A$18, '[1]4.세대및 인구'!$A$9:$U$71, 15, FALSE) -> 12527 | N22: =VLOOKUP($A22&$A$18, '[1]4.세대및 인구'!$A$9:$U$71, 16, FALSE) -> 362934 | O22: =N22/N13*100 -> 40.674763 | P22: =VLOOKUP($A22&$A$18, '[1]4.세대및 인구'!$A$9:$U$71, 18, FALSE) -> 2818 | Q22: =VLOOKUP($A22&$A$18, '[1]4.세대및 인구'!$A$9:$U$71, 19, FALSE) -> 883.52 | R22: =(D22/D21-1)*100 -> -0.47452245
A23: 2019 | B23: =VLOOKUP($A23&$A$18, '[1]4.세대및 인구'!$A$9:$U$71, 4, FALSE) -> 1031251 | C23: =B23/B14*100 -> 45.654837 | D23: =VLOOKUP($A23&$A$18, '[1]4.세대및 인구'!$A$9:$U$71, 6, FALSE) -> 2468222 | E23: =D23/D14*100 -> 47.537324 | F23: =VLOOKUP($A23&$A$18, '[1]4.세대및 인구'!$A$9:$U$71, 8, FALSE) -> 1221693 | G23: =VLOOKUP($A23&$A$18, '[1]4.세대및 인구'!$A$9:$U$71, 9, FALSE) -> 1246529 | H23: =VLOOKUP($A23&$A$18, '[1]4.세대및 인구'!$A$9:$U$71, 10, FALSE) -> 2438031 | I23: =VLOOKUP($A23&$A$18, '[1]4.세대및 인구'!$A$9:$U$71, 11, FALSE) -> 1205286 | J23: =VLOOKUP($A23&$A$18, '[1]4.세대및 인구'!$A$9:$U$71, 12, FALSE) -> 1232745 | K23: =VLOOKUP($A23&$A$18, '[1]4.세대및 인구'!$A$9:$U$71, 13, FALSE) -> 30191 | L23: =VLOOKUP($A23&$A$18, '[1]4.세대및 인구'!$A$9:$U$71, 14, FALSE) -> 16407 | M23: =VLOOKUP($A23&$A$18, '[1]4.세대및 인구'!$A$9:$U$71, 15, FALSE) -> 13784 | N23: =VLOOKUP($A23&$A$18, '[1]4.세대및 인구'!$A$9:$U$71, 16, FALSE) -> 379277 | O23: =N23/N14*100 -> 40.839912 | P23: =VLOOKUP($A23&$A$18, '[1]4.세대및 인구'!$A$9:$U$71, 18, FALSE) -> 2794 | Q23: =VLOOKUP($A23&$A$18, '[1]4.세대및 인구'!$A$9:$U$71, 19, FALSE) -> 883.52 | R23: =(D23/D22-1)*100 -> -0.86673559
A24: 2020 | B24: =VLOOKUP($A24&$A$18, '[1]4.세대및 인구'!$A$9:$U$71, 4, FALSE) -> 1056627 | C24: =B24/B15*100 -> 45.715919 | D24: =VLOOKUP($A24&$A$18, '[1]4.세대및 인구'!$A$9:$U$71, 6, FALSE) -> 2446144 | E24: =D24/D15*100 -> 47.608551 | F24: =VLOOKUP($A24&$A$18, '[1]4.세대및 인구'!$A$9:$U$71, 8, FALSE) -> 1208020 | G24: =VLOOKUP($A24&$A$18, '[1]4.세대및 인구'!$A$9:$U$71, 9, FALSE) -> 1238124 | H24: =VLOOKUP($A24&$A$18, '[1]4.세대및 인구'!$A$9:$U$71, 10, FALSE) -> 2418346 | I24: =VLOOKUP($A24&$A$18, '[1]4.세대및 인구'!$A$9:$U$71, 11, FALSE) -> 1193109 | J24: =VLOOKUP($A24&$A$18, '[1]4.세대및 인구'!$A$9:$U$71, 12, FALSE) -> 1225237 | K24: =VLOOKUP($A24&$A$18, '[1]4.세대및 인구'!$A$9:$U$71, 13, FALSE) -> 27798 | L24: =VLOOKUP($A24&$A$18, '[1]4.세대및 인구'!$A$9:$U$71, 14, FALSE) -> 14911 | M24: =VLOOKUP($A24&$A$18, '[1]4.세대및 인구'!$A$9:$U$71, 15, FALSE) -> 12887 | N24: =VLOOKUP($A24&$A$18, '[1]4.세대및 인구'!$A$9:$U$71, 16, FALSE) -> 400494 | O24: =N24/N15*100 -> 41.109659 | P24: =VLOOKUP($A24&$A$18, '[1]4.세대및 인구'!$A$9:$U$71, 18, FALSE) -> 2769 | Q24: =VLOOKUP($A24&$A$18, '[1]4.세대및 인구'!$A$9:$U$71, 19, FALSE) -> 883.49 | R24: =(D24/D23-1)*100 -> -0.89449004
A25: 2021 | B25: =VLOOKUP($A25&$A$18, '[1]4.세대및 인구'!$A$9:$U$71, 4, FALSE) -> 1063893 | C25: =B25/B16*100 -> 45.451159 | D25: =VLOOKUP($A25&$A$18, '[1]4.세대및 인구'!$A$9:$U$71, 6, FALSE) -> 2412642 | E25: =D25/D16*100 -> 47.396378 | F25: =VLOOKUP($A25&$A$18, '[1]4.세대및 인구'!$A$9:$U$71, 8, FALSE) -> 1189901 | G25: =VLOOKUP($A25&$A$18, '[1]4.세대및 인구'!$A$9:$U$71, 9, FALSE) -> 1222741 | H25: =VLOOKUP($A25&$A$18, '[1]4.세대및 인구'!$A$9:$U$71, 10, FALSE) -> 2,385,412 | I25: 1,175,632 | J25: =VLOOKUP($A25&$A$18, '[1]4.세대및 인구'!$A$9:$U$71, 12, FALSE) -> 1,209,780 | K25: =VLOOKUP($A25&$A$18, '[1]4.세대및 인구'!$A$9:$U$71, 13, FALSE) -> 27230 | L25: =VLOOKUP($A25&$A$18, '[1]4.세대및 인구'!$A$9:$U$71, 14, FALSE) -> 14269 | M25: =VLOOKUP($A25&$A$18, '[1]4.세대및 인구'!$A$9:$U$71, 15, FALSE) -> 12961 | N25: =VLOOKUP($A25&$A$18, '[1]4.세대및 인구'!$A$9:$U$71, 16, FALSE) -> 417060 | O25: =N25/N16*100 -> 41.155666 | P25: =VLOOKUP($A25&$A$18, '[1]4.세대및 인구'!$A$9:$U$71, 18, FALSE) -> 2730.1596 | Q25: =VLOOKUP($A25&$A$18, '[1]4.세대및 인구'!$A$9:$U$71, 19, FALSE) -> 883.7 | R25: =(D25/D24-1)*100 -> -1.3695841
A27: 경상북도
A28: 2015 | B28: =VLOOKUP($A28&$A$27, '[2]4.세대및 인구'!$A$9:$U$160, 4, FALSE) -> 1169648 | C28: =B28/B10*100 -> 54.351471 | D28: =VLOOKUP($A28&$A$27, '[2]4.세대및 인구'!$A$9:$U$160, 5, FALSE) -> 2752591 | E28: =D28/D10*100 -> 52.265435 | F28: =VLOOKUP($A28&$A$27, '[2]4.세대및 인구'!$A$9:$U$160, 6, FALSE) -> 1388885 | G28: =VLOOKUP($A28&$A$27, '[2]4.세대및 인구'!$A$9:$U$160, 7, FALSE) -> 1363706 | H28: =VLOOKUP($A28&$A$27, '[2]4.세대및 인구'!$A$9:$U$160, 8, FALSE) -> 2702826 | I28: =VLOOKUP($A28&$A$27, '[2]4.세대및 인구'!$A$9:$U$160, 9, FALSE) -> 1357306 | J28: =VLOOKUP($A28&$A$27, '[2]4.세대및 인구'!$A$9:$U$160, 10, FALSE) -> 1345520 | K28: =VLOOKUP($A28&$A$27, '[2]4.세대및 인구'!$A$9:$U$160, 11, FALSE) -> 49765 | L28: =VLOOKUP($A28&$A$27, '[2]4.세대및 인구'!$A$9:$U$160, 12, FALSE) -> 31579 | M28: =VLOOKUP($A28&$A$27, '[2]4.세대및 인구'!$A$9:$U$160, 13, FALSE) -> 18186 | N28: =VLOOKUP($A28&$A$27, '[2]4.세대및 인구'!$A$9:$U$160, 14, FALSE) -> 479634 | O28: =N28/N10*100 -> 60.274004 | P28: =VLOOKUP($A28&$A$27, '[2]4.세대및 인구'!$A$9:$U$160, 15, FALSE) -> 144.6 | Q28: =VLOOKUP($A28&$A$27, '[2]4.세대및 인구'!$A$9:$U$160, 16, FALSE) -> 19031 | R28: -
A29: 2016 | B29: =VLOOKUP($A29&$A$27, '[2]4.세대및 인구'!$A$9:$U$160, 4, FALSE) -> 1180643 | C29: =B29/B11*100 -> 54.285856 | D29: =VLOOKUP($A29&$A$27, '[2]4.세대및 인구'!$A$9:$U$160, 5, FALSE) -> 2751749 | E29: =D29/D11*100 -> 52.286796 | F29: =VLOOKUP($A29&$A$27, '[2]4.세대및 인구'!$A$9:$U$160, 6, FALSE) -> 1389260 | G29: =VLOOKUP($A29&$A$27, '[2]4.세대및 인구'!$A$9:$U$160, 7, FALSE) -> 1362489 | H29: =VLOOKUP($A29&$A$27, '[2]4.세대및 인구'!$A$9:$U$160, 8, FALSE) -> 2700398 | I29: =VLOOKUP($A29&$A$27, '[2]4.세대및 인구'!$A$9:$U$160, 9, FALSE) -> 1356868 | J29: =VLOOKUP($A29&$A$27, '[2]4.세대및 인구'!$A$9:$U$160, 10, FALSE) -> 1343530 | K29: =VLOOKUP($A29&$A$27, '[2]4.세대및 인구'!$A$9:$U$160, 11, FALSE) -> 51351 | L29: =VLOOKUP($A29&$A$27, '[2]4.세대및 인구'!$A$9:$U$160, 12, FALSE) -> 32392 | M29: =VLOOKUP($A29&$A$27, '[2]4.세대및 인구'!$A$9:$U$160, 13, FALSE) -> 18959 | N29: =VLOOKUP($A29&$A$27, '[2]4.세대및 인구'!$A$9:$U$160, 14, FALSE) -> 492417 | O29: =N29/N11*100 -> 59.954488 | P29: =VLOOKUP($A29&$A$27, '[2]4.세대및 인구'!$A$9:$U$160, 15, FALSE) -> 144.6 | Q29: =VLOOKUP($A29&$A$27, '[2]4.세대및 인구'!$A$9:$U$160, 16, FALSE) -> 19031 | R29: =(D29/D28-1)*100 -> -0.030589361
A30: 2017 | B30: =VLOOKUP($A30&$A$27, '[2]4.세대및 인구'!$A$9:$U$160, 4, FALSE) -> 1193261 | C30: =B30/B12*100 -> 54.238791 | D30: =VLOOKUP($A30&$A$27, '[2]4.세대및 인구'!$A$9:$U$160, 5, FALSE) -> 2745070 | E30: =D30/D12*100 -> 52.319506 | F30: =VLOOKUP($A30&$A$27, '[2]4.세대및 인구'!$A$9:$U$160, 6, FALSE) -> 1386747 | G30: =VLOOKUP($A30&$A$27, '[2]4.세대및 인구'!$A$9:$U$160, 7, FALSE) -> 1358323 | H30: =VLOOKUP($A30&$A$27, '[2]4.세대및 인구'!$A$9:$U$160, 8, FALSE) -> 2691706 | I30: =VLOOKUP($A30&$A$27, '[2]4.세대및 인구'!$A$9:$U$160, 9, FALSE) -> 1353164 | J30: =VLOOKUP($A30&$A$27, '[2]4.세대및 인구'!$A$9:$U$160, 10, FALSE) -> 1338542 | K30: =VLOOKUP($A30&$A$27, '[2]4.세대및 인구'!$A$9:$U$160, 11, FALSE) -> 53364 | L30: =VLOOKUP($A30&$A$27, '[2]4.세대및 인구'!$A$9:$U$160, 12, FALSE) -> 33583 | M30: =VLOOKUP($A30&$A$27, '[2]4.세대및 인구'!$A$9:$U$160, 13, FALSE) -> 19781 | N30: =VLOOKUP($A30&$A$27, '[2]4.세대및 인구'!$A$9:$U$160, 14, FALSE) -> 512681 | O30: =N30/N12*100 -> 59.604367 | P30: =VLOOKUP($A30&$A$27, '[2]4.세대및 인구'!$A$9:$U$160, 15, FALSE) -> 144.2 | Q30: =VLOOKUP($A30&$A$27, '[2]4.세대및 인구'!$A$9:$U$160, 16, FALSE) -> 19033 | R30: =(D30/D29-1)*100 -> -0.24271836
A31: 2018 | B31: =VLOOKUP($A31&$A$27, '[2]4.세대및 인구'!$A$9:$U$160, 4, FALSE) -> 1207351 | C31: =B31/B13*100 -> 54.174899 | D31: =VLOOKUP($A31&$A$27, '[2]4.세대및 인구'!$A$9:$U$160, 5, FALSE) -> 2733800 | E31: =D31/D13*100 -> 52.335534 | F31: =VLOOKUP($A31&$A$27, '[2]4.세대및 인구'!$A$9:$U$160, 6, FALSE) -> 1382582 | G31: =VLOOKUP($A31&$A$27, '[2]4.세대및 인구'!$A$9:$U$160, 7, FALSE) -> 1351218 | H31: =VLOOKUP($A31&$A$27, '[2]4.세대및 인구'!$A$9:$U$160, 8, FALSE) -> 2676831 | I31: =VLOOKUP($A31&$A$27, '[2]4.세대및 인구'!$A$9:$U$160, 9, FALSE) -> 1346689 | J31: =VLOOKUP($A31&$A$27, '[2]4.세대및 인구'!$A$9:$U$160, 10, FALSE) -> 1330142 | K31: =VLOOKUP($A31&$A$27, '[2]4.세대및 인구'!$A$9:$U$160, 11, FALSE) -> 56969 | L31: =VLOOKUP($A31&$A$27, '[2]4.세대및 인구'!$A$9:$U$160, 12, FALSE) -> 35893 | M31: =VLOOKUP($A31&$A$27, '[2]4.세대및 인구'!$A$9:$U$160, 13, FALSE) -> 21076 | N31: =VLOOKUP($A31&$A$27, '[2]4.세대및 인구'!$A$9:$U$160, 14, FALSE) -> 529349 | O31: =N31/N13*100 -> 59.325237 | P31: =VLOOKUP($A31&$A$27, '[2]4.세대및 인구'!$A$9:$U$160, 15, FALSE) -> 143.6 | Q31: =VLOOKUP($A31&$A$27, '[2]4.세대및 인구'!$A$9:$U$160, 16, FALSE) -> 19033 | R31: =(D31/D30-1)*100 -> -0.41055419
A32: 2019 | B32: =VLOOKUP($A32&$A$27, '[2]4.세대및 인구'!$A$9:$U$160, 4, FALSE) -> 1227548 | C32: =B32/B14*100 -> 54.345163 | D32: =VLOOKUP($A32&$A$27, '[2]4.세대및 인구'!$A$9:$U$160, 5, FALSE) -> 2723955 | E32: =D32/D14*100 -> 52.462676 | F32: =VLOOKUP($A32&$A$27, '[2]4.세대및 인구'!$A$9:$U$160, 6, FALSE) -> 1378492 | G32: =VLOOKUP($A32&$A$27, '[2]4.세대및 인구'!$A$9:$U$160, 7, FALSE) -> 1345463 | H32: =VLOOKUP($A32&$A$27, '[2]4.세대및 인구'!$A$9:$U$160, 8, FALSE) -> 2665836 | I32: =VLOOKUP($A32&$A$27, '[2]4.세대및 인구'!$A$9:$U$160, 9, FALSE) -> 1342037 | J32: =VLOOKUP($A32&$A$27, '[2]4.세대및 인구'!$A$9:$U$160, 10, FALSE) -> 1323799 | K32: =VLOOKUP($A32&$A$27, '[2]4.세대및 인구'!$A$9:$U$160, 11, FALSE) -> 58119 | L32: =VLOOKUP($A32&$A$27, '[2]4.세대및 인구'!$A$9:$U$160, 12, FALSE) -> 36455 | M32: =VLOOKUP($A32&$A$27, '[2]4.세대및 인구'!$A$9:$U$160, 13, FALSE) -> 21664 | N32: =VLOOKUP($A32&$A$27, '[2]4.세대및 인구'!$A$9:$U$160, 14, FALSE) -> 549415 | O32: =N32/N14*100 -> 59.160088 | P32: =VLOOKUP($A32&$A$27, '[2]4.세대및 인구'!$A$9:$U$160, 15, FALSE) -> 143.1 | Q32: =VLOOKUP($A32&$A$27, '[2]4.세대및 인구'!$A$9:$U$160, 16, FALSE) -> 19033 | R32: =(D32/D31-1)*100 -> -0.36012144
A33: 2020 | B33: =VLOOKUP($A33&$A$27, '[2]4.세대및 인구'!$A$9:$U$160, 4, FALSE) -> 1254662 | C33: =B33/B15*100 -> 54.284081 | D33: =VLOOKUP($A33&$A$27, '[2]4.세대및 인구'!$A$9:$U$160, 5, FALSE) -> 2691891 | E33: =D33/D15*100 -> 52.391449 | F33: =VLOOKUP($A33&$A$27, '[2]4.세대및 인구'!$A$9:$U$160, 6, FALSE) -> 1361907 | G33: =VLOOKUP($A33&$A$27, '[2]4.세대및 인구'!$A$9:$U$160, 7, FALSE) -> 1329984 | H33: =VLOOKUP($A33&$A$27, '[2]4.세대및 인구'!$A$9:$U$160, 8, FALSE) -> 2639422 | I33: =VLOOKUP($A33&$A$27, '[2]4.세대및 인구'!$A$9:$U$160, 9, FALSE) -> 1329211 | J33: =VLOOKUP($A33&$A$27, '[2]4.세대및 인구'!$A$9:$U$160, 10, FALSE) -> 1310211 | K33: =VLOOKUP($A33&$A$27, '[2]4.세대및 인구'!$A$9:$U$160, 11, FALSE) -> 52469 | L33: =VLOOKUP($A33&$A$27, '[2]4.세대및 인구'!$A$9:$U$160, 12, FALSE) -> 32696 | M33: =VLOOKUP($A33&$A$27, '[2]4.세대및 인구'!$A$9:$U$160, 13, FALSE) -> 19773 | N33: =VLOOKUP($A33&$A$27, '[2]4.세대및 인구'!$A$9:$U$160, 14, FALSE) -> 573715 | O33: =N33/N15*100 -> 58.890341 | P33: =VLOOKUP($A33&$A$27, '[2]4.세대및 인구'!$A$9:$U$160, 15, FALSE) -> 141.4 | Q33: =VLOOKUP($A33&$A$27, '[2]4.세대및 인구'!$A$9:$U$160, 16, FALSE) -> 19034 | R33: =(D33/D32-1)*100 -> -1.177112
A34: 2021 | B34: 1276846 | C34: =B34/B16*100 -> 54.548841 | D34: 2677709 | E34: =D34/D16*100 -> 52.603622 | F34: 1355128 | G34: 1322581 | H34: 2626609 | I34: 1323661 | J34: 1302948 | K34: 51100 | L34: 31467 | M34: 19633 | N34: 596312 | O34: =N34/N16*100 -> 58.844334 | P34: =D34/Q34 -> 140.67292 | Q34: ='1.행정구역'!R34 -> 19035 | R34: =(D34/D33-1)*100 -> -0.52684154
A36: 자료: 대구광역시 주민등록인구통계, 경상북도 주민등록인구통계
A37: 주: 1), 2) 한국인을 대상으로 함

Sheet 5.연령별인구
A1: [목록]으로
A2: 5. 연령별 인구
O4: 단위 : 명, %, 인구 백명당 | W4: 단위 : 명, %, 인구 백명당
B5: 합계 | C5: 0~9세 | D5: 10~19세 | E5: 20~29세 | F5: 30~39세 | G5: 40~49세 | H5: 50~59세 | I5: 60~69세 | J5: 70~79세 | K5: 80~89세 | L5: 90세이상 | M5: 연령계층별 | P5: 연령계층별 구성비(%) | S5: 부양비 | V5: 청년인구(19~34세)
F6: 한 국 인 | I6: 외 국 인 | M6: 유소년인구(14세이하) | N6: 생산연령인구(15~64세) | O6: 고령인구(65세이상) | P6: 유소년인구 | Q6: 생산연령인구 | R6: 고령인구 | S6: 총부양비 | T6: 유소년 부양비 | U6: 노년 부양비 | V6: 인구수 | W6: 구성비(%)
D7: 남 | E7: 여 | G7: 남 | H7: 여 | J7: 남 | K7: 여
A9: 대경권
A10: 2015 | B10: =SUM(B19,B28) -> 5190655 | C10: =SUM(C19,C28) -> 431509 | D10: =SUM(D19,D28) -> 566917 | E10: =SUM(E19,E28) -> 638138 | F10: =SUM(F19,F28) -> 690190 | G10: =SUM(G19,G28) -> 867187 | H10: =SUM(H19,H28) -> 876434 | I10: =SUM(I19,I28) -> 568514 | ... O10: =SUM(O19,O28) -> 795756 | P10: =M10/B10*100 -> 12.901994 | Q10: =N10/B10*100 -> 71.767455 | R10: =O10/B10*100 -> 15.330551 | S10: =SUM(T10:U10) -> 39.338924 | T10: =M10/N10*100 -> 17.9775 | U10: =O10/N10*100 -> 21.361425 | V10: =SUM(V19,V28) -> 1039140 | W10: =V10/B10*100 -> 20.019439
A11: 2016 | B11: =SUM(B20,B29) -> 5184955 | C11: =SUM(C20,C29) -> 429308 | D11: =SUM(D20,D29) -> 538785 | E11: =SUM(E20,E29) -> 638230 | F11: =SUM(F20,F29) -> 673361 | G11: =SUM(G20,G29) -> 853769 | H11: =SUM(H20,H29) -> 882222 | I11: =SUM(I20,I29) -> 606433 | ... O11: =SUM(O20,O29) -> 821318 | P11: =M11/B11*100 -> 12.615539 | Q11: =N11/B11*100 -> 71.544054 | R11: =O11/B11*100 -> 15.840407 | S11: =SUM(T11:U11) -> 39.77402 | T11: =M11/N11*100 -> 17.633245 | U11: =O11/N11*100 -> 22.140774 | V11: =SUM(V20,V29) -> 1016014 | W11: =V11/B11*100 -> 19.595426
A12: 2017 | B12: =SUM(B21,B30) -> 5166937 | C12: =SUM(C21,C30) -> 416494 | D12: =SUM(D21,D30) -> 516152 | E12: =SUM(E21,E30) -> 637602 | F12: =SUM(F21,F30) -> 653102 | G12: =SUM(G21,G30) -> 835400 | H12: =SUM(H21,H30) -> 886163 | I12: =SUM(I21,I30) -> 635069 | ... O12: =SUM(O21,O30) -> 860140 | P12: =M12/B12*100 -> 12.379597 | Q12: =N12/B12*100 -> 70.973403 | R12: =O12/B12*100 -> 16.647 | S12: =SUM(T12:U12) -> 40.897852 | T12: =M12/N12*100 -> 17.442587 | U12: =O12/N12*100 -> 23.455265 | V12: =SUM(V21,V30) -> 989322 | W12: =V12/B12*100 -> 19.147166
A13: 2018 | B13: =SUM(B22,B31) -> 5138600 | C13: =SUM(C22,C31) -> 402562 | D13: =SUM(D22,D31) -> 494771 | E13: =SUM(E22,E31) -> 630970 | F13: =SUM(F22,F31) -> 637520 | G13: =SUM(G22,G31) -> 803843 | H13: =SUM(H22,H31) -> 898793 | I13: =SUM(I22,I31) -> 658036 | ... O13: =SUM(O22,O31) -> 892283 | P13: =M13/B13*100 -> 12.081131 | Q13: =N13/B13*100 -> 70.554548 | R13: =O13/B13*100 -> 17.364321 | S13: =SUM(T13:U13) -> 41.734308 | T13: =M13/N13*100 -> 17.123107 | U13: =O13/N13*100 -> 24.6112 | V13: =SUM(V22,V31) -> 966773 | W13: =V13/B13*100 -> 18.813938
A14: 2019 | B14: =SUM(B23,B32) -> 5103867 | C14: =SUM(C23,C32) -> 388496 | D14: =SUM(D23,D32) -> 472946 | E14: =SUM(E23,E32) -> 618191 | F14: =SUM(F23,F32) -> 612793 | G14: =SUM(G23,G32) -> 784920 | H14: =SUM(H23,H32) -> 893517 | I14: =SUM(I23,I32) -> 695253 | ... O14: =SUM(O23,O32) -> 928692 | P14: =M14/B14*100 -> 11.815198 | Q14: =N14/B14*100 -> 69.988952 | R14: =O14/B14*100 -> 18.19585 | S14: =SUM(T14:U14) -> 42.879694 | T14: =M14/N14*100 -> 16.881519 | U14: =O14/N14*100 -> 25.998175 | V14: =SUM(V23,V32) -> 949893 | W14: =V14/B14*100 -> 18.611241
A15: 2020 | B15: =SUM(B24,B33) -> 5057768 | C15: =SUM(C24,C33) -> 367787 | D15: =SUM(D24,D33) -> 451822 | E15: =SUM(E24,E33) -> 605697 | F15: =SUM(F24,F33) -> 585427 | G15: =SUM(G24,G33) -> 767347 | H15: =SUM(H24,H33) -> 885141 | I15: =SUM(I24,I33) -> 735207 | ... O15: =SUM(O24,O33) -> 974209 | P15: =M15/B15*100 -> 11.537164 | Q15: =N15/B15*100 -> 69.201197 | R15: =O15/B15*100 -> 19.261639 | S15: =SUM(T15:U15) -> 44.506171 | T15: =M15/N15*100 -> 16.671914 | U15: =O15/N15*100 -> 27.834257 | V15: =SUM(V24,V33) -> 923117 | W15: =V15/B15*100 -> 18.25147
A16: 2021 | B16: =SUM(B25,B34) -> 5012021 | C16: =SUM(C25,C34) -> 346338 | D16: =SUM(D25,D34) -> 440501 | E16: =SUM(E25,E34) -> 584942 | F16: =SUM(F25,F34) -> 564340 | G16: =SUM(G25,G34) -> 749735 | H16: =SUM(H25,H34) -> 873871 | I16: =SUM(I25,I34) -> 775338 | ... O16: =SUM(O25,O34) -> 1013372 | P16: =M16/B16*100 -> 11.258313 | Q16: =N16/B16*100 -> 68.522857 | R16: =O16/B16*100 -> 20.21883 | S16: =SUM(T16:U16) -> 45.936705 | T16: =M16/N16*100 -> 16.430011 | U16: =O16/N16*100 -> 29.506694 | V16: =SUM(V25,V34) -> 896385 | W16: =V16/B16*100 -> 17.884702
A18: 대구광역시
A19: 2015 | B19: =VLOOKUP($A19&$A$18, '[1]5.연령별인구'!$A$9:$Y$71, 4, FALSE) -> 2487829 | C19: =VLOOKUP($A19&$A$18, '[1]5.연령별인구'!$A$9:$Y$71, 5, FALSE) -> 208115 | D19: =VLOOKUP($A19&$A$18, '[1]5.연령별인구'!$A$9:$Y$71, 6, FALSE) -> 289590 | E19: =VLOOKUP($A19&$A$18, '[1]5.연령별인구'!$A$9:$Y$71, 7, FALSE) -> 326755 | F19: =VLOOKUP($A19&$A$18, '[1]5.연령별인구'!$A$9:$Y$71, 8, FALSE) -> 342633 | G19: =VLOOKUP($A19&$A$18, '[1]5.연령별인구'!$A$9:$Y$71, 9, FALSE) -> 438674 | H19: =VLOOKUP($A19&$A$18, '[1]5.연령별인구'!$A$9:$Y$71, 10, FALSE) -> 419653 | I19: =VLOOKUP($A19&$A$18, '[1]5.연령별인구'!$A$9:$Y$71, 11, FALSE) -> 253693 | J19: =VLOOKUP($A19&$A$18, '[1]5.연령별인구'!$A$9:$Y$71, 12, FALSE) -> 148884 | K19: =VLOOKUP($A19&$A$18, '[1]5.연령별인구'!$A$9:$Y$71, 13, FALSE) -> 53282 | L19: =VLOOKUP($A19&$A$18, '[1]5.연령별인구'!$A$9:$Y$71, 14, FALSE) -> 6550 | M19: =VLOOKUP($A19&$A$18, '[1]5.연령별인구'!$A$9:$Y$71, 15, FALSE) -> 329453 | N19: =VLOOKUP($A19&$A$18, '[1]5.연령별인구'!$A$9:$Y$71, 16, FALSE) -> 1842254 | O19: =VLOOKUP($A19&$A$18, '[1]5.연령별인구'!$A$9:$Y$71, 17, FALSE) -> 316122 | P19: =VLOOKUP($A19&$A$18, '[1]5.연령별인구'!$A$9:$Y$71, 18, FALSE) -> 13.24259 | Q19: =VLOOKUP($A19&$A$18, '[1]5.연령별인구'!$A$9:$Y$71, 19, FALSE) -> 74.050668 | R19: =VLOOKUP($A19&$A$18, '[1]5.연령별인구'!$A$9:$Y$71, 20, FALSE) -> 12.706742 | S19: =VLOOKUP($A19&$A$18, '[1]5.연령별인구'!$A$9:$Y$71, 21, FALSE) -> 35.042671 | T19: =VLOOKUP($A19&$A$18, '[1]5.연령별인구'!$A$9:$Y$71, 22, FALSE) -> 17.883147 | U19: =VLOOKUP($A19&$A$18, '[1]5.연령별인구'!$A$9:$Y$71, 23, FALSE) -> 17.159523 | V19: =VLOOKUP($A19&$A$18, '[1]5.연령별인구'!$A$9:$Y$71, 24, FALSE) -> 525514 | W19: =VLOOKUP($A19&$A$18, '[1]5.연령별인구'!$A$9:$Y$71, 25, FALSE) -> 21.123397
A20: 2016 | B20: =VLOOKUP($A20&$A$18, '[1]5.연령별인구'!$A$9:$Y$71, 4, FALSE) -> 2484557 | C20: =VLOOKUP($A20&$A$18, '[1]5.연령별인구'!$A$9:$Y$71, 5, FALSE) -> 207036 | D20: =VLOOKUP($A20&$A$18, '[1]5.연령별인구'!$A$9:$Y$71, 6, FALSE) -> 274127 | E20: =VLOOKUP($A20&$A$18, '[1]5.연령별인구'!$A$9:$Y$71, 7, FALSE) -> 329927 | F20: =VLOOKUP($A20&$A$18, '[1]5.연령별인구'!$A$9:$Y$71, 8, FALSE) -> 333768 | G20: =VLOOKUP($A20&$A$18, '[1]5.연령별인구'!$A$9:$Y$71, 9, FALSE) -> 431822 | H20: =VLOOKUP($A20&$A$18, '[1]5.연령별인구'!$A$9:$Y$71, 10, FALSE) -> 422215 | I20: =VLOOKUP($A20&$A$18, '[1]5.연령별인구'!$A$9:$Y$71, 11, FALSE) -> 270182 | J20: =VLOOKUP($A20&$A$18, '[1]5.연령별인구'!$A$9:$Y$71, 12, FALSE) -> 150535 | K20: =VLOOKUP($A20&$A$18, '[1]5.연령별인구'!$A$9:$Y$71, 13, FALSE) -> 57934 | L20: =VLOOKUP($A20&$A$18, '[1]5.연령별인구'!$A$9:$Y$71, 14, FALSE) -> 7011 | M20: =VLOOKUP($A20&$A$18, '[1]5.연령별인구'!$A$9:$Y$71, 15, FALSE) -> 321085 | N20: =VLOOKUP($A20&$A$18, '[1]5.연령별인구'!$A$9:$Y$71, 16, FALSE) -> 1834571 | O20: =VLOOKUP($A20&$A$18, '[1]5.연령별인구'!$A$9:$Y$71, 17, FALSE) -> 328901 | P20: =VLOOKUP($A20&$A$18, '[1]5.연령별인구'!$A$9:$Y$71, 18, FALSE) -> 12.923229 | Q20: =VLOOKUP($A20&$A$18, '[1]5.연령별인구'!$A$9:$Y$71, 19, FALSE) -> 73.838958 | R20: =VLOOKUP($A20&$A$18, '[1]5.연령별인구'!$A$9:$Y$71, 20, FALSE) -> 13.237813 | S20: =VLOOKUP($A20&$A$18, '[1]5.연령별인구'!$A$9:$Y$71, 21, FALSE) -> 35.429863 | T20: =VLOOKUP($A20&$A$18, '[1]5.연령별인구'!$A$9:$Y$71, 22, FALSE) -> 17.501912 | U20: =VLOOKUP($A20&$A$18, '[1]5.연령별인구'!$A$9:$Y$71, 23, FALSE) -> 17.927952 | V20: =VLOOKUP($A20&$A$18, '[1]5.연령별인구'!$A$9:$Y$71, 24, FALSE) -> 517234 | W20: =VLOOKUP($A20&$A$18, '[1]5.연령별인구'!$A$9:$Y$71, 25, FALSE) -> 20.817957
A21: 2017 | B21: =VLOOKUP($A21&$A$18, '[1]5.연령별인구'!$A$9:$Y$71, 4, FALSE) -> 2475231 | C21: =VLOOKUP($A21&$A$18, '[1]5.연령별인구'!$A$9:$Y$71, 5, FALSE) -> 201043 | D21: =VLOOKUP($A21&$A$18, '[1]5.연령별인구'!$A$9:$Y$71, 6, FALSE) -> 261756 | E21: =VLOOKUP($A21&$A$18, '[1]5.연령별인구'!$A$9:$Y$71, 7, FALSE) -> 332212 | F21: =VLOOKUP($A21&$A$18, '[1]5.연령별인구'!$A$9:$Y$71, 8, FALSE) -> 324015 | G21: =VLOOKUP($A21&$A$18, '[1]5.연령별인구'!$A$9:$Y$71, 9, FALSE) -> 421146 | H21: =VLOOKUP($A21&$A$18, '[1]5.연령별인구'!$A$9:$Y$71, 10, FALSE) -> 424677 | I21: =VLOOKUP($A21&$A$18, '[1]5.연령별인구'!$A$9:$Y$71, 11, FALSE) -> 282918 | J21: =VLOOKUP($A21&$A$18, '[1]5.연령별인구'!$A$9:$Y$71, 12, FALSE) -> 157294 | K21: =VLOOKUP($A21&$A$18, '[1]5.연령별인구'!$A$9:$Y$71, 13, FALSE) -> 62457 | L21: =VLOOKUP($A21&$A$18, '[1]5.연령별인구'!$A$9:$Y$71, 14, FALSE) -> 7713 | M21: =VLOOKUP($A21&$A$18, '[1]5.연령별인구'!$A$9:$Y$71, 15, FALSE) -> 314017 | N21: =VLOOKUP($A21&$A$18, '[1]5.연령별인구'!$A$9:$Y$71, 16, FALSE) -> 1813755 | O21: =VLOOKUP($A21&$A$18, '[1]5.연령별인구'!$A$9:$Y$71, 17, FALSE) -> 347459 | P21: =VLOOKUP($A21&$A$18, '[1]5.연령별인구'!$A$9:$Y$71, 18, FALSE) -> 12.686371 | Q21: =VLOOKUP($A21&$A$18, '[1]5.연령별인구'!$A$9:$Y$71, 19, FALSE) -> 73.276191 | R21: =VLOOKUP($A21&$A$18, '[1]5.연령별인구'!$A$9:$Y$71, 20, FALSE) -> 14.037437 | S21: =VLOOKUP($A21&$A$18, '[1]5.연령별인구'!$A$9:$Y$71, 21, FALSE) -> 36.469975 | T21: =VLOOKUP($A21&$A$18, '[1]5.연령별인구'!$A$9:$Y$71, 22, FALSE) -> 17.313088 | U21: =VLOOKUP($A21&$A$18, '[1]5.연령별인구'!$A$9:$Y$71, 23, FALSE) -> 19.156887 | V21: =VLOOKUP($A21&$A$18, '[1]5.연령별인구'!$A$9:$Y$71, 24, FALSE) -> 507114 | W21: =VLOOKUP($A21&$A$18, '[1]5.연령별인구'!$A$9:$Y$71, 25, FALSE) -> 20.487542
A22: 2018 | B22: =VLOOKUP($A22&$A$18, '[1]5.연령별인구'!$A$9:$Y$71, 4, FALSE) -> 2461769 | C22: =VLOOKUP($A22&$A$18, '[1]5.연령별인구'!$A$9:$Y$71, 5, FALSE) -> 194953 | D22: =VLOOKUP($A22&$A$18, '[1]5.연령별인구'!$A$9:$Y$71, 6, FALSE) -> 249672 | E22: =VLOOKUP($A22&$A$18, '[1]5.연령별인구'!$A$9:$Y$71, 7, FALSE) -> 330845 | F22: =VLOOKUP($A22&$A$18, '[1]5.연령별인구'!$A$9:$Y$71, 8, FALSE) -> 317978 | G22: =VLOOKUP($A22&$A$18, '[1]5.연령별인구'!$A$9:$Y$71, 9, FALSE) -> 404270 | H22: =VLOOKUP($A22&$A$18, '[1]5.연령별인구'!$A$9:$Y$71, 10, FALSE) -> 431143 | I22: =VLOOKUP($A22&$A$18, '[1]5.연령별인구'!$A$9:$Y$71, 11, FALSE) -> 292750 | J22: =VLOOKUP($A22&$A$18, '[1]5.연령별인구'!$A$9:$Y$71, 12, FALSE) -> 164586 | K22: =VLOOKUP($A22&$A$18, '[1]5.연령별인구'!$A$9:$Y$71, 13, FALSE) -> 67069 | L22: =VLOOKUP($A22&$A$18, '[1]5.연령별인구'!$A$9:$Y$71, 14, FALSE) -> 8503 | M22: =VLOOKUP($A22&$A$18, '[1]5.연령별인구'!$A$9:$Y$71, 15, FALSE) -> 304316 | N22: =VLOOKUP($A22&$A$18, '[1]5.연령별인구'!$A$9:$Y$71, 16, FALSE) -> 1794519 | O22: =VLOOKUP($A22&$A$18, '[1]5.연령별인구'!$A$9:$Y$71, 17, FALSE) -> 362934 | P22: =VLOOKUP($A22&$A$18, '[1]5.연령별인구'!$A$9:$Y$71, 18, FALSE) -> 12.36168 | Q22: =VLOOKUP($A22&$A$18, '[1]5.연령별인구'!$A$9:$Y$71, 19, FALSE) -> 72.895507 | R22: =VLOOKUP($A22&$A$18, '[1]5.연령별인구'!$A$9:$Y$71, 20, FALSE) -> 14.742813 | S22: =VLOOKUP($A22&$A$18, '[1]5.연령별인구'!$A$9:$Y$71, 21, FALSE) -> 37.182666 | T22: =VLOOKUP($A22&$A$18, '[1]5.연령별인구'!$A$9:$Y$71, 22, FALSE) -> 16.958082 | U22: =VLOOKUP($A22&$A$18, '[1]5.연령별인구'!$A$9:$Y$71, 23, FALSE) -> 20.224584 | V22: =VLOOKUP($A22&$A$18, '[1]5.연령별인구'!$A$9:$Y$71, 24, FALSE) -> 498896 | W22: =VLOOKUP($A22&$A$18, '[1]5.연령별인구'!$A$9:$Y$71, 25, FALSE) -> 20.265752
A23: 2019 | B23: =VLOOKUP($A23&$A$18, '[1]5.연령별인구'!$A$9:$Y$71, 4, FALSE) -> 2438031 | C23: =VLOOKUP($A23&$A$18, '[1]5.연령별인구'!$A$9:$Y$71, 5, FALSE) -> 188312 | D23: =VLOOKUP($A23&$A$18, '[1]5.연령별인구'!$A$9:$Y$71, 6, FALSE) -> 237198 | E23: =VLOOKUP($A23&$A$18, '[1]5.연령별인구'!$A$9:$Y$71, 7, FALSE) -> 323641 | F23: =VLOOKUP($A23&$A$18, '[1]5.연령별인구'!$A$9:$Y$71, 8, FALSE) -> 305986 | G23: =VLOOKUP($A23&$A$18, '[1]5.연령별인구'!$A$9:$Y$71, 9, FALSE) -> 393387 | H23: =VLOOKUP($A23&$A$18, '[1]5.연령별인구'!$A$9:$Y$71, 10, FALSE) -> 428249 | I23: =VLOOKUP($A23&$A$18, '[1]5.연령별인구'!$A$9:$Y$71, 11, FALSE) -> 308797 | J23: =VLOOKUP($A23&$A$18, '[1]5.연령별인구'!$A$9:$Y$71, 12, FALSE) -> 170112 | K23: =VLOOKUP($A23&$A$18, '[1]5.연령별인구'!$A$9:$Y$71, 13, FALSE) -> 73058 | L23: =VLOOKUP($A23&$A$18, '[1]5.연령별인구'!$A$9:$Y$71, 14, FALSE) -> 9291 | M23: =VLOOKUP($A23&$A$18, '[1]5.연령별인구'!$A$9:$Y$71, 15, FALSE) -> 294899 | N23: =VLOOKUP($A23&$A$18, '[1]5.연령별인구'!$A$9:$Y$71, 16, FALSE) -> 1763855 | O23: =VLOOKUP($A23&$A$18, '[1]5.연령별인구'!$A$9:$Y$71, 17, FALSE) -> 379277 | P23: =VLOOKUP($A23&$A$18, '[1]5.연령별인구'!$A$9:$Y$71, 18, FALSE) -> 12.095785 | Q23: =VLOOKUP($A23&$A$18, '[1]5.연령별인구'!$A$9:$Y$71, 19, FALSE) -> 72.347521 | R23: =VLOOKUP($A23&$A$18, '[1]5.연령별인구'!$A$9:$Y$71, 20, FALSE) -> 15.556693 | S23: =VLOOKUP($A23&$A$18, '[1]5.연령별인구'!$A$9:$Y$71, 21, FALSE) -> 38.221736 | T23: =VLOOKUP($A23&$A$18, '[1]5.연령별인구'!$A$9:$Y$71, 22, FALSE) -> 16.719005 | U23: =VLOOKUP($A23&$A$18, '[1]5.연령별인구'!$A$9:$Y$71, 23, FALSE) -> 21.502731 | V23: =VLOOKUP($A23&$A$18, '[1]5.연령별인구'!$A$9:$Y$71, 24, FALSE) -> 490926 | W23: =VLOOKUP($A23&$A$18, '[1]5.연령별인구'!$A$9:$Y$71, 25, FALSE) -> 20.136167
A24: 2020 | B24: =VLOOKUP($A24&$A$18, '[1]5.연령별인구'!$A$9:$Y$71, 4, FALSE) -> 2418346 | C24: =VLOOKUP($A24&$A$18, '[1]5.연령별인구'!$A$9:$Y$71, 5, FALSE) -> 178226 | D24: =VLOOKUP($A24&$A$18, '[1]5.연령별인구'!$A$9:$Y$71, 6, FALSE) -> 225898 | E24: =VLOOKUP($A24&$A$18, '[1]5.연령별인구'!$A$9:$Y$71, 7, FALSE) -> 321534 | F24: =VLOOKUP($A24&$A$18, '[1]5.연령별인구'!$A$9:$Y$71, 8, FALSE) -> 294310 | G24: =VLOOKUP($A24&$A$18, '[1]5.연령별인구'!$A$9:$Y$71, 9, FALSE) -> 383839 | H24: =VLOOKUP($A24&$A$18, '[1]5.연령별인구'!$A$9:$Y$71, 10, FALSE) -> 425479 | I24: =VLOOKUP($A24&$A$18, '[1]5.연령별인구'!$A$9:$Y$71, 11, FALSE) -> 325957 | J24: =VLOOKUP($A24&$A$18, '[1]5.연령별인구'!$A$9:$Y$71, 12, FALSE) -> 175276 | K24: =VLOOKUP($A24&$A$18, '[1]5.연령별인구'!$A$9:$Y$71, 13, FALSE) -> 77665 | L24: =VLOOKUP($A24&$A$18, '[1]5.연령별인구'!$A$9:$Y$71, 14, FALSE) -> 10162 | M24: =VLOOKUP($A24&$A$18, '[1]5.연령별인구'!$A$9:$Y$71, 15, FALSE) -> 284858 | N24: =VLOOKUP($A24&$A$18, '[1]5.연령별인구'!$A$9:$Y$71, 16, FALSE) -> 1732994 | O24: =VLOOKUP($A24&$A$18, '[1]5.연령별인구'!$A$9:$Y$71, 17, FALSE) -> 400494 | P24: =VLOOKUP($A24&$A$18, '[1]5.연령별인구'!$A$9:$Y$71, 18, FALSE) -> 11.779042 | Q24: =VLOOKUP($A24&$A$18, '[1]5.연령별인구'!$A$9:$Y$71, 19, FALSE) -> 71.6603 | R24: =VLOOKUP($A24&$A$18, '[1]5.연령별인구'!$A$9:$Y$71, 20, FALSE) -> 16.560658 | S24: =VLOOKUP($A24&$A$18, '[1]5.연령별인구'!$A$9:$Y$71, 21, FALSE) -> 39.547281 | T24: =VLOOKUP($A24&$A$18, '[1]5.연령별인구'!$A$9:$Y$71, 22, FALSE) -> 16.437333 | U24: =VLOOKUP($A24&$A$18, '[1]5.연령별인구'!$A$9:$Y$71, 23, FALSE) -> 23.109947 | V24: =VLOOKUP($A24&$A$18, '[1]5.연령별인구'!$A$9:$Y$71, 24, FALSE) -> 483649 | W24: =VLOOKUP($A24&$A$18, '[1]5.연령별인구'!$A$9:$Y$71, 25, FALSE) -> 19.999165
A25: 2021 | B25: =VLOOKUP($A25&$A$18, '[1]5.연령별인구'!$A$9:$Y$71, 4, FALSE) -> 2385412 | C25: =VLOOKUP($A25&$A$18, '[1]5.연령별인구'!$A$9:$Y$71, 5, FALSE) -> 167823 | D25: =VLOOKUP($A25&$A$18, '[1]5.연령별인구'!$A$9:$Y$71, 6, FALSE) -> 218537 | E25: =VLOOKUP($A25&$A$18, '[1]5.연령별인구'!$A$9:$Y$71, 7, FALSE) -> 308921 | F25: =VLOOKUP($A25&$A$18, '[1]5.연령별인구'!$A$9:$Y$71, 8, FALSE) -> 284865 | G25: =VLOOKUP($A25&$A$18, '[1]5.연령별인구'!$A$9:$Y$71, 9, FALSE) -> 372555 | H25: =VLOOKUP($A25&$A$18, '[1]5.연령별인구'!$A$9:$Y$71, 10, FALSE) -> 419444 | I25: =VLOOKUP($A25&$A$18, '[1]5.연령별인구'!$A$9:$Y$71, 11, FALSE) -> 342291 | J25: =VLOOKUP($A25&$A$18, '[1]5.연령별인구'!$A$9:$Y$71, 12, FALSE) -> 177828 | K25: =VLOOKUP($A25&$A$18, '[1]5.연령별인구'!$A$9:$Y$71, 13, FALSE) -> 82781 | L25: =VLOOKUP($A25&$A$18, '[1]5.연령별인구'!$A$9:$Y$71, 14, FALSE) -> 10367 | M25: =VLOOKUP($A25&$A$18, '[1]5.연령별인구'!$A$9:$Y$71, 15, FALSE) -> 274910 | N25: =VLOOKUP($A25&$A$18, '[1]5.연령별인구'!$A$9:$Y$71, 16, FALSE) -> 1693442 | O25: =VLOOKUP($A25&$A$18, '[1]5.연령별인구'!$A$9:$Y$71, 17, FALSE) -> 417060 | P25: =VLOOKUP($A25&$A$18, '[1]5.연령별인구'!$A$9:$Y$71, 18, FALSE) -> 11.524634 | Q25: =VLOOKUP($A25&$A$18, '[1]5.연령별인구'!$A$9:$Y$71, 19, FALSE) -> 70.991594 | R25: =VLOOKUP($A25&$A$18, '[1]5.연령별인구'!$A$9:$Y$71, 20, FALSE) -> 17.483772 | S25: =VLOOKUP($A25&$A$18, '[1]5.연령별인구'!$A$9:$Y$71, 21, FALSE) -> 40.861748 | T25: =VLOOKUP($A25&$A$18, '[1]5.연령별인구'!$A$9:$Y$71, 22, FALSE) -> 16.233801 | U25: =VLOOKUP($A25&$A$18, '[1]5.연령별인구'!$A$9:$Y$71, 23, FALSE) -> 24.627947 | V25: =VLOOKUP($A25&$A$18, '[1]5.연령별인구'!$A$9:$Y$71, 24, FALSE) -> 469026 | W25: =VLOOKUP($A25&$A$18, '[1]5.연령별인구'!$A$9:$Y$71, 25, FALSE) -> 19.662264
A27: 경상북도
A28: 2015 | B28: =VLOOKUP($A28&$A$27, '[2]5.연령별인구'!$A$9:$Y$182, 4, FALSE) -> 2702826 | C28: =VLOOKUP($A28&$A$27, '[2]5.연령별인구'!$A$9:$Y$182, 5, FALSE) -> 223394 | D28: =VLOOKUP($A28&$A$27, '[2]5.연령별인구'!$A$9:$Y$182, 6, FALSE) -> 277327 | E28: =VLOOKUP($A28&$A$27, '[2]5.연령별인구'!$A$9:$Y$182, 7, FALSE) -> 311383 | F28: =VLOOKUP($A28&$A$27, '[2]5.연령별인구'!$A$9:$Y$182, 8, FALSE) -> 347557 | G28: =VLOOKUP($A28&$A$27, '[2]5.연령별인구'!$A$9:$Y$182, 9, FALSE) -> 428513 | H28: =VLOOKUP($A28&$A$27, '[2]5.연령별인구'!$A$9:$Y$182, 10, FALSE) -> 456781 | I28: =VLOOKUP($A28&$A$27, '[2]5.연령별인구'!$A$9:$Y$182, 11, FALSE) -> 314821 | J28: =VLOOKUP($A28&$A$27, '[2]5.연령별인구'!$A$9:$Y$182, 12, FALSE) -> 229763 | K28: =VLOOKUP($A28&$A$27, '[2]5.연령별인구'!$A$9:$Y$182, 13, FALSE) -> 99895 | L28: =VLOOKUP($A28&$A$27, '[2]5.연령별인구'!$A$9:$Y$182, 14, FALSE) -> 13392 | M28: =VLOOKUP($A28&$A$27, '[2]5.연령별인구'!$A$9:$Y$182, 15, FALSE) -> 340245 | N28: =VLOOKUP($A28&$A$27, '[2]5.연령별인구'!$A$9:$Y$182, 16, FALSE) -> 1882947 | O28: =VLOOKUP($A28&$A$27, '[2]5.연령별인구'!$A$9:$Y$182, 17, FALSE) -> 479634 | P28: =VLOOKUP($A28&$A$27, '[2]5.연령별인구'!$A$9:$Y$182, 18, FALSE) -> 12.588491 | Q28: =VLOOKUP($A28&$A$27, '[2]5.연령별인구'!$A$9:$Y$182, 19, FALSE) -> 69.665861 | R28: =VLOOKUP($A28&$A$27, '[2]5.연령별인구'!$A$9:$Y$182, 20, FALSE) -> 17.745648 | S28: =VLOOKUP($A28&$A$27, '[2]5.연령별인구'!$A$9:$Y$182, 21, FALSE) -> 43.54233 | T28: =VLOOKUP($A28&$A$27, '[2]5.연령별인구'!$A$9:$Y$182, 22, FALSE) -> 18.069813 | U28: =VLOOKUP($A28&$A$27, '[2]5.연령별인구'!$A$9:$Y$182, 23, FALSE) -> 25.472517 | V28: =VLOOKUP($A28&$A$27, '[2]5.연령별인구'!$A$9:$Y$182, 24, FALSE) -> 513626 | W28: =VLOOKUP($A28&$A$27, '[2]5.연령별인구'!$A$9:$Y$182, 25, FALSE) -> 19.003295
A29: 2016 | B29: =VLOOKUP($A29&$A$27, '[2]5.연령별인구'!$A$9:$Y$182, 4, FALSE) -> 2700398 | C29: =VLOOKUP($A29&$A$27, '[2]5.연령별인구'!$A$9:$Y$182, 5, FALSE) -> 222272 | D29: =VLOOKUP($A29&$A$27, '[2]5.연령별인구'!$A$9:$Y$182, 6, FALSE) -> 264658 | E29: =VLOOKUP($A29&$A$27, '[2]5.연령별인구'!$A$9:$Y$182, 7, FALSE) -> 308303 | F29: =VLOOKUP($A29&$A$27, '[2]5.연령별인구'!$A$9:$Y$182, 8, FALSE) -> 339593 | G29: =VLOOKUP($A29&$A$27, '[2]5.연령별인구'!$A$9:$Y$182, 9, FALSE) -> 421947 | H29: =VLOOKUP($A29&$A$27, '[2]5.연령별인구'!$A$9:$Y$182, 10, FALSE) -> 460007 | I29: =VLOOKUP($A29&$A$27, '[2]5.연령별인구'!$A$9:$Y$182, 11, FALSE) -> 336251 | J29: =VLOOKUP($A29&$A$27, '[2]5.연령별인구'!$A$9:$Y$182, 12, FALSE) -> 225768 | K29: =VLOOKUP($A29&$A$27, '[2]5.연령별인구'!$A$9:$Y$182, 13, FALSE) -> 107402 | L29: =VLOOKUP($A29&$A$27, '[2]5.연령별인구'!$A$9:$Y$182, 14, FALSE) -> 14197 | M29: =VLOOKUP($A29&$A$27, '[2]5.연령별인구'!$A$9:$Y$182, 15, FALSE) -> 333025 | N29: =VLOOKUP($A29&$A$27, '[2]5.연령별인구'!$A$9:$Y$182, 16, FALSE) -> 1874956 | O29: =VLOOKUP($A29&$A$27, '[2]5.연령별인구'!$A$9:$Y$182, 17, FALSE) -> 492417 | P29: =VLOOKUP($A29&$A$27, '[2]5.연령별인구'!$A$9:$Y$182, 18, FALSE) -> 12.332441 | Q29: =VLOOKUP($A29&$A$27, '[2]5.연령별인구'!$A$9:$Y$182, 19, FALSE) -> 69.43258 | R29: =VLOOKUP($A29&$A$27, '[2]5.연령별인구'!$A$9:$Y$182, 20, FALSE) -> 18.234979 | S29: =VLOOKUP($A29&$A$27, '[2]5.연령별인구'!$A$9:$Y$182, 21, FALSE) -> 44.024606 | T29: =VLOOKUP($A29&$A$27, '[2]5.연령별인구'!$A$9:$Y$182, 22, FALSE) -> 17.76175 | U29: =VLOOKUP($A29&$A$27, '[2]5.연령별인구'!$A$9:$Y$182, 23, FALSE) -> 26.262856 | V29: =VLOOKUP($A29&$A$27, '[2]5.연령별인구'!$A$9:$Y$182, 24, FALSE) -> 498780 | W29: =VLOOKUP($A29&$A$27, '[2]5.연령별인구'!$A$9:$Y$182, 25, FALSE) -> 18.470611
A30: 2017 | B30: =VLOOKUP($A30&$A$27, '[2]5.연령별인구'!$A$9:$Y$182, 4, FALSE) -> 2691706 | C30: =VLOOKUP($A30&$A$27, '[2]5.연령별인구'!$A$9:$Y$182, 5, FALSE) -> 215451 | D30: =VLOOKUP($A30&$A$27, '[2]5.연령별인구'!$A$9:$Y$182, 6, FALSE) -> 254396 | E30: =VLOOKUP($A30&$A$27, '[2]5.연령별인구'!$A$9:$Y$182, 7, FALSE) -> 305390 | F30: =VLOOKUP($A30&$A$27, '[2]5.연령별인구'!$A$9:$Y$182, 8, FALSE) -> 329087 | G30: =VLOOKUP($A30&$A$27, '[2]5.연령별인구'!$A$9:$Y$182, 9, FALSE) -> 414254 | H30: =VLOOKUP($A30&$A$27, '[2]5.연령별인구'!$A$9:$Y$182, 10, FALSE) -> 461486 | I30: =VLOOKUP($A30&$A$27, '[2]5.연령별인구'!$A$9:$Y$182, 11, FALSE) -> 352151 | J30: =VLOOKUP($A30&$A$27, '[2]5.연령별인구'!$A$9:$Y$182, 12, FALSE) -> 230114 | K30: =VLOOKUP($A30&$A$27, '[2]5.연령별인구'!$A$9:$Y$182, 13, FALSE) -> 113788 | L30: =VLOOKUP($A30&$A$27, '[2]5.연령별인구'!$A$9:$Y$182, 14, FALSE) -> 15589 | M30: =VLOOKUP($A30&$A$27, '[2]5.연령별인구'!$A$9:$Y$182, 15, FALSE) -> 325629 | N30: =VLOOKUP($A30&$A$27, '[2]5.연령별인구'!$A$9:$Y$182, 16, FALSE) -> 1853396 | O30: =VLOOKUP($A30&$A$27, '[2]5.연령별인구'!$A$9:$Y$182, 17, FALSE) -> 512681 | P30: =VLOOKUP($A30&$A$27, '[2]5.연령별인구'!$A$9:$Y$182, 18, FALSE) -> 12.097495 | Q30: =VLOOKUP($A30&$A$27, '[2]5.연령별인구'!$A$9:$Y$182, 19, FALSE) -> 68.855811 | R30: =VLOOKUP($A30&$A$27, '[2]5.연령별인구'!$A$9:$Y$182, 20, FALSE) -> 19.046694 | S30: =VLOOKUP($A30&$A$27, '[2]5.연령별인구'!$A$9:$Y$182, 21, FALSE) -> 45.231025 | T30: =VLOOKUP($A30&$A$27, '[2]5.연령별인구'!$A$9:$Y$182, 22, FALSE) -> 17.569316 | U30: =VLOOKUP($A30&$A$27, '[2]5.연령별인구'!$A$9:$Y$182, 23, FALSE) -> 27.661709 | V30: =VLOOKUP($A30&$A$27, '[2]5.연령별인구'!$A$9:$Y$182, 24, FALSE) -> 482208 | W30: =VLOOKUP($A30&$A$27, '[2]5.연령별인구'!$A$9:$Y$182, 25, FALSE) -> 17.914587
A31: 2018 | B31: =VLOOKUP($A31&$A$27, '[2]5.연령별인구'!$A$9:$Y$182, 4, FALSE) -> 2676831 | C31: =VLOOKUP($A31&$A$27, '[2]5.연령별인구'!$A$9:$Y$182, 5, FALSE) -> 207609 | D31: =VLOOKUP($A31&$A$27, '[2]5.연령별인구'!$A$9:$Y$182, 6, FALSE) -> 245099 | E31: =VLOOKUP($A31&$A$27, '[2]5.연령별인구'!$A$9:$Y$182, 7, FALSE) -> 300125 | F31: =VLOOKUP($A31&$A$27, '[2]5.연령별인구'!$A$9:$Y$182, 8, FALSE) -> 319542 | G31: =VLOOKUP($A31&$A$27, '[2]5.연령별인구'!$A$9:$Y$182, 9, FALSE) -> 399573 | H31: =VLOOKUP($A31&$A$27, '[2]5.연령별인구'!$A$9:$Y$182, 10, FALSE) -> 467650 | I31: =VLOOKUP($A31&$A$27, '[2]5.연령별인구'!$A$9:$Y$182, 11, FALSE) -> 365286 | J31: =VLOOKUP($A31&$A$27, '[2]5.연령별인구'!$A$9:$Y$182, 12, FALSE) -> 235036 | K31: =VLOOKUP($A31&$A$27, '[2]5.연령별인구'!$A$9:$Y$182, 13, FALSE) -> 120081 | L31: =VLOOKUP($A31&$A$27, '[2]5.연령별인구'!$A$9:$Y$182, 14, FALSE) -> 16830 | M31: =VLOOKUP($A31&$A$27, '[2]5.연령별인구'!$A$9:$Y$182, 15, FALSE) -> 316485 | N31: =VLOOKUP($A31&$A$27, '[2]5.연령별인구'!$A$9:$Y$182, 16, FALSE) -> 1830997 | O31: =VLOOKUP($A31&$A$27, '[2]5.연령별인구'!$A$9:$Y$182, 17, FALSE) -> 529349 | P31: =VLOOKUP($A31&$A$27, '[2]5.연령별인구'!$A$9:$Y$182, 18, FALSE) -> 11.823122 | Q31: =VLOOKUP($A31&$A$27, '[2]5.연령별인구'!$A$9:$Y$182, 19, FALSE) -> 68.401666 | R31: =VLOOKUP($A31&$A$27, '[2]5.연령별인구'!$A$9:$Y$182, 20, FALSE) -> 19.775212 | S31: =VLOOKUP($A31&$A$27, '[2]5.연령별인구'!$A$9:$Y$182, 21, FALSE) -> 46.19527 | T31: =VLOOKUP($A31&$A$27, '[2]5.연령별인구'!$A$9:$Y$182, 22, FALSE) -> 17.284845 | U31: =VLOOKUP($A31&$A$27, '[2]5.연령별인구'!$A$9:$Y$182, 23, FALSE) -> 28.910424 | V31: =VLOOKUP($A31&$A$27, '[2]5.연령별인구'!$A$9:$Y$182, 24, FALSE) -> 467877 | W31: =VLOOKUP($A31&$A$27, '[2]5.연령별인구'!$A$9:$Y$182, 25, FALSE) -> 17.478765
A32: 2019 | B32: =VLOOKUP($A32&$A$27, '[2]5.연령별인구'!$A$9:$Y$182, 4, FALSE) -> 2665836 | C32: =VLOOKUP($A32&$A$27, '[2]5.연령별인구'!$A$9:$Y$182, 5, FALSE) -> 200184 | D32: =VLOOKUP($A32&$A$27, '[2]5.연령별인구'!$A$9:$Y$182, 6, FALSE) -> 235748 | E32: =VLOOKUP($A32&$A$27, '[2]5.연령별인구'!$A$9:$Y$182, 7, FALSE) -> 294550 | F32: =VLOOKUP($A32&$A$27, '[2]5.연령별인구'!$A$9:$Y$182, 8, FALSE) -> 306807 | G32: =VLOOKUP($A32&$A$27, '[2]5.연령별인구'!$A$9:$Y$182, 9, FALSE) -> 391533 | H32: =VLOOKUP($A32&$A$27, '[2]5.연령별인구'!$A$9:$Y$182, 10, FALSE) -> 465268 | I32: =VLOOKUP($A32&$A$27, '[2]5.연령별인구'!$A$9:$Y$182, 11, FALSE) -> 386456 | J32: =VLOOKUP($A32&$A$27, '[2]5.연령별인구'!$A$9:$Y$182, 12, FALSE) -> 237963 | K32: =VLOOKUP($A32&$A$27, '[2]5.연령별인구'!$A$9:$Y$182, 13, FALSE) -> 129177 | L32: =VLOOKUP($A32&$A$27, '[2]5.연령별인구'!$A$9:$Y$182, 14, FALSE) -> 18150 | M32: =VLOOKUP($A32&$A$27, '[2]5.연령별인구'!$A$9:$Y$182, 15, FALSE) -> 308133 | N32: =VLOOKUP($A32&$A$27, '[2]5.연령별인구'!$A$9:$Y$182, 16, FALSE) -> 1808288 | O32: =VLOOKUP($A32&$A$27, '[2]5.연령별인구'!$A$9:$Y$182, 17, FALSE) -> 549415 | P32: =VLOOKUP($A32&$A$27, '[2]5.연령별인구'!$A$9:$Y$182, 18, FALSE) -> 11.558588 | Q32: =VLOOKUP($A32&$A$27, '[2]5.연령별인구'!$A$9:$Y$182, 19, FALSE) -> 67.83193 | R32: =VLOOKUP($A32&$A$27, '[2]5.연령별인구'!$A$9:$Y$182, 20, FALSE) -> 20.609482 | S32: =VLOOKUP($A32&$A$27, '[2]5.연령별인구'!$A$9:$Y$182, 21, FALSE) -> 47.423198 | T32: =VLOOKUP($A32&$A$27, '[2]5.연령별인구'!$A$9:$Y$182, 22, FALSE) -> 17.04004 | U32: =VLOOKUP($A32&$A$27, '[2]5.연령별인구'!$A$9:$Y$182, 23, FALSE) -> 30.383158 | V32: =VLOOKUP($A32&$A$27, '[2]5.연령별인구'!$A$9:$Y$182, 24, FALSE) -> 458967 | W32: =VLOOKUP($A32&$A$27, '[2]5.연령별인구'!$A$9:$Y$182, 25, FALSE) -> 17.216625
A33: 2020 | B33: =VLOOKUP($A33&$A$27, '[2]5.연령별인구'!$A$9:$Y$182, 4, FALSE) -> 2639422 | C33: =VLOOKUP($A33&$A$27, '[2]5.연령별인구'!$A$9:$Y$182, 5, FALSE) -> 189561 | D33: =VLOOKUP($A33&$A$27, '[2]5.연령별인구'!$A$9:$Y$182, 6, FALSE) -> 225924 | E33: =VLOOKUP($A33&$A$27, '[2]5.연령별인구'!$A$9:$Y$182, 7, FALSE) -> 284163 | F33: =VLOOKUP($A33&$A$27, '[2]5.연령별인구'!$A$9:$Y$182, 8, FALSE) -> 291117 | G33: =VLOOKUP($A33&$A$27, '[2]5.연령별인구'!$A$9:$Y$182, 9, FALSE) -> 383508 | H33: =VLOOKUP($A33&$A$27, '[2]5.연령별인구'!$A$9:$Y$182, 10, FALSE) -> 459662 | I33: =VLOOKUP($A33&$A$27, '[2]5.연령별인구'!$A$9:$Y$182, 11, FALSE) -> 409250 | J33: =VLOOKUP($A33&$A$27, '[2]5.연령별인구'!$A$9:$Y$182, 12, FALSE) -> 241411 | K33: =VLOOKUP($A33&$A$27, '[2]5.연령별인구'!$A$9:$Y$182, 13, FALSE) -> 135047 | L33: =VLOOKUP($A33&$A$27, '[2]5.연령별인구'!$A$9:$Y$182, 14, FALSE) -> 19779 | M33: =VLOOKUP($A33&$A$27, '[2]5.연령별인구'!$A$9:$Y$182, 15, FALSE) -> 298665 | N33: =VLOOKUP($A33&$A$27, '[2]5.연령별인구'!$A$9:$Y$182, 16, FALSE) -> 1767042 | O33: =VLOOKUP($A33&$A$27, '[2]5.연령별인구'!$A$9:$Y$182, 17, FALSE) -> 573715 | P33: =VLOOKUP($A33&$A$27, '[2]5.연령별인구'!$A$9:$Y$182, 18, FALSE) -> 11.315546 | Q33: =VLOOKUP($A33&$A$27, '[2]5.연령별인구'!$A$9:$Y$182, 19, FALSE) -> 66.948067 | R33: =VLOOKUP($A33&$A$27, '[2]5.연령별인구'!$A$9:$Y$182, 20, FALSE) -> 21.736388 | S33: =VLOOKUP($A33&$A$27, '[2]5.연령별인구'!$A$9:$Y$182, 21, FALSE) -> 49.369511 | T33: =VLOOKUP($A33&$A$27, '[2]5.연령별인구'!$A$9:$Y$182, 22, FALSE) -> 16.901975 | U33: =VLOOKUP($A33&$A$27, '[2]5.연령별인구'!$A$9:$Y$182, 23, FALSE) -> 32.467536 | V33: =VLOOKUP($A33&$A$27, '[2]5.연령별인구'!$A$9:$Y$182, 24, FALSE) -> 439468 | W33: =VLOOKUP($A33&$A$27, '[2]5.연령별인구'!$A$9:$Y$182, 25, FALSE) -> 16.650161
A34: 2021 | B34: =VLOOKUP($A34&$A$27, '[2]5.연령별인구'!$A$9:$Y$182, 4, FALSE) -> 2626609 | C34: =VLOOKUP($A34&$A$27, '[2]5.연령별인구'!$A$9:$Y$182, 5, FALSE) -> 178515 | D34: =VLOOKUP($A34&$A$27, '[2]5.연령별인구'!$A$9:$Y$182, 6, FALSE) -> 221964 | E34: =VLOOKUP($A34&$A$27, '[2]5.연령별인구'!$A$9:$Y$182, 7, FALSE) -> 276021 | F34: =VLOOKUP($A34&$A$27, '[2]5.연령별인구'!$A$9:$Y$182, 8, FALSE) -> 279475 | G34: =VLOOKUP($A34&$A$27, '[2]5.연령별인구'!$A$9:$Y$182, 9, FALSE) -> 377180 | H34: =VLOOKUP($A34&$A$27, '[2]5.연령별인구'!$A$9:$Y$182, 10, FALSE) -> 454427 | I34: =VLOOKUP($A34&$A$27, '[2]5.연령별인구'!$A$9:$Y$182, 11, FALSE) -> 433047 | J34: =VLOOKUP($A34&$A$27, '[2]5.연령별인구'!$A$9:$Y$182, 12, FALSE) -> 244151 | K34: =VLOOKUP($A34&$A$27, '[2]5.연령별인구'!$A$9:$Y$182, 13, FALSE) -> 140963 | L34: =VLOOKUP($A34&$A$27, '[2]5.연령별인구'!$A$9:$Y$182, 14, FALSE) -> 20866 | M34: =VLOOKUP($A34&$A$27, '[2]5.연령별인구'!$A$9:$Y$182, 15, FALSE) -> 289359 | N34: =VLOOKUP($A34&$A$27, '[2]5.연령별인구'!$A$9:$Y$182, 16, FALSE) -> 1740938 | O34: =VLOOKUP($A34&$A$27, '[2]5.연령별인구'!$A$9:$Y$182, 17, FALSE) -> 596312 | P34: =VLOOKUP($A34&$A$27, '[2]5.연령별인구'!$A$9:$Y$182, 18, FALSE) -> 11.016447 | Q34: =VLOOKUP($A34&$A$27, '[2]5.연령별인구'!$A$9:$Y$182, 19, FALSE) -> 66.280821 | R34: =VLOOKUP($A34&$A$27, '[2]5.연령별인구'!$A$9:$Y$182, 20, FALSE) -> 22.702732 | S34: =VLOOKUP($A34&$A$27, '[2]5.연령별인구'!$A$9:$Y$182, 21, FALSE) -> 50.873207 | T34: =VLOOKUP($A34&$A$27, '[2]5.연령별인구'!$A$9:$Y$182, 22, FALSE) -> 16.620868 | U34: =VLOOKUP($A34&$A$27, '[2]5.연령별인구'!$A$9:$Y$182, 23, FALSE) -> 34.25234 | V34: =VLOOKUP($A34&$A$27, '[2]5.연령별인구'!$A$9:$Y$182, 24, FALSE) -> 427359 | W34: =VLOOKUP($A34&$A$27, '[2]5.연령별인구'!$A$9:$Y$182, 25, FALSE) -> 16.27037
A36: 자료: 대구광역시 주민등록인구통계, 경상북도 주민등록인구통계

Sheet 6.인구동향
A1: [목록]으로
A2: 6. 인구 동향
L4: 단위:명,건
B5: 출 생 | E5: 사 망 | H5: 혼 인 | I5: 이 혼 | J5: 조출생률 (인구 천명당 명) | K5: 조사망률 (인구 천명당 명) | L5: 조혼인율 (인구 천명당 건)
C6: 남 | D6: 여 | F6: 남 | G6: 여
A9: 대경권
A10: 2015 | B10: =SUM(B19,B28) -> 41748 | C10: =SUM(C19,C28) -> 21494 | D10: =SUM(D19,D28) -> 20254 | E10: =SUM(E19,E28) -> 33943 | F10: =SUM(F19,F28) -> 18349 | G10: =SUM(G19,G28) -> 15594 | H10: =SUM(H19,H28) -> 26818 | I10: =SUM(I19,I28) -> 9845 | J10: =B10/'4.세대및 인구'!$H10*1000 -> 8.0429156 | K10: =E10/'4.세대및 인구'!$H10*1000 -> 6.5392518 | L10: =H10/'4.세대및 인구'!$H10*1000 -> 5.1665927
A11: 2016 | B11: =SUM(B20,B29) -> 38914 | C11: =SUM(C20,C29) -> 19965 | D11: =SUM(D20,D29) -> 18949 | E11: =SUM(E20,E29) -> 34480 | F11: =SUM(F20,F29) -> 18416 | G11: =SUM(G20,G29) -> 16064 | H11: =SUM(H20,H29) -> 25579 | I11: =SUM(I20,I29) -> 9758 | J11: =B11/'4.세대및 인구'!$H11*1000 -> 7.505176 | K11: =E11/'4.세대및 인구'!$H11*1000 -> 6.6500095 | L11: =H11/'4.세대및 인구'!$H11*1000 -> 4.9333119
A12: 2017 | B12: =SUM(B21,B30) -> 33903 | C12: =SUM(C21,C30) -> 17516 | D12: =SUM(D21,D30) -> 16387 | E12: =SUM(E21,E30) -> 34907 | F12: =SUM(F21,F30) -> 18686 | G12: =SUM(G21,G30) -> 16221 | H12: =SUM(H21,H30) -> 23582 | I12: =SUM(I21,I30) -> 9885 | J12: =B12/'4.세대및 인구'!$H12*1000 -> 6.5615277 | K12: =E12/'4.세대및 인구'!$H12*1000 -> 6.7558401 | L12: =H12/'4.세대및 인구'!$H12*1000 -> 4.5640193
A13: 2018 | B13: =SUM(B22,B31) -> 30479 | C13: =SUM(C22,C31) -> 15674 | D13: =SUM(D22,D31) -> 14805 | E13: =SUM(E22,E31) -> 36359 | F13: =SUM(F22,F31) -> 19373 | G13: =SUM(G22,G31) -> 16986 | H13: =SUM(H22,H31) -> 22654 | I13: =SUM(I22,I31) -> 10150 | J13: =B13/'4.세대및 인구'!$H13*1000 -> 5.9313821 | K13: =E13/'4.세대및 인구'!$H13*1000 -> 7.0756626 | L13: =H13/'4.세대및 인구'!$H13*1000 -> 4.4085938
A14: 2019 | B14: =SUM(B23,B32) -> 27705 | C14: =SUM(C23,C32) -> 14277 | D14: =SUM(D23,D32) -> 13428 | E14: =SUM(E23,E32) -> 35455 | F14: =SUM(F23,F32) -> 18898 | G14: =SUM(G23,G32) -> 16557 | H14: =SUM(H23,H32) -> 20517 | I14: =SUM(I23,I32) -> 10290 | J14: =B14/'4.세대및 인구'!$H14*1000 -> 5.4282371 | K14: =E14/'4.세대및 인구'!$H14*1000 -> 6.9466936 | L14: =H14/'4.세대및 인구'!$H14*1000 -> 4.0198932
A15: 2020 | B15: =SUM(B24,B33) -> 24066 | C15: =SUM(C24,C33) -> 12307 | D15: =SUM(D24,D33) -> 11759 | E15: =SUM(E24,E33) -> 37259 | F15: =SUM(F24,F33) -> 19884 | G15: =SUM(G24,G33) -> 17375 | H15: =SUM(H24,H33) -> 17386 | I15: =SUM(I24,I33) -> 9898 | J15: =B15/'4.세대및 인구'!$H15*1000 -> 4.7582254 | K15: =E15/'4.세대및 인구'!$H15*1000 -> 7.3666882 | L15: =H15/'4.세대및 인구'!$H15*1000 -> 3.4374847
A16: 2021 | B16: =SUM(B25,B34) -> 22706 | C16: =SUM(C25,C34) -> 11650 | D16: =SUM(D25,D34) -> 11056 | E16: =SUM(E25,E34) -> 37488 | F16: =SUM(F25,F34) -> 19858 | G16: =SUM(G25,G34) -> 17630 | H16: =SUM(H25,H34) -> 15450 | I16: =SUM(I25,I34) -> 9208 | J16: =B16/'4.세대및 인구'!$H16*1000 -> 4.5303082 | K16: =E16/'4.세대및 인구'!$H16*1000 -> 7.4796175 | L16: =H16/'4.세대및 인구'!$H16*1000 -> 3.0825888
A18: 대구광역시
A19: 2015 | B19: =VLOOKUP($A19&$A$18, '[1]6.인구동향'!$A$9:$Y$71, 4, FALSE) -> 19438 | C19: =VLOOKUP($A19&$A$18, '[1]6.인구동향'!$A$9:$Y$71, 5, FALSE) -> 10041 | D19: =VLOOKUP($A19&$A$18, '[1]6.인구동향'!$A$9:$Y$71, 6, FALSE) -> 9397 | E19: =VLOOKUP($A19&$A$18, '[1]6.인구동향'!$A$9:$Y$71, 7, FALSE) -> 13081 | F19: =VLOOKUP($A19&$A$18, '[1]6.인구동향'!$A$9:$Y$71, 8, FALSE) -> 7100 | G19: =VLOOKUP($A19&$A$18, '[1]6.인구동향'!$A$9:$Y$71, 9, FALSE) -> 5981 | H19: =VLOOKUP($A19&$A$18, '[1]6.인구동향'!$A$9:$Y$71, 10, FALSE) -> 12545 | I19: =VLOOKUP($A19&$A$18, '[1]6.인구동향'!$A$9:$Y$71, 11, FALSE) -> 4497 | J19: =B19/'4.세대및 인구'!$H19*1000 -> 7.813238 | K19: =E19/'4.세대및 인구'!$H19*1000 -> 5.257998 | L19: =H19/'4.세대및 인구'!$H19*1000 -> 5.0425491
A20: 2016 | B20: =VLOOKUP($A20&$A$18, '[1]6.인구동향'!$A$9:$Y$71, 4, FALSE) -> 18298 | C20: =VLOOKUP($A20&$A$18, '[1]6.인구동향'!$A$9:$Y$71, 5, FALSE) -> 9311 | D20: =VLOOKUP($A20&$A$18, '[1]6.인구동향'!$A$9:$Y$71, 6, FALSE) -> 8987 | E20: =VLOOKUP($A20&$A$18, '[1]6.인구동향'!$A$9:$Y$71, 7, FALSE) -> 13502 | F20: =VLOOKUP($A20&$A$18, '[1]6.인구동향'!$A$9:$Y$71, 8, FALSE) -> 7305 | G20: =VLOOKUP($A20&$A$18, '[1]6.인구동향'!$A$9:$Y$71, 9, FALSE) -> 6197 | H20: =VLOOKUP($A20&$A$18, '[1]6.인구동향'!$A$9:$Y$71, 10, FALSE) -> 12216 | I20: =VLOOKUP($A20&$A$18, '[1]6.인구동향'!$A$9:$Y$71, 11, FALSE) -> 4383 | J20: =B20/'4.세대및 인구'!$H20*1000 -> 7.3646932 | K20: =E20/'4.세대및 인구'!$H20*1000 -> 5.4343692 | L20: =H20/'4.세대및 인구'!$H20*1000 -> 4.9167719
A21: 2017 | B21: =VLOOKUP($A21&$A$18, '[1]6.인구동향'!$A$9:$Y$71, 4, FALSE) -> 15946 | C21: =VLOOKUP($A21&$A$18, '[1]6.인구동향'!$A$9:$Y$71, 5, FALSE) -> 8263 | D21: =VLOOKUP($A21&$A$18, '[1]6.인구동향'!$A$9:$Y$71, 6, FALSE) -> 7683 | E21: =VLOOKUP($A21&$A$18, '[1]6.인구동향'!$A$9:$Y$71, 7, FALSE) -> 13629 | F21: =VLOOKUP($A21&$A$18, '[1]6.인구동향'!$A$9:$Y$71, 8, FALSE) -> 7338 | G21: =VLOOKUP($A21&$A$18, '[1]6.인구동향'!$A$9:$Y$71, 9, FALSE) -> 6291 | H21: =VLOOKUP($A21&$A$18, '[1]6.인구동향'!$A$9:$Y$71, 10, FALSE) -> 11392 | I21: =VLOOKUP($A21&$A$18, '[1]6.인구동향'!$A$9:$Y$71, 11, FALSE) -> 4380 | J21: =B21/'4.세대및 인구'!$H21*1000 -> 6.442227 | K21: =E21/'4.세대및 인구'!$H21*1000 -> 5.5061528 | L21: =H21/'4.세대및 인구'!$H21*1000 -> 4.6023987
A22: 2018 | B22: =VLOOKUP($A22&$A$18, '[1]6.인구동향'!$A$9:$Y$71, 4, FALSE) -> 14400 | C22: =VLOOKUP($A22&$A$18, '[1]6.인구동향'!$A$9:$Y$71, 5, FALSE) -> 7289 | D22: =VLOOKUP($A22&$A$18, '[1]6.인구동향'!$A$9:$Y$71, 6, FALSE) -> 7111 | E22: =VLOOKUP($A22&$A$18, '[1]6.인구동향'!$A$9:$Y$71, 7, FALSE) -> 14070 | F22: =VLOOKUP($A22&$A$18, '[1]6.인구동향'!$A$9:$Y$71, 8, FALSE) -> 7631 | G22: =VLOOKUP($A22&$A$18, '[1]6.인구동향'!$A$9:$Y$71, 9, FALSE) -> 6439 | H22: =VLOOKUP($A22&$A$18, '[1]6.인구동향'!$A$9:$Y$71, 10, FALSE) -> 10967 | I22: =VLOOKUP($A22&$A$18, '[1]6.인구동향'!$A$9:$Y$71, 11, FALSE) -> 4530 | J22: =B22/'4.세대및 인구'!$H22*1000 -> 5.8494522 | K22: =E22/'4.세대및 인구'!$H22*1000 -> 5.7154022 | L22: =H22/'4.세대및 인구'!$H22*1000 -> 4.4549265
A23: 2019 | B23: =VLOOKUP($A23&$A$18, '[1]6.인구동향'!$A$9:$Y$71, 4, FALSE) -> 13233 | C23: =VLOOKUP($A23&$A$18, '[1]6.인구동향'!$A$9:$Y$71, 5, FALSE) -> 6906 | D23: =VLOOKUP($A23&$A$18, '[1]6.인구동향'!$A$9:$Y$71, 6, FALSE) -> 6327 | E23: =VLOOKUP($A23&$A$18, '[1]6.인구동향'!$A$9:$Y$71, 7, FALSE) -> 13752 | F23: =VLOOKUP($A23&$A$18, '[1]6.인구동향'!$A$9:$Y$71, 8, FALSE) -> 7509 | G23: =VLOOKUP($A23&$A$18, '[1]6.인구동향'!$A$9:$Y$71, 9, FALSE) -> 6243 | H23: =VLOOKUP($A23&$A$18, '[1]6.인구동향'!$A$9:$Y$71, 10, FALSE) -> 9880 | I23: =VLOOKUP($A23&$A$18, '[1]6.인구동향'!$A$9:$Y$71, 11, FALSE) -> 4655 | J23: =B23/'4.세대및 인구'!$H23*1000 -> 5.4277407 | K23: =E23/'4.세대및 인구'!$H23*1000 -> 5.6406174 | L23: =H23/'4.세대및 인구'!$H23*1000 -> 4.0524505
A24: 2020 | B24: =VLOOKUP($A24&$A$18, '[1]6.인구동향'!$A$9:$Y$71, 4, FALSE) -> 11193 | C24: =VLOOKUP($A24&$A$18, '[1]6.인구동향'!$A$9:$Y$71, 5, FALSE) -> 5734 | D24: =VLOOKUP($A24&$A$18, '[1]6.인구동향'!$A$9:$Y$71, 6, FALSE) -> 5459 | E24: =VLOOKUP($A24&$A$18, '[1]6.인구동향'!$A$9:$Y$71, 7, FALSE) -> 14460 | F24: =VLOOKUP($A24&$A$18, '[1]6.인구동향'!$A$9:$Y$71, 8, FALSE) -> 7877 | G24: =VLOOKUP($A24&$A$18, '[1]6.인구동향'!$A$9:$Y$71, 9, FALSE) -> 6583 | H24: =VLOOKUP($A24&$A$18, '[1]6.인구동향'!$A$9:$Y$71, 10, FALSE) -> 8340 | I24: =VLOOKUP($A24&$A$18, '[1]6.인구동향'!$A$9:$Y$71, 11, FALSE) -> 4345 | J24: =B24/'4.세대및 인구'!$H24*1000 -> 4.62837 | K24: =E24/'4.세대및 인구'!$H24*1000 -> 5.9792933 | L24: =H24/'4.세대및 인구'!$H24*1000 -> 3.448638
A25: 2021 | B25: =VLOOKUP($A25&$A$18, '[1]6.인구동향'!$A$9:$Y$71, 4, FALSE) -> 10661 | C25: =VLOOKUP($A25&$A$18, '[1]6.인구동향'!$A$9:$Y$71, 5, FALSE) -> 5545 | D25: =VLOOKUP($A25&$A$18, '[1]6.인구동향'!$A$9:$Y$71, 6, FALSE) -> 5116 | E25: =VLOOKUP($A25&$A$18, '[1]6.인구동향'!$A$9:$Y$71, 7, FALSE) -> 14560 | F25: =VLOOKUP($A25&$A$18, '[1]6.인구동향'!$A$9:$Y$71, 8, FALSE) -> 7955 | G25: =VLOOKUP($A25&$A$18, '[1]6.인구동향'!$A$9:$Y$71, 9, FALSE) -> 6605 | H25: =VLOOKUP($A25&$A$18, '[1]6.인구동향'!$A$9:$Y$71, 10, FALSE) -> 7287 | I25: =VLOOKUP($A25&$A$18, '[1]6.인구동향'!$A$9:$Y$71, 11, FALSE) -> 4111 | J25: =B25/'4.세대및 인구'!$H25*1000 -> 4.4692489 | K25: =E25/'4.세대및 인구'!$H25*1000 -> 6.1037674 | L25: =H25/'4.세대및 인구'!$H25*1000 -> 3.0548182
A27: 경상북도
A28: 2015 | B28: =VLOOKUP($A28&$A$27, '[2]6.인구동향'!$A$9:$Y$160, 4, FALSE) -> 22310 | C28: =VLOOKUP($A28&$A$27, '[2]6.인구동향'!$A$9:$Y$160, 5, FALSE) -> 11453 | D28: =VLOOKUP($A28&$A$27, '[2]6.인구동향'!$A$9:$Y$160, 6, FALSE) -> 10857 | E28: =VLOOKUP($A28&$A$27, '[2]6.인구동향'!$A$9:$Y$160, 7, FALSE) -> 20862 | F28: =VLOOKUP($A28&$A$27, '[2]6.인구동향'!$A$9:$Y$160, 8, FALSE) -> 11249 | G28: =VLOOKUP($A28&$A$27, '[2]6.인구동향'!$A$9:$Y$160, 9, FALSE) -> 9613 | H28: =VLOOKUP($A28&$A$27, '[2]6.인구동향'!$A$9:$Y$160, 10, FALSE) -> 14273 | I28: =VLOOKUP($A28&$A$27, '[2]6.인구동향'!$A$9:$Y$160, 11, FALSE) -> 5348 | J28: =B28/'4.세대및 인구'!$H28*1000 -> 8.2543234 | K28: =E28/'4.세대및 인구'!$H28*1000 -> 7.7185879 | L28: =H28/'4.세대및 인구'!$H28*1000 -> 5.2807691
A29: 2016 | B29: =VLOOKUP($A29&$A$27, '[2]6.인구동향'!$A$9:$Y$160, 4, FALSE) -> 20616 | C29: =VLOOKUP($A29&$A$27, '[2]6.인구동향'!$A$9:$Y$160, 5, FALSE) -> 10654 | D29: =VLOOKUP($A29&$A$27, '[2]6.인구동향'!$A$9:$Y$160, 6, FALSE) -> 9962 | E29: =VLOOKUP($A29&$A$27, '[2]6.인구동향'!$A$9:$Y$160, 7, FALSE) -> 20978 | F29: =VLOOKUP($A29&$A$27, '[2]6.인구동향'!$A$9:$Y$160, 8, FALSE) -> 11111 | G29: =VLOOKUP($A29&$A$27, '[2]6.인구동향'!$A$9:$Y$160, 9, FALSE) -> 9867 | H29: =VLOOKUP($A29&$A$27, '[2]6.인구동향'!$A$9:$Y$160, 10, FALSE) -> 13363 | I29: =VLOOKUP($A29&$A$27, '[2]6.인구동향'!$A$9:$Y$160, 11, FALSE) -> 5375 | J29: =B29/'4.세대및 인구'!$H29*1000 -> 7.6344302 | K29: =E29/'4.세대및 인구'!$H29*1000 -> 7.7684845 | L29: =H29/'4.세대및 인구'!$H29*1000 -> 4.9485298
A30: 2017 | B30: =VLOOKUP($A30&$A$27, '[2]6.인구동향'!$A$9:$Y$160, 4, FALSE) -> 17957 | C30: =VLOOKUP($A30&$A$27, '[2]6.인구동향'!$A$9:$Y$160, 5, FALSE) -> 9253 | D30: =VLOOKUP($A30&$A$27, '[2]6.인구동향'!$A$9:$Y$160, 6, FALSE) -> 8704 | E30: =VLOOKUP($A30&$A$27, '[2]6.인구동향'!$A$9:$Y$160, 7, FALSE) -> 21278 | F30: =VLOOKUP($A30&$A$27, '[2]6.인구동향'!$A$9:$Y$160, 8, FALSE) -> 11348 | G30: =VLOOKUP($A30&$A$27, '[2]6.인구동향'!$A$9:$Y$160, 9, FALSE) -> 9930 | H30: =VLOOKUP($A30&$A$27, '[2]6.인구동향'!$A$9:$Y$160, 10, FALSE) -> 12190 | I30: =VLOOKUP($A30&$A$27, '[2]6.인구동향'!$A$9:$Y$160, 11, FALSE) -> 5505 | J30: =B30/'4.세대및 인구'!$H30*1000 -> 6.6712338 | K30: =E30/'4.세대및 인구'!$H30*1000 -> 7.9050238 | L30: =H30/'4.세대및 인구'!$H30*1000 -> 4.5287264
A31: 2018 | B31: =VLOOKUP($A31&$A$27, '[2]6.인구동향'!$A$9:$Y$160, 4, FALSE) -> 16079 | C31: =VLOOKUP($A31&$A$27, '[2]6.인구동향'!$A$9:$Y$160, 5, FALSE) -> 8385 | D31: =VLOOKUP($A31&$A$27, '[2]6.인구동향'!$A$9:$Y$160, 6, FALSE) -> 7694 | E31: =VLOOKUP($A31&$A$27, '[2]6.인구동향'!$A$9:$Y$160, 7, FALSE) -> 22289 | F31: =VLOOKUP($A31&$A$27, '[2]6.인구동향'!$A$9:$Y$160, 8, FALSE) -> 11742 | G31: =VLOOKUP($A31&$A$27, '[2]6.인구동향'!$A$9:$Y$160, 9, FALSE) -> 10547 | H31: =VLOOKUP($A31&$A$27, '[2]6.인구동향'!$A$9:$Y$160, 10, FALSE) -> 11687 | I31: =VLOOKUP($A31&$A$27, '[2]6.인구동향'!$A$9:$Y$160, 11, FALSE) -> 5620 | J31: =B31/'4.세대및 인구'!$H31*1000 -> 6.0067296 | K31: =E31/'4.세대및 인구'!$H31*1000 -> 8.326637 | L31: =H31/'4.세대및 인구'!$H31*1000 -> 4.3659835
A32: 2019 | B32: =VLOOKUP($A32&$A$27, '[2]6.인구동향'!$A$9:$Y$160, 4, FALSE) -> 14472 | C32: =VLOOKUP($A32&$A$27, '[2]6.인구동향'!$A$9:$Y$160, 5, FALSE) -> 7371 | D32: =VLOOKUP($A32&$A$27, '[2]6.인구동향'!$A$9:$Y$160, 6, FALSE) -> 7101 | E32: =VLOOKUP($A32&$A$27, '[2]6.인구동향'!$A$9:$Y$160, 7, FALSE) -> 21703 | F32: =VLOOKUP($A32&$A$27, '[2]6.인구동향'!$A$9:$Y$160, 8, FALSE) -> 11389 | G32: =VLOOKUP($A32&$A$27, '[2]6.인구동향'!$A$9:$Y$160, 9, FALSE) -> 10314 | H32: =VLOOKUP($A32&$A$27, '[2]6.인구동향'!$A$9:$Y$160, 10, FALSE) -> 10637 | I32: =VLOOKUP($A32&$A$27, '[2]6.인구동향'!$A$9:$Y$160, 11, FALSE) -> 5635 | J32: =B32/'4.세대및 인구'!$H32*1000 -> 5.428691 | K32: =E32/'4.세대및 인구'!$H32*1000 -> 8.141161 | L32: =H32/'4.세대및 인구'!$H32*1000 -> 3.9901179
A33: 2020 | B33: =VLOOKUP($A33&$A$27, '[2]6.인구동향'!$A$9:$Y$160, 4, FALSE) -> 12873 | C33: =VLOOKUP($A33&$A$27, '[2]6.인구동향'!$A$9:$Y$160, 5, FALSE) -> 6573 | D33: =VLOOKUP($A33&$A$27, '[2]6.인구동향'!$A$9:$Y$160, 6, FALSE) -> 6300 | E33: =VLOOKUP($A33&$A$27, '[2]6.인구동향'!$A$9:$Y$160, 7, FALSE) -> 22799 | F33: =VLOOKUP($A33&$A$27, '[2]6.인구동향'!$A$9:$Y$160, 8, FALSE) -> 12007 | G33: =VLOOKUP($A33&$A$27, '[2]6.인구동향'!$A$9:$Y$160, 9, FALSE) -> 10792 | H33: =VLOOKUP($A33&$A$27, '[2]6.인구동향'!$A$9:$Y$160, 10, FALSE) -> 9046 | I33: =VLOOKUP($A33&$A$27, '[2]6.인구동향'!$A$9:$Y$160, 11, FALSE) -> 5553 | J33: =B33/'4.세대및 인구'!$H33*1000 -> 4.8772042 | K33: =E33/'4.세대및 인구'!$H33*1000 -> 8.637876 | L33: =H33/'4.세대및 인구'!$H33*1000 -> 3.4272655
A34: 2021 | B34: 12045 | C34: 6105 | D34: 5940 | E34: 22928 | F34: 11903 | G34: 11025 | H34: 8163 | I34: 5097 | J34: =B34/'4.세대및 인구'!$H34*1000 -> 4.5857606 | K34: =E34/'4.세대및 인구'!$H34*1000 -> 8.7291257 | L34: =H34/'4.세대및 인구'!$H34*1000 -> 3.1078093
A36: 자료: 대구통계연보, 경북통계연보

Sheet 6-1.인구이동
A1: [목록]으로
A2: 6-1. 인구 이동
P3: 단위:명, %
B4: 총 이 동 | H4: 시 도 내 | R4: 시 도 간 | X4: 순 이 동 | AA4: 대경권 이동
B5: 전 입 | E5: 전 출 | H5: 시.군.구내 | K5: 시.군.구간 | R5: 전 입 | U5: 전 출
C6: 남 | D6: 여 | F6: 남 | G6: 여 | I6: 남 | J6: 여 | K6: 전 입 | N6: 전 출 | S6: 남 | T6: 여 | V6: 남 | W6: 여 | Y6: 남 | Z6: 여 | AA6: 이동(경북 →대구) | AB6: 이동(대구 →경북) | AC6: 순이동
L7: 남 | M7: 여 | O7: 남 | P7: 여
A9: 대경권 | Q9: 대경권
A10: 2015 | B10: =SUM(B19,B28) -> 696154 | C10: =SUM(C19,C28) -> 354834 | D10: =SUM(D19,D28) -> 341320 | E10: =SUM(E19,E28) -> 709671 | F10: =SUM(F19,F28) -> 361376 | G10: =SUM(G19,G28) -> 348295 | H10: =SUM(H19,H28) -> 279384 | I10: =SUM(I19,I28) -> 139639 | ... P10: =SUM(P19,P28) -> 93575 | Q10: 2015 | R10: =SUM(R19,R28) -> 227860 | S10: =SUM(S19,S28) -> 119860 | T10: =SUM(T19,T28) -> 108000 | U10: =SUM(U19,U28) -> 241377 | V10: =SUM(V19,V28) -> 126402 | W10: =SUM(W19,W28) -> 114975 | X10: =SUM(X19,X28) -> -13517 | Y10: =SUM(Y19,Y28) -> -6542 | Z10: =SUM(Z19,Z28) -> -6975 | AA10: =AA19 -> 43828 | AB10: =AB28 -> 46900 | AC10: (±)3,072
A11: 2016 | B11: =SUM(B20,B29) -> 643880 | C11: =SUM(C20,C29) -> 330549 | D11: =SUM(D20,D29) -> 313331 | E11: =SUM(E20,E29) -> 656291 | F11: =SUM(F20,F29) -> 336322 | G11: =SUM(G20,G29) -> 319969 | H11: =SUM(H20,H29) -> 252315 | I11: =SUM(I20,I29) -> 126520 | ... P11: =SUM(P20,P29) -> 89459 | Q11: 2016 | R11: =SUM(R20,R29) -> 209804 | S11: =SUM(S20,S29) -> 111727 | T11: =SUM(T20,T29) -> 98077 | U11: =SUM(U20,U29) -> 222215 | V11: =SUM(V20,V29) -> 117500 | W11: =SUM(W20,W29) -> 104715 | X11: =SUM(X20,X29) -> -12411 | Y11: =SUM(Y20,Y29) -> -5773 | Z11: =SUM(Z20,Z29) -> -6638 | AA11: =AA20 -> 39505 | AB11: =AB29 -> 41444 | AC11: (±)1,939
A12: 2017 | B12: =SUM(B21,B30) -> 632243 | C12: =SUM(C21,C30) -> 325083 | D12: =SUM(D21,D30) -> 307160 | E12: =SUM(E21,E30) -> 649760 | F12: =SUM(F21,F30) -> 333805 | G12: =SUM(G21,G30) -> 315955 | H12: =SUM(H21,H30) -> 251324 | I12: =SUM(I21,I30) -> 126034 | ... P12: =SUM(P21,P30) -> 87396 | Q12: 2017 | R12: =SUM(R21,R30) -> 202865 | S12: =SUM(S21,S30) -> 108391 | T12: =SUM(T21,T30) -> 94474 | U12: =SUM(U21,U30) -> 220382 | V12: =SUM(V21,V30) -> 117113 | W12: =SUM(W21,W30) -> 103269 | X12: =SUM(X21,X30) -> -17517 | Y12: =SUM(Y21,Y30) -> -8722 | Z12: =SUM(Z21,Z30) -> -8795 | AA12: =AA21 -> 39231 | AB12: =AB30 -> 41714 | AC12: (±)2,483
A13: 2018 | B13: =SUM(B22,B31) -> 630604 | C13: =SUM(C22,C31) -> 322904 | D13: =SUM(D22,D31) -> 307700 | E13: =SUM(E22,E31) -> 654071 | F13: =SUM(F22,F31) -> 334168 | G13: =SUM(G22,G31) -> 319903 | H13: =SUM(H22,H31) -> 251655 | I13: =SUM(I22,I31) -> 125674 | ... P13: =SUM(P22,P31) -> 86923 | Q13: 2018 | R13: =SUM(R22,R31) -> 202828 | S13: =SUM(S22,S31) -> 108032 | T13: =SUM(T22,T31) -> 94796 | U13: =SUM(U22,U31) -> 226295 | V13: =SUM(V22,V31) -> 119296 | W13: =SUM(W22,W31) -> 106999 | X13: =SUM(X22,X31) -> -23467 | Y13: =SUM(Y22,Y31) -> -11264 | Z13: =SUM(Z22,Z31) -> -12203 | AA13: =AA22 -> 40245 | AB13: =AB31 -> 42744 | AC13: (±)2,499
A14: 2019 | B14: =SUM(B23,B32) -> 618930 | C14: =SUM(C23,C32) -> 318449 | D14: =SUM(D23,D32) -> 300481 | E14: =SUM(E23,E32) -> 647174 | F14: =SUM(F23,F32) -> 332764 | G14: =SUM(G23,G32) -> 314410 | H14: =SUM(H23,H32) -> 244050 | I14: =SUM(I23,I32) -> 122748 | ... P14: =SUM(P23,P32) -> 85127 | Q14: 2019 | R14: =SUM(R23,R32) -> 202062 | S14: =SUM(S23,S32) -> 108010 | T14: =SUM(T23,T32) -> 94052 | U14: =SUM(U23,U32) -> 230306 | V14: =SUM(V23,V32) -> 122325 | W14: =SUM(W23,W32) -> 107981 | X14: =SUM(X23,X32) -> -28244 | Y14: =SUM(Y23,Y32) -> -14315 | Z14: =SUM(Z23,Z32) -> -13929 | AA14: =AA23 -> 38513 | AB14: =AB32 -> 45417 | AC14: (±)6,904
A15: 2020 | B15: =SUM(B24,B33) -> 664949 | C15: =SUM(C24,C33) -> 340966 | D15: =SUM(D24,D33) -> 323983 | E15: =SUM(E24,E33) -> 698762 | F15: =SUM(F24,F33) -> 358466 | G15: =SUM(G24,G33) -> 340296 | H15: =SUM(H24,H33) -> 261823 | I15: =SUM(I24,I33) -> 131684 | ... P15: =SUM(P24,P33) -> 93898 | Q15: 2020 | R15: =SUM(R24,R33) -> 212403 | S15: =SUM(S24,S33) -> 112457 | T15: =SUM(T24,T33) -> 99946 | U15: =SUM(U24,U33) -> 246216 | V15: =SUM(V24,V33) -> 129957 | W15: =SUM(W24,W33) -> 116259 | X15: =SUM(X24,X33) -> -33813 | Y15: =SUM(Y24,Y33) -> -17500 | Z15: =SUM(Z24,Z33) -> -16313 | AA15: =AA24 -> 44383 | AB15: =AB33 -> 45117 | AC15: (±)734
A16: 2021 | B16: =SUM(B25,B34) -> 622627 | C16: =SUM(C25,C34) -> 321899 | D16: =SUM(D25,D34) -> 300728 | E16: =SUM(E25,E34) -> 643609 | F16: =SUM(F25,F34) -> 332507 | G16: =SUM(G25,G34) -> 311102 | H16: =SUM(H25,H34) -> 237234 | I16: =SUM(I25,I34) -> 119037 | ... P16: =SUM(P25,P34) -> 83712 | Q16: 2021 | R16: =SUM(R25,R34) -> 213532 | S16: =SUM(S25,S34) -> 114713 | T16: =SUM(T25,T34) -> 98819 | U16: =SUM(U25,U34) -> 234514 | V16: =SUM(V25,V34) -> 125321 | W16: =SUM(W25,W34) -> 109193 | X16: =SUM(X25,X34) -> -20982 | Y16: =SUM(Y25,Y34) -> -10608 | Z16: =SUM(Z25,Z34) -> -10374 | AA16: =AA25 -> 38560 | AB16: =AB34 -> 47632 | AC16: (±)9,072
A18: 대구광역시 | Q18: 대구광역시
A19: 2015 | B19: =VLOOKUP($A19&$A$18, '[1]6-1.인구이동'!$A$9:$AG$71, 4, FALSE) -> 351424 | C19: =VLOOKUP($A19&$A$18, '[1]6-1.인구이동'!$A$9:$AG$71, 5, FALSE) -> 176771 | D19: =VLOOKUP($A19&$A$18, '[1]6-1.인구이동'!$A$9:$AG$71, 6, FALSE) -> 174653 | E19: =VLOOKUP($A19&$A$18, '[1]6-1.인구이동'!$A$9:$AG$71, 7, FALSE) -> 364364 | F19: =VLOOKUP($A19&$A$18, '[1]6-1.인구이동'!$A$9:$AG$71, 8, FALSE) -> 183931 | G19: =VLOOKUP($A19&$A$18, '[1]6-1.인구이동'!$A$9:$AG$71, 9, FALSE) -> 180433 | H19: =VLOOKUP($A19&$A$18, '[1]6-1.인구이동'!$A$9:$AG$71, 10, FALSE) -> 130786 | I19: =VLOOKUP($A19&$A$18, '[1]6-1.인구이동'!$A$9:$AG$71, 11, FALSE) -> 64538 | J19: =VLOOKUP($A19&$A$18, '[1]6-1.인구이동'!$A$9:$AG$71, 12, FALSE) -> 66248 | K19: =VLOOKUP($A19&$A$18, '[1]6-1.인구이동'!$A$9:$AG$71, 13, FALSE) -> 128399 | L19: =VLOOKUP($A19&$A$18, '[1]6-1.인구이동'!$A$9:$AG$71, 14, FALSE) -> 64245 | M19: =VLOOKUP($A19&$A$18, '[1]6-1.인구이동'!$A$9:$AG$71, 15, FALSE) -> 64154 | N19: =VLOOKUP($A19&$A$18, '[1]6-1.인구이동'!$A$9:$AG$71, 16, FALSE) -> 128399 | O19: =VLOOKUP($A19&$A$18, '[1]6-1.인구이동'!$A$9:$AG$71, 17, FALSE) -> 64245 | P19: =VLOOKUP($A19&$A$18, '[1]6-1.인구이동'!$A$9:$AG$71, 18, FALSE) -> 64154 | Q19: 2015 | R19: =VLOOKUP($A19&$A$18, '[1]6-1.인구이동'!$A$9:$AG$71, 19, FALSE) -> 92239 | S19: =VLOOKUP($A19&$A$18, '[1]6-1.인구이동'!$A$9:$AG$71, 20, FALSE) -> 47988 | T19: =VLOOKUP($A19&$A$18, '[1]6-1.인구이동'!$A$9:$AG$71, 21, FALSE) -> 44251 | U19: =VLOOKUP($A19&$A$18, '[1]6-1.인구이동'!$A$9:$AG$71, 22, FALSE) -> 105179 | V19: =VLOOKUP($A19&$A$18, '[1]6-1.인구이동'!$A$9:$AG$71, 23, FALSE) -> 55148 | W19: =VLOOKUP($A19&$A$18, '[1]6-1.인구이동'!$A$9:$AG$71, 24, FALSE) -> 50031 | X19: =VLOOKUP($A19&$A$18, '[1]6-1.인구이동'!$A$9:$AG$71, 25, FALSE) -> -12940 | Y19: =VLOOKUP($A19&$A$18, '[1]6-1.인구이동'!$A$9:$AG$71, 26, FALSE) -> -7160 | Z19: =VLOOKUP($A19&$A$18, '[1]6-1.인구이동'!$A$9:$AG$71, 27, FALSE) -> -5780 | AA19: =VLOOKUP($A19&$A$18, '[1]6-1.인구이동'!$A$9:$AG$71, 28, FALSE) -> 43828 | AC19: =AA19-AB28 -> -3072
A20: 2016 | B20: =VLOOKUP($A20&$A$18, '[1]6-1.인구이동'!$A$9:$AG$71, 4, FALSE) -> 328228 | C20: =VLOOKUP($A20&$A$18, '[1]6-1.인구이동'!$A$9:$AG$71, 5, FALSE) -> 165878 | D20: =VLOOKUP($A20&$A$18, '[1]6-1.인구이동'!$A$9:$AG$71, 6, FALSE) -> 162350 | E20: =VLOOKUP($A20&$A$18, '[1]6-1.인구이동'!$A$9:$AG$71, 7, FALSE) -> 337488 | F20: =VLOOKUP($A20&$A$18, '[1]6-1.인구이동'!$A$9:$AG$71, 8, FALSE) -> 171344 | G20: =VLOOKUP($A20&$A$18, '[1]6-1.인구이동'!$A$9:$AG$71, 9, FALSE) -> 166144 | H20: =VLOOKUP($A20&$A$18, '[1]6-1.인구이동'!$A$9:$AG$71, 10, FALSE) -> 113566 | I20: =VLOOKUP($A20&$A$18, '[1]6-1.인구이동'!$A$9:$AG$71, 11, FALSE) -> 56248 | J20: =VLOOKUP($A20&$A$18, '[1]6-1.인구이동'!$A$9:$AG$71, 12, FALSE) -> 57318 | K20: =VLOOKUP($A20&$A$18, '[1]6-1.인구이동'!$A$9:$AG$71, 13, FALSE) -> 127156 | L20: =VLOOKUP($A20&$A$18, '[1]6-1.인구이동'!$A$9:$AG$71, 14, FALSE) -> 63771 | M20: =VLOOKUP($A20&$A$18, '[1]6-1.인구이동'!$A$9:$AG$71, 15, FALSE) -> 63385 | N20: =VLOOKUP($A20&$A$18, '[1]6-1.인구이동'!$A$9:$AG$71, 16, FALSE) -> 127156 | O20: =VLOOKUP($A20&$A$18, '[1]6-1.인구이동'!$A$9:$AG$71, 17, FALSE) -> 63771 | P20: =VLOOKUP($A20&$A$18, '[1]6-1.인구이동'!$A$9:$AG$71, 18, FALSE) -> 63385 | Q20: 2016 | R20: =VLOOKUP($A20&$A$18, '[1]6-1.인구이동'!$A$9:$AG$71, 19, FALSE) -> 87506 | S20: =VLOOKUP($A20&$A$18, '[1]6-1.인구이동'!$A$9:$AG$71, 20, FALSE) -> 45859 | T20: =VLOOKUP($A20&$A$18, '[1]6-1.인구이동'!$A$9:$AG$71, 21, FALSE) -> 41647 | U20: =VLOOKUP($A20&$A$18, '[1]6-1.인구이동'!$A$9:$AG$71, 22, FALSE) -> 96766 | V20: =VLOOKUP($A20&$A$18, '[1]6-1.인구이동'!$A$9:$AG$71, 23, FALSE) -> 51325 | W20: =VLOOKUP($A20&$A$18, '[1]6-1.인구이동'!$A$9:$AG$71, 24, FALSE) -> 45441 | X20: =VLOOKUP($A20&$A$18, '[1]6-1.인구이동'!$A$9:$AG$71, 25, FALSE) -> -9260 | Y20: =VLOOKUP($A20&$A$18, '[1]6-1.인구이동'!$A$9:$AG$71, 26, FALSE) -> -5466 | Z20: =VLOOKUP($A20&$A$18, '[1]6-1.인구이동'!$A$9:$AG$71, 27, FALSE) -> -3794 | AA20: =VLOOKUP($A20&$A$18, '[1]6-1.인구이동'!$A$9:$AG$71, 28, FALSE) -> 39505 | AC20: =AA20-AB29 -> -1939
A21: 2017 | B21: =VLOOKUP($A21&$A$18, '[1]6-1.인구이동'!$A$9:$AG$71, 4, FALSE) -> 321182 | C21: =VLOOKUP($A21&$A$18, '[1]6-1.인구이동'!$A$9:$AG$71, 5, FALSE) -> 162228 | D21: =VLOOKUP($A21&$A$18, '[1]6-1.인구이동'!$A$9:$AG$71, 6, FALSE) -> 158954 | E21: =VLOOKUP($A21&$A$18, '[1]6-1.인구이동'!$A$9:$AG$71, 7, FALSE) -> 333118 | F21: =VLOOKUP($A21&$A$18, '[1]6-1.인구이동'!$A$9:$AG$71, 8, FALSE) -> 169443 | G21: =VLOOKUP($A21&$A$18, '[1]6-1.인구이동'!$A$9:$AG$71, 9, FALSE) -> 163675 | H21: =VLOOKUP($A21&$A$18, '[1]6-1.인구이동'!$A$9:$AG$71, 10, FALSE) -> 110696 | I21: =VLOOKUP($A21&$A$18, '[1]6-1.인구이동'!$A$9:$AG$71, 11, FALSE) -> 54725 | J21: =VLOOKUP($A21&$A$18, '[1]6-1.인구이동'!$A$9:$AG$71, 12, FALSE) -> 55971 | K21: =VLOOKUP($A21&$A$18, '[1]6-1.인구이동'!$A$9:$AG$71, 13, FALSE) -> 125447 | L21: =VLOOKUP($A21&$A$18, '[1]6-1.인구이동'!$A$9:$AG$71, 14, FALSE) -> 63063 | M21: =VLOOKUP($A21&$A$18, '[1]6-1.인구이동'!$A$9:$AG$71, 15, FALSE) -> 62384 | N21: =VLOOKUP($A21&$A$18, '[1]6-1.인구이동'!$A$9:$AG$71, 16, FALSE) -> 125447 | O21: =VLOOKUP($A21&$A$18, '[1]6-1.인구이동'!$A$9:$AG$71, 17, FALSE) -> 63063 | P21: =VLOOKUP($A21&$A$18, '[1]6-1.인구이동'!$A$9:$AG$71, 18, FALSE) -> 62384 | Q21: 2017 | R21: =VLOOKUP($A21&$A$18, '[1]6-1.인구이동'!$A$9:$AG$71, 19, FALSE) -> 85039 | S21: =VLOOKUP($A21&$A$18, '[1]6-1.인구이동'!$A$9:$AG$71, 20, FALSE) -> 44440 | T21: =VLOOKUP($A21&$A$18, '[1]6-1.인구이동'!$A$9:$AG$71, 21, FALSE) -> 40599 | U21: =VLOOKUP($A21&$A$18, '[1]6-1.인구이동'!$A$9:$AG$71, 22, FALSE) -> 96975 | V21: =VLOOKUP($A21&$A$18, '[1]6-1.인구이동'!$A$9:$AG$71, 23, FALSE) -> 51655 | W21: =VLOOKUP($A21&$A$18, '[1]6-1.인구이동'!$A$9:$AG$71, 24, FALSE) -> 45320 | X21: =VLOOKUP($A21&$A$18, '[1]6-1.인구이동'!$A$9:$AG$71, 25, FALSE) -> -11936 | Y21: =VLOOKUP($A21&$A$18, '[1]6-1.인구이동'!$A$9:$AG$71, 26, FALSE) -> -7215 | Z21: =VLOOKUP($A21&$A$18, '[1]6-1.인구이동'!$A$9:$AG$71, 27, FALSE) -> -4721 | AA21: =VLOOKUP($A21&$A$18, '[1]6-1.인구이동'!$A$9:$AG$71, 28, FALSE) -> 39231 | AC21: =AA21-AB30 -> -2483
A22: 2018 | B22: =VLOOKUP($A22&$A$18, '[1]6-1.인구이동'!$A$9:$AG$71, 4, FALSE) -> 321158 | C22: =VLOOKUP($A22&$A$18, '[1]6-1.인구이동'!$A$9:$AG$71, 5, FALSE) -> 161517 | D22: =VLOOKUP($A22&$A$18, '[1]6-1.인구이동'!$A$9:$AG$71, 6, FALSE) -> 159641 | E22: =VLOOKUP($A22&$A$18, '[1]6-1.인구이동'!$A$9:$AG$71, 7, FALSE) -> 335400 | F22: =VLOOKUP($A22&$A$18, '[1]6-1.인구이동'!$A$9:$AG$71, 8, FALSE) -> 169676 | G22: =VLOOKUP($A22&$A$18, '[1]6-1.인구이동'!$A$9:$AG$71, 9, FALSE) -> 165724 | H22: =VLOOKUP($A22&$A$18, '[1]6-1.인구이동'!$A$9:$AG$71, 10, FALSE) -> 113477 | I22: =VLOOKUP($A22&$A$18, '[1]6-1.인구이동'!$A$9:$AG$71, 11, FALSE) -> 55837 | J22: =VLOOKUP($A22&$A$18, '[1]6-1.인구이동'!$A$9:$AG$71, 12, FALSE) -> 57640 | K22: =VLOOKUP($A22&$A$18, '[1]6-1.인구이동'!$A$9:$AG$71, 13, FALSE) -> 122144 | L22: =VLOOKUP($A22&$A$18, '[1]6-1.인구이동'!$A$9:$AG$71, 14, FALSE) -> 61015 | M22: =VLOOKUP($A22&$A$18, '[1]6-1.인구이동'!$A$9:$AG$71, 15, FALSE) -> 61129 | N22: =VLOOKUP($A22&$A$18, '[1]6-1.인구이동'!$A$9:$AG$71, 16, FALSE) -> 122144 | O22: =VLOOKUP($A22&$A$18, '[1]6-1.인구이동'!$A$9:$AG$71, 17, FALSE) -> 61015 | P22: =VLOOKUP($A22&$A$18, '[1]6-1.인구이동'!$A$9:$AG$71, 18, FALSE) -> 61129 | Q22: 2018 | R22: =VLOOKUP($A22&$A$18, '[1]6-1.인구이동'!$A$9:$AG$71, 19, FALSE) -> 85537 | S22: =VLOOKUP($A22&$A$18, '[1]6-1.인구이동'!$A$9:$AG$71, 20, FALSE) -> 44665 | T22: =VLOOKUP($A22&$A$18, '[1]6-1.인구이동'!$A$9:$AG$71, 21, FALSE) -> 40872 | U22: =VLOOKUP($A22&$A$18, '[1]6-1.인구이동'!$A$9:$AG$71, 22, FALSE) -> 99779 | V22: =VLOOKUP($A22&$A$18, '[1]6-1.인구이동'!$A$9:$AG$71, 23, FALSE) -> 52824 | W22: =VLOOKUP($A22&$A$18, '[1]6-1.인구이동'!$A$9:$AG$71, 24, FALSE) -> 46955 | X22: =VLOOKUP($A22&$A$18, '[1]6-1.인구이동'!$A$9:$AG$71, 25, FALSE) -> -14242 | Y22: =VLOOKUP($A22&$A$18, '[1]6-1.인구이동'!$A$9:$AG$71, 26, FALSE) -> -8159 | Z22: =VLOOKUP($A22&$A$18, '[1]6-1.인구이동'!$A$9:$AG$71, 27, FALSE) -> -6083 | AA22: =VLOOKUP($A22&$A$18, '[1]6-1.인구이동'!$A$9:$AG$71, 28, FALSE) -> 40245 | AC22: =AA22-AB31 -> -2499
A23: 2019 | B23: =VLOOKUP($A23&$A$18, '[1]6-1.인구이동'!$A$9:$AG$71, 4, FALSE) -> 312419 | C23: =VLOOKUP($A23&$A$18, '[1]6-1.인구이동'!$A$9:$AG$71, 5, FALSE) -> 157380 | D23: =VLOOKUP($A23&$A$18, '[1]6-1.인구이동'!$A$9:$AG$71, 6, FALSE) -> 155039 | E23: =VLOOKUP($A23&$A$18, '[1]6-1.인구이동'!$A$9:$AG$71, 7, FALSE) -> 336092 | F23: =VLOOKUP($A23&$A$18, '[1]6-1.인구이동'!$A$9:$AG$71, 8, FALSE) -> 170872 | G23: =VLOOKUP($A23&$A$18, '[1]6-1.인구이동'!$A$9:$AG$71, 9, FALSE) -> 165220 | H23: =VLOOKUP($A23&$A$18, '[1]6-1.인구이동'!$A$9:$AG$71, 10, FALSE) -> 112136 | I23: =VLOOKUP($A23&$A$18, '[1]6-1.인구이동'!$A$9:$AG$71, 11, FALSE) -> 55584 | J23: =VLOOKUP($A23&$A$18, '[1]6-1.인구이동'!$A$9:$AG$71, 12, FALSE) -> 56552 | K23: =VLOOKUP($A23&$A$18, '[1]6-1.인구이동'!$A$9:$AG$71, 13, FALSE) -> 119033 | L23: =VLOOKUP($A23&$A$18, '[1]6-1.인구이동'!$A$9:$AG$71, 14, FALSE) -> 59386 | M23: =VLOOKUP($A23&$A$18, '[1]6-1.인구이동'!$A$9:$AG$71, 15, FALSE) -> 59647 | N23: =VLOOKUP($A23&$A$18, '[1]6-1.인구이동'!$A$9:$AG$71, 16, FALSE) -> 119033 | O23: =VLOOKUP($A23&$A$18, '[1]6-1.인구이동'!$A$9:$AG$71, 17, FALSE) -> 59386 | P23: =VLOOKUP($A23&$A$18, '[1]6-1.인구이동'!$A$9:$AG$71, 18, FALSE) -> 59647 | Q23: 2019 | R23: =VLOOKUP($A23&$A$18, '[1]6-1.인구이동'!$A$9:$AG$71, 19, FALSE) -> 81250 | S23: =VLOOKUP($A23&$A$18, '[1]6-1.인구이동'!$A$9:$AG$71, 20, FALSE) -> 42410 | T23: =VLOOKUP($A23&$A$18, '[1]6-1.인구이동'!$A$9:$AG$71, 21, FALSE) -> 38840 | U23: =VLOOKUP($A23&$A$18, '[1]6-1.인구이동'!$A$9:$AG$71, 22, FALSE) -> 104923 | V23: =VLOOKUP($A23&$A$18, '[1]6-1.인구이동'!$A$9:$AG$71, 23, FALSE) -> 55902 | W23: =VLOOKUP($A23&$A$18, '[1]6-1.인구이동'!$A$9:$AG$71, 24, FALSE) -> 49021 | X23: =VLOOKUP($A23&$A$18, '[1]6-1.인구이동'!$A$9:$AG$71, 25, FALSE) -> -23673 | Y23: =VLOOKUP($A23&$A$18, '[1]6-1.인구이동'!$A$9:$AG$71, 26, FALSE) -> -13492 | Z23: =VLOOKUP($A23&$A$18, '[1]6-1.인구이동'!$A$9:$AG$71, 27, FALSE) -> -10181 | AA23: =VLOOKUP($A23&$A$18, '[1]6-1.인구이동'!$A$9:$AG$71, 28, FALSE) -> 38513 | AC23: =AA23-AB32 -> -6904
A24: 2020 | B24: =VLOOKUP($A24&$A$18, '[1]6-1.인구이동'!$A$9:$AG$71, 4, FALSE) -> 347248 | C24: 174456 | D24: =VLOOKUP($A24&$A$18, '[1]6-1.인구이동'!$A$9:$AG$71, 6, FALSE) -> 172792 | E24: =VLOOKUP($A24&$A$18, '[1]6-1.인구이동'!$A$9:$AG$71, 7, FALSE) -> 364083 | F24: =VLOOKUP($A24&$A$18, '[1]6-1.인구이동'!$A$9:$AG$71, 8, FALSE) -> 184559 | G24: =VLOOKUP($A24&$A$18, '[1]6-1.인구이동'!$A$9:$AG$71, 9, FALSE) -> 179524 | H24: =VLOOKUP($A24&$A$18, '[1]6-1.인구이동'!$A$9:$AG$71, 10, FALSE) -> 122954 | I24: =VLOOKUP($A24&$A$18, '[1]6-1.인구이동'!$A$9:$AG$71, 11, FALSE) -> 60793 | J24: =VLOOKUP($A24&$A$18, '[1]6-1.인구이동'!$A$9:$AG$71, 12, FALSE) -> 62161 | K24: =VLOOKUP($A24&$A$18, '[1]6-1.인구이동'!$A$9:$AG$71, 13, FALSE) -> 133114 | L24: =VLOOKUP($A24&$A$18, '[1]6-1.인구이동'!$A$9:$AG$71, 14, FALSE) -> 66502 | M24: =VLOOKUP($A24&$A$18, '[1]6-1.인구이동'!$A$9:$AG$71, 15, FALSE) -> 66612 | N24: =VLOOKUP($A24&$A$18, '[1]6-1.인구이동'!$A$9:$AG$71, 16, FALSE) -> 133114 | O24: =VLOOKUP($A24&$A$18, '[1]6-1.인구이동'!$A$9:$AG$71, 17, FALSE) -> 66502 | P24: =VLOOKUP($A24&$A$18, '[1]6-1.인구이동'!$A$9:$AG$71, 18, FALSE) -> 66612 | Q24: 2020 | R24: =VLOOKUP($A24&$A$18, '[1]6-1.인구이동'!$A$9:$AG$71, 19, FALSE) -> 91180 | S24: =VLOOKUP($A24&$A$18, '[1]6-1.인구이동'!$A$9:$AG$71, 20, FALSE) -> 47161 | T24: =VLOOKUP($A24&$A$18, '[1]6-1.인구이동'!$A$9:$AG$71, 21, FALSE) -> 44019 | U24: =VLOOKUP($A24&$A$18, '[1]6-1.인구이동'!$A$9:$AG$71, 22, FALSE) -> 108015 | V24: =VLOOKUP($A24&$A$18, '[1]6-1.인구이동'!$A$9:$AG$71, 23, FALSE) -> 57264 | W24: =VLOOKUP($A24&$A$18, '[1]6-1.인구이동'!$A$9:$AG$71, 24, FALSE) -> 50751 | X24: =VLOOKUP($A24&$A$18, '[1]6-1.인구이동'!$A$9:$AG$71, 25, FALSE) -> -16835 | Y24: =VLOOKUP($A24&$A$18, '[1]6-1.인구이동'!$A$9:$AG$71, 26, FALSE) -> -10103 | Z24: =VLOOKUP($A24&$A$18, '[1]6-1.인구이동'!$A$9:$AG$71, 27, FALSE) -> -6732 | AA24: =VLOOKUP($A24&$A$18, '[1]6-1.인구이동'!$A$9:$AG$71, 28, FALSE) -> 44383 | AC24: =AA24-AB33 -> -734
A25: 2021 | B25: =VLOOKUP($A25&$A$18, '[1]6-1.인구이동'!$A$9:$AG$71, 4, FALSE) -> 304761 | C25: =VLOOKUP($A25&$A$18, '[1]6-1.인구이동'!$A$9:$AG$71, 5, FALSE) -> 154355 | D25: =VLOOKUP($A25&$A$18, '[1]6-1.인구이동'!$A$9:$AG$71, 6, FALSE) -> 150406 | E25: =VLOOKUP($A25&$A$18, '[1]6-1.인구이동'!$A$9:$AG$71, 7, FALSE) -> 329080 | F25: =VLOOKUP($A25&$A$18, '[1]6-1.인구이동'!$A$9:$AG$71, 8, FALSE) -> 167339 | G25: =VLOOKUP($A25&$A$18, '[1]6-1.인구이동'!$A$9:$AG$71, 9, FALSE) -> 161741 | H25: =VLOOKUP($A25&$A$18, '[1]6-1.인구이동'!$A$9:$AG$71, 10, FALSE) -> 105699 | I25: =VLOOKUP($A25&$A$18, '[1]6-1.인구이동'!$A$9:$AG$71, 11, FALSE) -> 52242 | J25: =VLOOKUP($A25&$A$18, '[1]6-1.인구이동'!$A$9:$AG$71, 12, FALSE) -> 53457 | K25: =VLOOKUP($A25&$A$18, '[1]6-1.인구이동'!$A$9:$AG$71, 13, FALSE) -> 115986 | L25: =VLOOKUP($A25&$A$18, '[1]6-1.인구이동'!$A$9:$AG$71, 14, FALSE) -> 58155 | M25: =VLOOKUP($A25&$A$18, '[1]6-1.인구이동'!$A$9:$AG$71, 15, FALSE) -> 57831 | N25: =VLOOKUP($A25&$A$18, '[1]6-1.인구이동'!$A$9:$AG$71, 16, FALSE) -> 115986 | O25: =VLOOKUP($A25&$A$18, '[1]6-1.인구이동'!$A$9:$AG$71, 17, FALSE) -> 58155 | P25: =VLOOKUP($A25&$A$18, '[1]6-1.인구이동'!$A$9:$AG$71, 18, FALSE) -> 57831 | Q25: 2021 | R25: =VLOOKUP($A25&$A$18, '[1]6-1.인구이동'!$A$9:$AG$71, 19, FALSE) -> 83076 | S25: =VLOOKUP($A25&$A$18, '[1]6-1.인구이동'!$A$9:$AG$71, 20, FALSE) -> 43958 | T25: =VLOOKUP($A25&$A$18, '[1]6-1.인구이동'!$A$9:$AG$71, 21, FALSE) -> 39118 | U25: =VLOOKUP($A25&$A$18, '[1]6-1.인구이동'!$A$9:$AG$71, 22, FALSE) -> 107395 | V25: =VLOOKUP($A25&$A$18, '[1]6-1.인구이동'!$A$9:$AG$71, 23, FALSE) -> 56942 | W25: =VLOOKUP($A25&$A$18, '[1]6-1.인구이동'!$A$9:$AG$71, 24, FALSE) -> 50453 | X25: =VLOOKUP($A25&$A$18, '[1]6-1.인구이동'!$A$9:$AG$71, 25, FALSE) -> -24319 | Y25: =VLOOKUP($A25&$A$18, '[1]6-1.인구이동'!$A$9:$AG$71, 26, FALSE) -> -12984 | Z25: =VLOOKUP($A25&$A$18, '[1]6-1.인구이동'!$A$9:$AG$71, 27, FALSE) -> -11335 | AA25: =VLOOKUP($A25&$A$18, '[1]6-1.인구이동'!$A$9:$AG$71, 28, FALSE) -> 38560 | AC25: =AA25-AB34 -> -9072
A27: 경상북도 | Q27: 경상북도
A28: 2015 | B28: =VLOOKUP($A28&$A$27, '[2]6-1.인구이동'!$A$9:$Y$160, 4, FALSE) -> 344730 | C28: =VLOOKUP($A28&$A$27, '[2]6-1.인구이동'!$A$9:$Y$160, 5, FALSE) -> 178063 | D28: =VLOOKUP($A28&$A$27, '[2]6-1.인구이동'!$A$9:$Y$160, 6, FALSE) -> 166667 | E28: =VLOOKUP($A28&$A$27, '[2]6-1.인구이동'!$A$9:$Y$160, 7, FALSE) -> 345307 | F28: =VLOOKUP($A28&$A$27, '[2]6-1.인구이동'!$A$9:$Y$160, 8, FALSE) -> 177445 | G28: =VLOOKUP($A28&$A$27, '[2]6-1.인구이동'!$A$9:$Y$160, 9, FALSE) -> 167862 | H28: =VLOOKUP($A28&$A$27, '[2]6-1.인구이동'!$A$9:$Y$160, 10, FALSE) -> 148598 | I28: =VLOOKUP($A28&$A$27, '[2]6-1.인구이동'!$A$9:$Y$160, 11, FALSE) -> 75101 | J28: =VLOOKUP($A28&$A$27, '[2]6-1.인구이동'!$A$9:$AG$160, 12, FALSE) -> 73497 | K28: =VLOOKUP($A28&$A$27, '[2]6-1.인구이동'!$A$9:$AG$160, 13, FALSE) -> 60511 | L28: =VLOOKUP($A28&$A$27, '[2]6-1.인구이동'!$A$9:$AG$160, 14, FALSE) -> 31090 | M28: =VLOOKUP($A28&$A$27, '[2]6-1.인구이동'!$A$9:$AG$160, 15, FALSE) -> 29421 | N28: =VLOOKUP($A28&$A$27, '[2]6-1.인구이동'!$A$9:$AG$160, 16, FALSE) -> 60511 | O28: =VLOOKUP($A28&$A$27, '[2]6-1.인구이동'!$A$9:$AG$160, 17, FALSE) -> 31090 | P28: =VLOOKUP($A28&$A$27, '[2]6-1.인구이동'!$A$9:$AG$160, 18, FALSE) -> 29421 | Q28: 2015 | R28: =VLOOKUP($A28&$A$27, '[2]6-1.인구이동'!$A$9:$AG$160, 19, FALSE) -> 135621 | S28: =VLOOKUP($A28&$A$27, '[2]6-1.인구이동'!$A$9:$AG$160, 20, FALSE) -> 71872 | T28: =VLOOKUP($A28&$A$27, '[2]6-1.인구이동'!$A$9:$AG$160, 21, FALSE) -> 63749 | U28: =VLOOKUP($A28&$A$27, '[2]6-1.인구이동'!$A$9:$AG$160, 22, FALSE) -> 136198 | V28: =VLOOKUP($A28&$A$27, '[2]6-1.인구이동'!$A$9:$AG$160, 23, FALSE) -> 71254 | W28: =VLOOKUP($A28&$A$27, '[2]6-1.인구이동'!$A$9:$AG$160, 24, FALSE) -> 64944 | X28: =VLOOKUP($A28&$A$27, '[2]6-1.인구이동'!$A$9:$AG$160, 25, FALSE) -> -577 | Y28: =VLOOKUP($A28&$A$27, '[2]6-1.인구이동'!$A$9:$AG$160, 26, FALSE) -> 618 | Z28: =VLOOKUP($A28&$A$27, '[2]6-1.인구이동'!$A$9:$AG$160, 27, FALSE) -> -1195 | AB28: 46900 | AC28: =AB28-AA19 -> 3072
A29: 2016 | B29: =VLOOKUP($A29&$A$27, '[2]6-1.인구이동'!$A$9:$Y$160, 4, FALSE) -> 315652 | C29: =VLOOKUP($A29&$A$27, '[2]6-1.인구이동'!$A$9:$Y$160, 5, FALSE) -> 164671 | D29: =VLOOKUP($A29&$A$27, '[2]6-1.인구이동'!$A$9:$Y$160, 6, FALSE) -> 150981 | E29: =VLOOKUP($A29&$A$27, '[2]6-1.인구이동'!$A$9:$Y$160, 7, FALSE) -> 318803 | F29: =VLOOKUP($A29&$A$27, '[2]6-1.인구이동'!$A$9:$Y$160, 8, FALSE) -> 164978 | G29: =VLOOKUP($A29&$A$27, '[2]6-1.인구이동'!$A$9:$Y$160, 9, FALSE) -> 153825 | H29: =VLOOKUP($A29&$A$27, '[2]6-1.인구이동'!$A$9:$Y$160, 10, FALSE) -> 138749 | I29: =VLOOKUP($A29&$A$27, '[2]6-1.인구이동'!$A$9:$Y$160, 11, FALSE) -> 70272 | J29: =VLOOKUP($A29&$A$27, '[2]6-1.인구이동'!$A$9:$AG$160, 12, FALSE) -> 68477 | K29: =VLOOKUP($A29&$A$27, '[2]6-1.인구이동'!$A$9:$AG$160, 13, FALSE) -> 54605 | L29: =VLOOKUP($A29&$A$27, '[2]6-1.인구이동'!$A$9:$AG$160, 14, FALSE) -> 28531 | M29: =VLOOKUP($A29&$A$27, '[2]6-1.인구이동'!$A$9:$AG$160, 15, FALSE) -> 26074 | N29: =VLOOKUP($A29&$A$27, '[2]6-1.인구이동'!$A$9:$AG$160, 16, FALSE) -> 54605 | O29: =VLOOKUP($A29&$A$27, '[2]6-1.인구이동'!$A$9:$AG$160, 17, FALSE) -> 28531 | P29: =VLOOKUP($A29&$A$27, '[2]6-1.인구이동'!$A$9:$AG$160, 18, FALSE) -> 26074 | Q29: 2016 | R29: =VLOOKUP($A29&$A$27, '[2]6-1.인구이동'!$A$9:$AG$160, 19, FALSE) -> 122298 | S29: =VLOOKUP($A29&$A$27, '[2]6-1.인구이동'!$A$9:$AG$160, 20, FALSE) -> 65868 | T29: =VLOOKUP($A29&$A$27, '[2]6-1.인구이동'!$A$9:$AG$160, 21, FALSE) -> 56430 | U29: =VLOOKUP($A29&$A$27, '[2]6-1.인구이동'!$A$9:$AG$160, 22, FALSE) -> 125449 | V29: =VLOOKUP($A29&$A$27, '[2]6-1.인구이동'!$A$9:$AG$160, 23, FALSE) -> 66175 | W29: =VLOOKUP($A29&$A$27, '[2]6-1.인구이동'!$A$9:$AG$160, 24, FALSE) -> 59274 | X29: =VLOOKUP($A29&$A$27, '[2]6-1.인구이동'!$A$9:$AG$160, 25, FALSE) -> -3151 | Y29: =VLOOKUP($A29&$A$27, '[2]6-1.인구이동'!$A$9:$AG$160, 26, FALSE) -> -307 | Z29: =VLOOKUP($A29&$A$27, '[2]6-1.인구이동'!$A$9:$AG$160, 27, FALSE) -> -2844 | AB29: 41444 | AC29: =AB29-AA20 -> 1939
A30: 2017 | B30: =VLOOKUP($A30&$A$27, '[2]6-1.인구이동'!$A$9:$Y$160, 4, FALSE) -> 311061 | C30: =VLOOKUP($A30&$A$27, '[2]6-1.인구이동'!$A$9:$Y$160, 5, FALSE) -> 162855 | D30: =VLOOKUP($A30&$A$27, '[2]6-1.인구이동'!$A$9:$Y$160, 6, FALSE) -> 148206 | E30: =VLOOKUP($A30&$A$27, '[2]6-1.인구이동'!$A$9:$Y$160, 7, FALSE) -> 316642 | F30: =VLOOKUP($A30&$A$27, '[2]6-1.인구이동'!$A$9:$Y$160, 8, FALSE) -> 164362 | G30: =VLOOKUP($A30&$A$27, '[2]6-1.인구이동'!$A$9:$Y$160, 9, FALSE) -> 152280 | H30: =VLOOKUP($A30&$A$27, '[2]6-1.인구이동'!$A$9:$Y$160, 10, FALSE) -> 140628 | I30: =VLOOKUP($A30&$A$27, '[2]6-1.인구이동'!$A$9:$Y$160, 11, FALSE) -> 71309 | J30: =VLOOKUP($A30&$A$27, '[2]6-1.인구이동'!$A$9:$AG$160, 12, FALSE) -> 69319 | K30: =VLOOKUP($A30&$A$27, '[2]6-1.인구이동'!$A$9:$AG$160, 13, FALSE) -> 52607 | L30: =VLOOKUP($A30&$A$27, '[2]6-1.인구이동'!$A$9:$AG$160, 14, FALSE) -> 27595 | M30: =VLOOKUP($A30&$A$27, '[2]6-1.인구이동'!$A$9:$AG$160, 15, FALSE) -> 25012 | N30: =VLOOKUP($A30&$A$27, '[2]6-1.인구이동'!$A$9:$AG$160, 16, FALSE) -> 52607 | O30: =VLOOKUP($A30&$A$27, '[2]6-1.인구이동'!$A$9:$AG$160, 17, FALSE) -> 27595 | P30: =VLOOKUP($A30&$A$27, '[2]6-1.인구이동'!$A$9:$AG$160, 18, FALSE) -> 25012 | Q30: 2017 | R30: =VLOOKUP($A30&$A$27, '[2]6-1.인구이동'!$A$9:$AG$160, 19, FALSE) -> 117826 | S30: =VLOOKUP($A30&$A$27, '[2]6-1.인구이동'!$A$9:$AG$160, 20, FALSE) -> 63951 | T30: =VLOOKUP($A30&$A$27, '[2]6-1.인구이동'!$A$9:$AG$160, 21, FALSE) -> 53875 | U30: =VLOOKUP($A30&$A$27, '[2]6-1.인구이동'!$A$9:$AG$160, 22, FALSE) -> 123407 | V30: =VLOOKUP($A30&$A$27, '[2]6-1.인구이동'!$A$9:$AG$160, 23, FALSE) -> 65458 | W30: =VLOOKUP($A30&$A$27, '[2]6-1.인구이동'!$A$9:$AG$160, 24, FALSE) -> 57949 | X30: =VLOOKUP($A30&$A$27, '[2]6-1.인구이동'!$A$9:$AG$160, 25, FALSE) -> -5581 | Y30: =VLOOKUP($A30&$A$27, '[2]6-1.인구이동'!$A$9:$AG$160, 26, FALSE) -> -1507 | Z30: =VLOOKUP($A30&$A$27, '[2]6-1.인구이동'!$A$9:$AG$160, 27, FALSE) -> -4074 | AB30: 41714 | AC30: =AB30-AA21 -> 2483
A31: 2018 | B31: =VLOOKUP($A31&$A$27, '[2]6-1.인구이동'!$A$9:$Y$160, 4, FALSE) -> 309446 | C31: =VLOOKUP($A31&$A$27, '[2]6-1.인구이동'!$A$9:$Y$160, 5, FALSE) -> 161387 | D31: =VLOOKUP($A31&$A$27, '[2]6-1.인구이동'!$A$9:$Y$160, 6, FALSE) -> 148059 | E31: =VLOOKUP($A31&$A$27, '[2]6-1.인구이동'!$A$9:$Y$160, 7, FALSE) -> 318671 | F31: =VLOOKUP($A31&$A$27, '[2]6-1.인구이동'!$A$9:$Y$160, 8, FALSE) -> 164492 | G31: =VLOOKUP($A31&$A$27, '[2]6-1.인구이동'!$A$9:$Y$160, 9, FALSE) -> 154179 | H31: =VLOOKUP($A31&$A$27, '[2]6-1.인구이동'!$A$9:$Y$160, 10, FALSE) -> 138178 | I31: =VLOOKUP($A31&$A$27, '[2]6-1.인구이동'!$A$9:$Y$160, 11, FALSE) -> 69837 | J31: =VLOOKUP($A31&$A$27, '[2]6-1.인구이동'!$A$9:$AG$160, 12, FALSE) -> 68341 | K31: =VLOOKUP($A31&$A$27, '[2]6-1.인구이동'!$A$9:$AG$160, 13, FALSE) -> 53977 | L31: =VLOOKUP($A31&$A$27, '[2]6-1.인구이동'!$A$9:$AG$160, 14, FALSE) -> 28183 | M31: =VLOOKUP($A31&$A$27, '[2]6-1.인구이동'!$A$9:$AG$160, 15, FALSE) -> 25794 | N31: =VLOOKUP($A31&$A$27, '[2]6-1.인구이동'!$A$9:$AG$160, 16, FALSE) -> 53977 | O31: =VLOOKUP($A31&$A$27, '[2]6-1.인구이동'!$A$9:$AG$160, 17, FALSE) -> 28183 | P31: =VLOOKUP($A31&$A$27, '[2]6-1.인구이동'!$A$9:$AG$160, 18, FALSE) -> 25794 | Q31: 2018 | R31: =VLOOKUP($A31&$A$27, '[2]6-1.인구이동'!$A$9:$AG$160, 19, FALSE) -> 117291 | S31: =VLOOKUP($A31&$A$27, '[2]6-1.인구이동'!$A$9:$AG$160, 20, FALSE) -> 63367 | T31: =VLOOKUP($A31&$A$27, '[2]6-1.인구이동'!$A$9:$AG$160, 21, FALSE) -> 53924 | U31: =VLOOKUP($A31&$A$27, '[2]6-1.인구이동'!$A$9:$AG$160, 22, FALSE) -> 126516 | V31: =VLOOKUP($A31&$A$27, '[2]6-1.인구이동'!$A$9:$AG$160, 23, FALSE) -> 66472 | W31: =VLOOKUP($A31&$A$27, '[2]6-1.인구이동'!$A$9:$AG$160, 24, FALSE) -> 60044 | X31: =VLOOKUP($A31&$A$27, '[2]6-1.인구이동'!$A$9:$AG$160, 25, FALSE) -> -9225 | Y31: =VLOOKUP($A31&$A$27, '[2]6-1.인구이동'!$A$9:$AG$160, 26, FALSE) -> -3105 | Z31: =VLOOKUP($A31&$A$27, '[2]6-1.인구이동'!$A$9:$AG$160, 27, FALSE) -> -6120 | AB31: 42744 | AC31: =AB31-AA22 -> 2499
A32: 2019 | B32: =VLOOKUP($A32&$A$27, '[2]6-1.인구이동'!$A$9:$Y$160, 4, FALSE) -> 306511 | C32: =VLOOKUP($A32&$A$27, '[2]6-1.인구이동'!$A$9:$Y$160, 5, FALSE) -> 161069 | D32: =VLOOKUP($A32&$A$27, '[2]6-1.인구이동'!$A$9:$Y$160, 6, FALSE) -> 145442 | E32: =VLOOKUP($A32&$A$27, '[2]6-1.인구이동'!$A$9:$Y$160, 7, FALSE) -> 311082 | F32: =VLOOKUP($A32&$A$27, '[2]6-1.인구이동'!$A$9:$Y$160, 8, FALSE) -> 161892 | G32: =VLOOKUP($A32&$A$27, '[2]6-1.인구이동'!$A$9:$Y$160, 9, FALSE) -> 149190 | H32: =VLOOKUP($A32&$A$27, '[2]6-1.인구이동'!$A$9:$Y$160, 10, FALSE) -> 131914 | I32: =VLOOKUP($A32&$A$27, '[2]6-1.인구이동'!$A$9:$Y$160, 11, FALSE) -> 67164 | J32: =VLOOKUP($A32&$A$27, '[2]6-1.인구이동'!$A$9:$AG$160, 12, FALSE) -> 64750 | K32: =VLOOKUP($A32&$A$27, '[2]6-1.인구이동'!$A$9:$AG$160, 13, FALSE) -> 53785 | L32: =VLOOKUP($A32&$A$27, '[2]6-1.인구이동'!$A$9:$AG$160, 14, FALSE) -> 28305 | M32: =VLOOKUP($A32&$A$27, '[2]6-1.인구이동'!$A$9:$AG$160, 15, FALSE) -> 25480 | N32: =VLOOKUP($A32&$A$27, '[2]6-1.인구이동'!$A$9:$AG$160, 16, FALSE) -> 53785 | O32: =VLOOKUP($A32&$A$27, '[2]6-1.인구이동'!$A$9:$AG$160, 17, FALSE) -> 28305 | P32: =VLOOKUP($A32&$A$27, '[2]6-1.인구이동'!$A$9:$AG$160, 18, FALSE) -> 25480 | Q32: 2019 | R32: =VLOOKUP($A32&$A$27, '[2]6-1.인구이동'!$A$9:$AG$160, 19, FALSE) -> 120812 | S32: =VLOOKUP($A32&$A$27, '[2]6-1.인구이동'!$A$9:$AG$160, 20, FALSE) -> 65600 | T32: =VLOOKUP($A32&$A$27, '[2]6-1.인구이동'!$A$9:$AG$160, 21, FALSE) -> 55212 | U32: =VLOOKUP($A32&$A$27, '[2]6-1.인구이동'!$A$9:$AG$160, 22, FALSE) -> 125383 | V32: =VLOOKUP($A32&$A$27, '[2]6-1.인구이동'!$A$9:$AG$160, 23, FALSE) -> 66423 | W32: =VLOOKUP($A32&$A$27, '[2]6-1.인구이동'!$A$9:$AG$160, 24, FALSE) -> 58960 | X32: =VLOOKUP($A32&$A$27, '[2]6-1.인구이동'!$A$9:$AG$160, 25, FALSE) -> -4571 | Y32: =VLOOKUP($A32&$A$27, '[2]6-1.인구이동'!$A$9:$AG$160, 26, FALSE) -> -823 | Z32: =VLOOKUP($A32&$A$27, '[2]6-1.인구이동'!$A$9:$AG$160, 27, FALSE) -> -3748 | AB32: 45417 | AC32: =AB32-AA23 -> 6904
A33: 2020 | B33: =VLOOKUP($A33&$A$27, '[2]6-1.인구이동'!$A$9:$Y$160, 4, FALSE) -> 317701 | C33: =VLOOKUP($A33&$A$27, '[2]6-1.인구이동'!$A$9:$Y$160, 5, FALSE) -> 166510 | D33: =VLOOKUP($A33&$A$27, '[2]6-1.인구이동'!$A$9:$Y$160, 6, FALSE) -> 151191 | E33: =VLOOKUP($A33&$A$27, '[2]6-1.인구이동'!$A$9:$Y$160, 7, FALSE) -> 334679 | F33: =VLOOKUP($A33&$A$27, '[2]6-1.인구이동'!$A$9:$Y$160, 8, FALSE) -> 173907 | G33: =VLOOKUP($A33&$A$27, '[2]6-1.인구이동'!$A$9:$Y$160, 9, FALSE) -> 160772 | H33: =VLOOKUP($A33&$A$27, '[2]6-1.인구이동'!$A$9:$Y$160, 10, FALSE) -> 138869 | I33: =VLOOKUP($A33&$A$27, '[2]6-1.인구이동'!$A$9:$Y$160, 11, FALSE) -> 70891 | J33: =VLOOKUP($A33&$A$27, '[2]6-1.인구이동'!$A$9:$AG$160, 12, FALSE) -> 67978 | K33: =VLOOKUP($A33&$A$27, '[2]6-1.인구이동'!$A$9:$AG$160, 13, FALSE) -> 57609 | L33: =VLOOKUP($A33&$A$27, '[2]6-1.인구이동'!$A$9:$AG$160, 14, FALSE) -> 30323 | M33: =VLOOKUP($A33&$A$27, '[2]6-1.인구이동'!$A$9:$AG$160, 15, FALSE) -> 27286 | N33: =VLOOKUP($A33&$A$27, '[2]6-1.인구이동'!$A$9:$AG$160, 16, FALSE) -> 57609 | O33: =VLOOKUP($A33&$A$27, '[2]6-1.인구이동'!$A$9:$AG$160, 17, FALSE) -> 30323 | P33: =VLOOKUP($A33&$A$27, '[2]6-1.인구이동'!$A$9:$AG$160, 18, FALSE) -> 27286 | Q33: 2020 | R33: =VLOOKUP($A33&$A$27, '[2]6-1.인구이동'!$A$9:$AG$160, 19, FALSE) -> 121223 | S33: =VLOOKUP($A33&$A$27, '[2]6-1.인구이동'!$A$9:$AG$160, 20, FALSE) -> 65296 | T33: =VLOOKUP($A33&$A$27, '[2]6-1.인구이동'!$A$9:$AG$160, 21, FALSE) -> 55927 | U33: =VLOOKUP($A33&$A$27, '[2]6-1.인구이동'!$A$9:$AG$160, 22, FALSE) -> 138201 | V33: =VLOOKUP($A33&$A$27, '[2]6-1.인구이동'!$A$9:$AG$160, 23, FALSE) -> 72693 | W33: =VLOOKUP($A33&$A$27, '[2]6-1.인구이동'!$A$9:$AG$160, 24, FALSE) -> 65508 | X33: =VLOOKUP($A33&$A$27, '[2]6-1.인구이동'!$A$9:$AG$160, 25, FALSE) -> -16978 | Y33: =VLOOKUP($A33&$A$27, '[2]6-1.인구이동'!$A$9:$AG$160, 26, FALSE) -> -7397 | Z33: =VLOOKUP($A33&$A$27, '[2]6-1.인구이동'!$A$9:$AG$160, 27, FALSE) -> -9581 | AB33: 45117 | AC33: =AB33-AA24 -> 734
A34: 2021 | B34: 317866 | C34: 167544 | D34: 150322 | E34: 314529 | F34: 165168 | G34: 149361 | H34: 131535 | I34: 66795 | J34: 64740 | K34: 55875 | L34: 29994 | M34: 25881 | N34: 55875 | O34: 29994 | P34: 25881 | Q34: 2021 | R34: 130456 | S34: 70755 | T34: 59701 | U34: 127119 | V34: 68379 | W34: 58740 | X34: 3337 | Y34: 2376 | Z34: 961 | AB34: 47632 | AC34: =AB34-AA25 -> 9072
A36: 자료: 대구통계연보, 경북통계연보

Sheet 7.가구원수별 가구
A1: [목록]으로
A2: 7. 가구원수별 가구 (일반가구)
M4: 단위:가구, 명
B5: 일반가구 | C5: 가 구 원 수 별 가 구 | J5: 평균 가구원수 | K5: 1인 가구 비율 | L5: 고령자가구(65세 이상 1인가구) | M5: 독거노인 가구 비율
C6: 1인 | D6: 2인 | E6: 3인 | F6: 4인 | G6: 5인 | H6: 6인 | I6: 7인 이상
A9: 대경권
A10: 2015 | B10: =SUM(B19,B28) -> 1991252 | C10: =SUM(C19,C28) -> 562086 | D10: =SUM(D19,D28) -> 560322 | E10: =SUM(E19,E28) -> 416190 | F10: =SUM(F19,F28) -> 340622 | G10: =SUM(G19,G28) -> 86232 | H10: =SUM(H19,H28) -> 19942 | I10: =SUM(I19,I28) -> 5858 | J10: 1.3375577 | K10: =C10/B10*100 -> 28.227768 | L10: =SUM(L19,L28) -> 164900 | M10: =L10/B10*100 -> 8.2812221
A11: 2016 | B11: =SUM(B20,B29) -> 2012334 | C11: =SUM(C20,C29) -> 583991 | D11: =SUM(D20,D29) -> 565861 | E11: =SUM(E20,E29) -> 418458 | F11: =SUM(F20,F29) -> 335524 | G11: =SUM(G20,G29) -> 83772 | H11: =SUM(H20,H29) -> 19076 | I11: =SUM(I20,I29) -> 5652 | J11: 1.2881451 | K11: =C11/B11*100 -> 29.02058 | L11: =SUM(L20,L29) -> 174170 | M11: =L11/B11*100 -> 8.6551239
A12: 2017 | B12: =SUM(B21,B30) -> 2035837 | C12: =SUM(C21,C30) -> 606523 | D12: =SUM(D21,D30) -> 584120 | E12: =SUM(E21,E30) -> 417806 | F12: =SUM(F21,F30) -> 325059 | G12: =SUM(G21,G30) -> 79710 | H12: =SUM(H21,H30) -> 17669 | I12: =SUM(I21,I30) -> 4950 | J12: 1.1575041 | K12: =C12/B12*100 -> 29.792316 | L12: =SUM(L21,L30) -> 183993 | M12: =L12/B12*100 -> 9.0377078
A13: 2018 | B13: =SUM(B22,B31) -> 2052050 | C13: =SUM(C22,C31) -> 623605 | D13: =SUM(D22,D31) -> 600431 | E13: =SUM(E22,E31) -> 416211 | F13: =SUM(F22,F31) -> 315499 | G13: =SUM(G22,G31) -> 75801 | H13: =SUM(H22,H31) -> 16078 | I13: =SUM(I22,I31) -> 4425 | J13: 1.0715925 | K13: =C13/B13*100 -> 30.389367 | L13: =SUM(L22,L31) -> 192852 | M13: =L13/B13*100 -> 9.3980166
A14: 2019 | B14: =SUM(B23,B32) -> 2071554 | C14: =SUM(C23,C32) -> 644629 | D14: =SUM(D23,D32) -> 620221 | E14: =SUM(E23,E32) -> 414446 | F14: =SUM(F23,F32) -> 303148 | G14: =SUM(G23,G32) -> 70638 | H14: =SUM(H23,H32) -> 14602 | I14: =SUM(I23,I32) -> 3870 | J14: 1.004839 | K14: =C14/B14*100 -> 31.118136 | L14: =SUM(L23,L32) -> 200953 | M14: =L14/B14*100 -> 9.7005919
A15: 2020 | B15: =SUM(B24,B33) -> 2117635 | C15: =SUM(C24,C33) -> 693334 | D15: =SUM(D24,D33) -> 639298 | E15: =SUM(E24,E33) -> 407587 | F15: =SUM(F24,F33) -> 296746 | G15: =SUM(G24,G33) -> 65305 | H15: =SUM(H24,H33) -> 12364 | I15: =SUM(I24,I33) -> 3001 | J15: 0.89822052 | K15: =C15/B15*100 -> 32.740959 | L15: =SUM(L24,L33) -> 215533 | M15: =L15/B15*100 -> 10.178005
A16: 2021 | B16: =SUM(B25,B34) -> 2157576 | C16: =SUM(C25,C34) -> 743563 | D16: =SUM(D25,D34) -> 656364 | E16: =SUM(E25,E34) -> 399644 | F16: =SUM(F25,F34) -> 283535 | G16: =SUM(G25,G34) -> 60933 | H16: =SUM(H25,H34) -> 10948 | I16: =SUM(I25,I34) -> 2589 | J16: 1.8982205 | K16: =C16/B16*100 -> 34.462888 | L16: =SUM(L25,L34) -> 235234 | M16: =L16/B16*100 -> 10.902698
A18: 대구광역시
A19: 2015 | B19: =VLOOKUP($A19&$A$18, '[1]7.가구원수별 가구'!$A$9:$Z$71, 4, FALSE) -> 928528 | C19: =VLOOKUP($A19&$A$18, '[1]7.가구원수별 가구'!$A$9:$Z$71, 5, FALSE) -> 239517 | D19: =VLOOKUP($A19&$A$18, '[1]7.가구원수별 가구'!$A$9:$Z$71, 6, FALSE) -> 239824 | E19: =VLOOKUP($A19&$A$18, '[1]7.가구원수별 가구'!$A$9:$Z$71, 7, FALSE) -> 208795 | F19: =VLOOKUP($A19&$A$18, '[1]7.가구원수별 가구'!$A$9:$Z$71, 8, FALSE) -> 184258 | G19: =VLOOKUP($A19&$A$18, '[1]7.가구원수별 가구'!$A$9:$Z$71, 9, FALSE) -> 44071 | H19: =VLOOKUP($A19&$A$18, '[1]7.가구원수별 가구'!$A$9:$Z$71, 10, FALSE) -> 9582 | I19: =VLOOKUP($A19&$A$18, '[1]7.가구원수별 가구'!$A$9:$Z$71, 11, FALSE) -> 2481 | J19: =VLOOKUP($A19&$A$18, '[1]7.가구원수별 가구'!$A$9:$Z$71, 12, FALSE) -> 2.6 | K19: =C19/B19*100 -> 25.795345 | L19: =VLOOKUP($A19&$A$18, '[1]7.가구원수별 가구'!$A$9:$Z$71, 14, FALSE) -> 57723 | M19: =L19/B19*100 -> 6.2166138
A20: 2016 | B20: =VLOOKUP($A20&$A$18, '[1]7.가구원수별 가구'!$A$9:$Z$71, 4, FALSE) -> 935753 | C20: =VLOOKUP($A20&$A$18, '[1]7.가구원수별 가구'!$A$9:$Z$71, 5, FALSE) -> 247444 | D20: =VLOOKUP($A20&$A$18, '[1]7.가구원수별 가구'!$A$9:$Z$71, 6, FALSE) -> 242931 | E20: =VLOOKUP($A20&$A$18, '[1]7.가구원수별 가구'!$A$9:$Z$71, 7, FALSE) -> 209737 | F20: =VLOOKUP($A20&$A$18, '[1]7.가구원수별 가구'!$A$9:$Z$71, 8, FALSE) -> 181468 | G20: =VLOOKUP($A20&$A$18, '[1]7.가구원수별 가구'!$A$9:$Z$71, 9, FALSE) -> 42748 | H20: =VLOOKUP($A20&$A$18, '[1]7.가구원수별 가구'!$A$9:$Z$71, 10, FALSE) -> 9114 | I20: =VLOOKUP($A20&$A$18, '[1]7.가구원수별 가구'!$A$9:$Z$71, 11, FALSE) -> 2311 | J20: =VLOOKUP($A20&$A$18, '[1]7.가구원수별 가구'!$A$9:$Z$71, 12, FALSE) -> 2.5 | K20: =C20/B20*100 -> 26.443303 | L20: =VLOOKUP($A20&$A$18, '[1]7.가구원수별 가구'!$A$9:$Z$71, 14, FALSE) -> 62394 | M20: =L20/B20*100 -> 6.6677852
A21: 2017 | B21: =VLOOKUP($A21&$A$18, '[1]7.가구원수별 가구'!$A$9:$Z$71, 4, FALSE) -> 948030 | C21: =VLOOKUP($A21&$A$18, '[1]7.가구원수별 가구'!$A$9:$Z$71, 5, FALSE) -> 259525 | D21: =VLOOKUP($A21&$A$18, '[1]7.가구원수별 가구'!$A$9:$Z$71, 6, FALSE) -> 252001 | E21: =VLOOKUP($A21&$A$18, '[1]7.가구원수별 가구'!$A$9:$Z$71, 7, FALSE) -> 209994 | F21: =VLOOKUP($A21&$A$18, '[1]7.가구원수별 가구'!$A$9:$Z$71, 8, FALSE) -> 175690 | G21: =VLOOKUP($A21&$A$18, '[1]7.가구원수별 가구'!$A$9:$Z$71, 9, FALSE) -> 40445 | H21: =VLOOKUP($A21&$A$18, '[1]7.가구원수별 가구'!$A$9:$Z$71, 10, FALSE) -> 8315 | I21: =VLOOKUP($A21&$A$18, '[1]7.가구원수별 가구'!$A$9:$Z$71, 11, FALSE) -> 2060 | J21: =VLOOKUP($A21&$A$18, '[1]7.가구원수별 가구'!$A$9:$Z$71, 12, FALSE) -> 2.5 | K21: =C21/B21*100 -> 27.375189 | L21: =VLOOKUP($A21&$A$18, '[1]7.가구원수별 가구'!$A$9:$Z$71, 14, FALSE) -> 67025 | M21: =L21/B21*100 -> 7.0699239
A22: 2018 | B22: =VLOOKUP($A22&$A$18, '[1]7.가구원수별 가구'!$A$9:$Z$71, 4, FALSE) -> 957516 | C22: =VLOOKUP($A22&$A$18, '[1]7.가구원수별 가구'!$A$9:$Z$71, 5, FALSE) -> 269903 | D22: =VLOOKUP($A22&$A$18, '[1]7.가구원수별 가구'!$A$9:$Z$71, 6, FALSE) -> 260091 | E22: =VLOOKUP($A22&$A$18, '[1]7.가구원수별 가구'!$A$9:$Z$71, 7, FALSE) -> 208858 | F22: =VLOOKUP($A22&$A$18, '[1]7.가구원수별 가구'!$A$9:$Z$71, 8, FALSE) -> 170651 | G22: =VLOOKUP($A22&$A$18, '[1]7.가구원수별 가구'!$A$9:$Z$71, 9, FALSE) -> 38593 | H22: =VLOOKUP($A22&$A$18, '[1]7.가구원수별 가구'!$A$9:$Z$71, 10, FALSE) -> 7575 | I22: =VLOOKUP($A22&$A$18, '[1]7.가구원수별 가구'!$A$9:$Z$71, 11, FALSE) -> 1845 | J22: =VLOOKUP($A22&$A$18, '[1]7.가구원수별 가구'!$A$9:$Z$71, 12, FALSE) -> 2.5 | K22: =C22/B22*100 -> 28.187832 | L22: =VLOOKUP($A22&$A$18, '[1]7.가구원수별 가구'!$A$9:$Z$71, 14, FALSE) -> 71359 | M22: =L22/B22*100 -> 7.4525125
A23: 2019 | B23: =VLOOKUP($A23&$A$18, '[1]7.가구원수별 가구'!$A$9:$Z$71, 4, FALSE) -> 968620 | C23: =VLOOKUP($A23&$A$18, '[1]7.가구원수별 가구'!$A$9:$Z$71, 5, FALSE) -> 284416 | D23: =VLOOKUP($A23&$A$18, '[1]7.가구원수별 가구'!$A$9:$Z$71, 6, FALSE) -> 267961 | E23: =VLOOKUP($A23&$A$18, '[1]7.가구원수별 가구'!$A$9:$Z$71, 7, FALSE) -> 207953 | F23: =VLOOKUP($A23&$A$18, '[1]7.가구원수별 가구'!$A$9:$Z$71, 8, FALSE) -> 163754 | G23: =VLOOKUP($A23&$A$18, '[1]7.가구원수별 가구'!$A$9:$Z$71, 9, FALSE) -> 35926 | H23: =VLOOKUP($A23&$A$18, '[1]7.가구원수별 가구'!$A$9:$Z$71, 10, FALSE) -> 6983 | I23: =VLOOKUP($A23&$A$18, '[1]7.가구원수별 가구'!$A$9:$Z$71, 11, FALSE) -> 1627 | J23: =VLOOKUP($A23&$A$18, '[1]7.가구원수별 가구'!$A$9:$Z$71, 12, FALSE) -> 2.4 | K23: =C23/B23*100 -> 29.363011 | L23: =VLOOKUP($A23&$A$18, '[1]7.가구원수별 가구'!$A$9:$Z$71, 14, FALSE) -> 76077 | M23: =L23/B23*100 -> 7.8541637
A24: 2020 | B24: =VLOOKUP($A24&$A$18, '[1]7.가구원수별 가구'!$A$9:$Z$71, 4, FALSE) -> 985816 | C24: =VLOOKUP($A24&$A$18, '[1]7.가구원수별 가구'!$A$9:$Z$71, 5, FALSE) -> 304543 | D24: =VLOOKUP($A24&$A$18, '[1]7.가구원수별 가구'!$A$9:$Z$71, 6, FALSE) -> 276237 | E24: =VLOOKUP($A24&$A$18, '[1]7.가구원수별 가구'!$A$9:$Z$71, 7, FALSE) -> 205048 | F24: =VLOOKUP($A24&$A$18, '[1]7.가구원수별 가구'!$A$9:$Z$71, 8, FALSE) -> 159654 | G24: =VLOOKUP($A24&$A$18, '[1]7.가구원수별 가구'!$A$9:$Z$71, 9, FALSE) -> 33131 | H24: =VLOOKUP($A24&$A$18, '[1]7.가구원수별 가구'!$A$9:$Z$71, 10, FALSE) -> 5976 | I24: =VLOOKUP($A24&$A$18, '[1]7.가구원수별 가구'!$A$9:$Z$71, 11, FALSE) -> 1227 | J24: =VLOOKUP($A24&$A$18, '[1]7.가구원수별 가구'!$A$9:$Z$71, 12, FALSE) -> 2.4 | K24: =C24/B24*100 -> 30.892479 | L24: =VLOOKUP($A24&$A$18, '[1]7.가구원수별 가구'!$A$9:$Z$71, 14, FALSE) -> 83459 | M24: =L24/B24*100 -> 8.4659815
A25: 2021 | B25: =VLOOKUP($A25&$A$18, '[1]7.가구원수별 가구'!$A$9:$Z$71, 4, FALSE) -> 1000931 | C25: =VLOOKUP($A25&$A$18, '[1]7.가구원수별 가구'!$A$9:$Z$71, 5, FALSE) -> 326866 | D25: =VLOOKUP($A25&$A$18, '[1]7.가구원수별 가구'!$A$9:$Z$71, 6, FALSE) -> 282982 | E25: =VLOOKUP($A25&$A$18, '[1]7.가구원수별 가구'!$A$9:$Z$71, 7, FALSE) -> 201203 | F25: =VLOOKUP($A25&$A$18, '[1]7.가구원수별 가구'!$A$9:$Z$71, 8, FALSE) -> 152384 | G25: =VLOOKUP($A25&$A$18, '[1]7.가구원수별 가구'!$A$9:$Z$71, 9, FALSE) -> 31068 | H25: =VLOOKUP($A25&$A$18, '[1]7.가구원수별 가구'!$A$9:$Z$71, 10, FALSE) -> 5301 | I25: =VLOOKUP($A25&$A$18, '[1]7.가구원수별 가구'!$A$9:$Z$71, 11, FALSE) -> 1127 | J25: =VLOOKUP($A25&$A$18, '[1]7.가구원수별 가구'!$A$9:$Z$71, 12, FALSE) -> 2.3 | K25: =C25/B25*100 -> 32.656197 | L25: =VLOOKUP($A25&$A$18, '[1]7.가구원수별 가구'!$A$9:$Z$71, 14, FALSE) -> 91357 | M25: =L25/B25*100 -> 9.1272026
A27: 경상북도
A28: 2015 | B28: =VLOOKUP($A28&$A$27, '[2]7.가구원수별 가구'!$A$9:$Y$182, 4, FALSE) -> 1062724 | C28: =VLOOKUP($A28&$A$27, '[2]7.가구원수별 가구'!$A$9:$Y$182, 5, FALSE) -> 322569 | D28: =VLOOKUP($A28&$A$27, '[2]7.가구원수별 가구'!$A$9:$Y$182, 6, FALSE) -> 320498 | E28: =VLOOKUP($A28&$A$27, '[2]7.가구원수별 가구'!$A$9:$Y$182, 7, FALSE) -> 207395 | F28: =VLOOKUP($A28&$A$27, '[2]7.가구원수별 가구'!$A$9:$Y$182, 8, FALSE) -> 156364 | G28: =VLOOKUP($A28&$A$27, '[2]7.가구원수별 가구'!$A$9:$Y$182, 9, FALSE) -> 42161 | H28: =VLOOKUP($A28&$A$27, '[2]7.가구원수별 가구'!$A$9:$Y$182, 10, FALSE) -> 10360 | I28: =VLOOKUP($A28&$A$27, '[2]7.가구원수별 가구'!$A$9:$Y$182, 11, FALSE) -> 3377 | J28: =VLOOKUP($A28&$A$27, '[2]7.가구원수별 가구'!$A$9:$Y$182, 12, FALSE) -> 2.4 | K28: =C28/B28*100 -> 30.353036 | L28: =VLOOKUP($A28&$A$27, '[2]7.가구원수별 가구'!$A$9:$Y$182, 14, FALSE) -> 107177 | M28: =L28/B28*100 -> 10.085121
A29: 2016 | B29: =VLOOKUP($A29&$A$27, '[2]7.가구원수별 가구'!$A$9:$Y$182, 4, FALSE) -> 1076581 | C29: =VLOOKUP($A29&$A$27, '[2]7.가구원수별 가구'!$A$9:$Y$182, 5, FALSE) -> 336547 | D29: =VLOOKUP($A29&$A$27, '[2]7.가구원수별 가구'!$A$9:$Y$182, 6, FALSE) -> 322930 | E29: =VLOOKUP($A29&$A$27, '[2]7.가구원수별 가구'!$A$9:$Y$182, 7, FALSE) -> 208721 | F29: =VLOOKUP($A29&$A$27, '[2]7.가구원수별 가구'!$A$9:$Y$182, 8, FALSE) -> 154056 | G29: =VLOOKUP($A29&$A$27, '[2]7.가구원수별 가구'!$A$9:$Y$182, 9, FALSE) -> 41024 | H29: =VLOOKUP($A29&$A$27, '[2]7.가구원수별 가구'!$A$9:$Y$182, 10, FALSE) -> 9962 | I29: =VLOOKUP($A29&$A$27, '[2]7.가구원수별 가구'!$A$9:$Y$182, 11, FALSE) -> 3341 | J29: =VLOOKUP($A29&$A$27, '[2]7.가구원수별 가구'!$A$9:$Y$182, 12, FALSE) -> 2.3 | K29: =C29/B29*100 -> 31.260723 | L29: =VLOOKUP($A29&$A$27, '[2]7.가구원수별 가구'!$A$9:$Y$182, 14, FALSE) -> 111776 | M29: =L29/B29*100 -> 10.382498
A30: 2017 | B30: =VLOOKUP($A30&$A$27, '[2]7.가구원수별 가구'!$A$9:$Y$182, 4, FALSE) -> 1087807 | C30: =VLOOKUP($A30&$A$27, '[2]7.가구원수별 가구'!$A$9:$Y$182, 5, FALSE) -> 346998 | D30: =VLOOKUP($A30&$A$27, '[2]7.가구원수별 가구'!$A$9:$Y$182, 6, FALSE) -> 332119 | E30: =VLOOKUP($A30&$A$27, '[2]7.가구원수별 가구'!$A$9:$Y$182, 7, FALSE) -> 207812 | F30: =VLOOKUP($A30&$A$27, '[2]7.가구원수별 가구'!$A$9:$Y$182, 8, FALSE) -> 149369 | G30: =VLOOKUP($A30&$A$27, '[2]7.가구원수별 가구'!$A$9:$Y$182, 9, FALSE) -> 39265 | H30: =VLOOKUP($A30&$A$27, '[2]7.가구원수별 가구'!$A$9:$Y$182, 10, FALSE) -> 9354 | I30: =VLOOKUP($A30&$A$27, '[2]7.가구원수별 가구'!$A$9:$Y$182, 11, FALSE) -> 2890 | J30: =VLOOKUP($A30&$A$27, '[2]7.가구원수별 가구'!$A$9:$Y$182, 12, FALSE) -> 2.3 | K30: =C30/B30*100 -> 31.898857 | L30: =VLOOKUP($A30&$A$27, '[2]7.가구원수별 가구'!$A$9:$Y$182, 14, FALSE) -> 116968 | M30: =L30/B30*100 -> 10.752643
A31: 2018 | B31: =VLOOKUP($A31&$A$27, '[2]7.가구원수별 가구'!$A$9:$Y$182, 4, FALSE) -> 1094534 | C31: =VLOOKUP($A31&$A$27, '[2]7.가구원수별 가구'!$A$9:$Y$182, 5, FALSE) -> 353702 | D31: =VLOOKUP($A31&$A$27, '[2]7.가구원수별 가구'!$A$9:$Y$182, 6, FALSE) -> 340340 | E31: =VLOOKUP($A31&$A$27, '[2]7.가구원수별 가구'!$A$9:$Y$182, 7, FALSE) -> 207353 | F31: =VLOOKUP($A31&$A$27, '[2]7.가구원수별 가구'!$A$9:$Y$182, 8, FALSE) -> 144848 | G31: =VLOOKUP($A31&$A$27, '[2]7.가구원수별 가구'!$A$9:$Y$182, 9, FALSE) -> 37208 | H31: =VLOOKUP($A31&$A$27, '[2]7.가구원수별 가구'!$A$9:$Y$182, 10, FALSE) -> 8503 | I31: =VLOOKUP($A31&$A$27, '[2]7.가구원수별 가구'!$A$9:$Y$182, 11, FALSE) -> 2580 | J31: =VLOOKUP($A31&$A$27, '[2]7.가구원수별 가구'!$A$9:$Y$182, 12, FALSE) -> 2.3 | K31: =C31/B31*100 -> 32.315305 | L31: =VLOOKUP($A31&$A$27, '[2]7.가구원수별 가구'!$A$9:$Y$182, 14, FALSE) -> 121493 | M31: =L31/B31*100 -> 11.099975
A32: 2019 | B32: =VLOOKUP($A32&$A$27, '[2]7.가구원수별 가구'!$A$9:$Y$182, 4, FALSE) -> 1102934 | C32: =VLOOKUP($A32&$A$27, '[2]7.가구원수별 가구'!$A$9:$Y$182, 5, FALSE) -> 360213 | D32: =VLOOKUP($A32&$A$27, '[2]7.가구원수별 가구'!$A$9:$Y$182, 6, FALSE) -> 352260 | E32: =VLOOKUP($A32&$A$27, '[2]7.가구원수별 가구'!$A$9:$Y$182, 7, FALSE) -> 206493 | F32: =VLOOKUP($A32&$A$27, '[2]7.가구원수별 가구'!$A$9:$Y$182, 8, FALSE) -> 139394 | G32: =VLOOKUP($A32&$A$27, '[2]7.가구원수별 가구'!$A$9:$Y$182, 9, FALSE) -> 34712 | H32: =VLOOKUP($A32&$A$27, '[2]7.가구원수별 가구'!$A$9:$Y$182, 10, FALSE) -> 7619 | I32: =VLOOKUP($A32&$A$27, '[2]7.가구원수별 가구'!$A$9:$Y$182, 11, FALSE) -> 2243 | J32: =VLOOKUP($A32&$A$27, '[2]7.가구원수별 가구'!$A$9:$Y$182, 12, FALSE) -> 2.2 | K32: =C32/B32*100 -> 32.659525 | L32: =VLOOKUP($A32&$A$27, '[2]7.가구원수별 가구'!$A$9:$Y$182, 14, FALSE) -> 124876 | M32: =L32/B32*100 -> 11.322164
A33: 2020 | B33: =VLOOKUP($A33&$A$27, '[2]7.가구원수별 가구'!$A$9:$Y$182, 4, FALSE) -> 1131819 | C33: =VLOOKUP($A33&$A$27, '[2]7.가구원수별 가구'!$A$9:$Y$182, 5, FALSE) -> 388791 | D33: =VLOOKUP($A33&$A$27, '[2]7.가구원수별 가구'!$A$9:$Y$182, 6, FALSE) -> 363061 | E33: =VLOOKUP($A33&$A$27, '[2]7.가구원수별 가구'!$A$9:$Y$182, 7, FALSE) -> 202539 | F33: =VLOOKUP($A33&$A$27, '[2]7.가구원수별 가구'!$A$9:$Y$182, 8, FALSE) -> 137092 | G33: =VLOOKUP($A33&$A$27, '[2]7.가구원수별 가구'!$A$9:$Y$182, 9, FALSE) -> 32174 | H33: =VLOOKUP($A33&$A$27, '[2]7.가구원수별 가구'!$A$9:$Y$182, 10, FALSE) -> 6388 | I33: =VLOOKUP($A33&$A$27, '[2]7.가구원수별 가구'!$A$9:$Y$182, 11, FALSE) -> 1774 | J33: =VLOOKUP($A33&$A$27, '[2]7.가구원수별 가구'!$A$9:$Y$182, 12, FALSE) -> 2.2 | K33: =C33/B33*100 -> 34.350987 | L33: =VLOOKUP($A33&$A$27, '[2]7.가구원수별 가구'!$A$9:$Y$182, 14, FALSE) -> 132074 | M33: =L33/B33*100 -> 11.66918
A34: 2021 | B34: =VLOOKUP($A34&$A$27, '[2]7.가구원수별 가구'!$A$9:$Y$182, 4, FALSE) -> 1156645 | C34: =VLOOKUP($A34&$A$27, '[2]7.가구원수별 가구'!$A$9:$Y$182, 5, FALSE) -> 416697 | D34: =VLOOKUP($A34&$A$27, '[2]7.가구원수별 가구'!$A$9:$Y$182, 6, FALSE) -> 373382 | E34: =VLOOKUP($A34&$A$27, '[2]7.가구원수별 가구'!$A$9:$Y$182, 7, FALSE) -> 198441 | F34: =VLOOKUP($A34&$A$27, '[2]7.가구원수별 가구'!$A$9:$Y$182, 8, FALSE) -> 131151 | G34: =VLOOKUP($A34&$A$27, '[2]7.가구원수별 가구'!$A$9:$Y$182, 9, FALSE) -> 29865 | H34: =VLOOKUP($A34&$A$27, '[2]7.가구원수별 가구'!$A$9:$Y$182, 10, FALSE) -> 5647 | I34: =VLOOKUP($A34&$A$27, '[2]7.가구원수별 가구'!$A$9:$Y$182, 11, FALSE) -> 1462 | J34: =VLOOKUP($A34&$A$27, '[2]7.가구원수별 가구'!$A$9:$Y$182, 12, FALSE) -> 2.1417453 | K34: =C34/B34*100 -> 36.026352 | L34: =VLOOKUP($A34&$A$27, '[2]7.가구원수별 가구'!$A$9:$Y$182, 14, FALSE) -> 143877 | M34: =L34/B34*100 -> 12.439167
A36: 자료: 대구통계연보, 경북통계연보

Sheet 8.사업체수
A1: [목록]으로
A2: 8. 산업별 사업체수
O4: 단위 : 개소, % | AB4: 단위 : 개소, %
B5: 합계 | C5: 농림어업 | E5: 광제조업 | G5: 서비스업 및 기타 | I5: 농업, 임업 및 어업 | J5: 광업 | K5: 제조업 | L5: 전기,가스, 증기 및 공기 조절 공급업 | M5: 수도,하수 및 폐기물처리, 원료재생업 | N5: 건설업 | O5: 도매 및 소매업 | Q5: 운수 및 창고업 | R5: 숙박 및 음식점업 | S5: 정보통신업 | T5: 금융 및 보험업 | U5: 부동산업 | V5: 전문,과학 및 기술서비스업 | W5: 사업시설관리, 사업지원 및 임대서비스업 | X5: 공공행정, 국방 및 사회보장행정 | Y5: 교육 서비스업 | Z5: 보건업 및 사회복지서비스업 | AA5: 예술스포츠 및 여가관련서비스업 | AB5: 협회 및 단체, 수리 및 기타개인서비스업
C7: 사업체수 | D7: 구성비(%) | E7: 사업체수 | F7: 구성비(%) | G7: 사업체수 | H7: 구성비(%)
A9: 대경권 | P9: 대경권
A10: 2015 | B10: =SUM(B19,B28) -> 418864 | C10: =SUM(C19,C28) -> 398 | D10: =C10/B10*100 -> 0.095018908 | E10: =SUM(E19,E28) -> 55461 | F10: =E10/B10*100 -> 13.240813 | G10: =SUM(G19,G28) -> 363005 | H10: =G10/B10*100 -> 86.664168 | I10: =SUM(I19,I28) -> 398 | J10: =SUM(J19,J28) -> 154 | K10: =SUM(K19,K28) -> 55307 | L10: =SUM(L19,L28) -> 168 | M10: =SUM(M19,M28) -> 1202 | N10: =SUM(N19,N28) -> 15831 | O10: =SUM(O19,O28) -> 108937 | P10: 2015 | Q10: =SUM(Q19,Q28) -> 37193 | R10: =SUM(R19,R28) -> 79356 | S10: =SUM(S19,S28) -> 2293 | T10: =SUM(T19,T28) -> 4477 | U10: =SUM(U19,U28) -> 10375 | V10: =SUM(V19,V28) -> 7934 | W10: =SUM(W19,W28) -> 6133 | X10: =SUM(X19,X28) -> 1741 | ... AB10: =SUM(AB19,AB28) -> 44135
A11: 2016 | B11: =SUM(B20,B29) -> 427854 | C11: =SUM(C20,C29) -> 435 | D11: =C11/B11*100 -> 0.1016702 | E11: =SUM(E20,E29) -> 56009 | F11: =E11/B11*100 -> 13.09068 | G11: =SUM(G20,G29) -> 371410 | H11: =G11/B11*100 -> 86.807649 | I11: =SUM(I20,I29) -> 435 | J11: =SUM(J20,J29) -> 152 | K11: =SUM(K20,K29) -> 55857 | L11: =SUM(L20,L29) -> 205 | M11: =SUM(M20,M29) -> 1201 | N11: =SUM(N20,N29) -> 16257 | O11: =SUM(O20,O29) -> 110193 | P11: 2016 | Q11: =SUM(Q20,Q29) -> 37027 | R11: =SUM(R20,R29) -> 81211 | S11: =SUM(S20,S29) -> 2395 | T11: =SUM(T20,T29) -> 4552 | U11: =SUM(U20,U29) -> 11508 | V11: =SUM(V20,V29) -> 8184 | W11: =SUM(W20,W29) -> 6317 | X11: =SUM(X20,X29) -> 1749 | ... AB11: =SUM(AB20,AB29) -> 44761
A12: 2017 | B12: =SUM(B21,B30) -> 435455 | C12: =SUM(C21,C30) -> 463 | D12: =C12/B12*100 -> 0.10632557 | E12: =SUM(E21,E30) -> 56208 | F12: =E12/B12*100 -> 12.907878 | G12: =SUM(G21,G30) -> 378784 | H12: =G12/B12*100 -> 86.985796 | I12: =SUM(I21,I30) -> 463 | J12: =SUM(J21,J30) -> 158 | K12: =SUM(K21,K30) -> 56050 | L12: =SUM(L21,L30) -> 249 | M12: =SUM(M21,M30) -> 1193 | N12: =SUM(N21,N30) -> 16312 | O12: =SUM(O21,O30) -> 110789 | P12: 2017 | Q12: =SUM(Q21,Q30) -> 39273 | R12: =SUM(R21,R30) -> 82475 | S12: =SUM(S21,S30) -> 2423 | T12: =SUM(T21,T30) -> 4580 | U12: =SUM(U21,U30) -> 12238 | V12: =SUM(V21,V30) -> 8219 | W12: =SUM(W21,W30) -> 6290 | X12: =SUM(X21,X30) -> 1752 | ... AB12: =SUM(AB21,AB30) -> 45825
A13: 2018 | B13: =SUM(B22,B31) -> 442577 | C13: =SUM(C22,C31) -> 519 | D13: =C13/B13*100 -> 0.11726773 | E13: =SUM(E22,E31) -> 56327 | F13: =E13/B13*100 -> 12.727051 | G13: =SUM(G22,G31) -> 385731 | H13: =G13/B13*100 -> 87.155681 | I13: =SUM(I22,I31) -> 519 | J13: =SUM(J22,J31) -> 149 | K13: =SUM(K22,K31) -> 56178 | L13: =SUM(L22,L31) -> 325 | M13: =SUM(M22,M31) -> 1282 | N13: =SUM(N22,N31) -> 16753 | O13: =SUM(O22,O31) -> 111140 | P13: 2018 | Q13: =SUM(Q22,Q31) -> 40186 | R13: =SUM(R22,R31) -> 84835 | S13: =SUM(S22,S31) -> 2427 | T13: =SUM(T22,T31) -> 4501 | U13: =SUM(U22,U31) -> 12837 | V13: =SUM(V22,V31) -> 8688 | W13: =SUM(W22,W31) -> 6437 | X13: =SUM(X22,X31) -> 1753 | ... AB13: =SUM(AB22,AB31) -> 46664
A14: 2019 | B14: =SUM(B23,B32) -> 447751 | C14: =SUM(C23,C32) -> 546 | D14: =C14/B14*100 -> 0.12194278 | E14: =SUM(E23,E32) -> 56733 | F14: =E14/B14*100 -> 12.670658 | G14: =SUM(G23,G32) -> 390472 | H14: =G14/B14*100 -> 87.207399 | I14: =SUM(I23,I32) -> 546 | J14: =SUM(J23,J32) -> 147 | K14: =SUM(K23,K32) -> 56586 | L14: =SUM(L23,L32) -> 414 | M14: =SUM(M23,M32) -> 1339 | N14: =SUM(N23,N32) -> 17132 | O14: =SUM(O23,O32) -> 111249 | P14: 2019 | Q14: =SUM(Q23,Q32) -> 40494 | R14: =SUM(R23,R32) -> 86197 | S14: =SUM(S23,S32) -> 2518 | T14: =SUM(T23,T32) -> 4469 | U14: =SUM(U23,U32) -> 13375 | V14: =SUM(V23,V32) -> 9004 | W14: =SUM(W23,W32) -> 6699 | X14: =SUM(X23,X32) -> 1751 | ... AB14: =SUM(AB23,AB32) -> 47040
A15: 2020 | B15: =SUM(B24,B33) -> 604094 | C15: =SUM(C24,C33) -> 1282 | D15: =C15/B15*100 -> 0.21221863 | E15: =SUM(E24,E33) -> 71198 | F15: =E15/B15*100 -> 11.785914 | G15: =SUM(G24,G33) -> 531614 | H15: =G15/B15*100 -> 88.001867 | I15: =SUM(I24,I33) -> 1282 | J15: =SUM(J24,J33) -> 210 | K15: =SUM(K24,K33) -> 70988 | L15: =SUM(L24,L33) -> 9151 | M15: =SUM(M24,M33) -> 1700 | N15: =SUM(N24,N33) -> 50230 | O15: =SUM(O24,O33) -> 152495 | P15: 2020 | Q15: =SUM(Q24,Q33) -> 60725 | R15: =SUM(R24,R33) -> 93689 | S15: =SUM(S24,S33) -> 4670 | T15: =SUM(T24,T33) -> 5643 | U15: =SUM(U24,U33) -> 20842 | V15: =SUM(V24,V33) -> 14173 | W15: =SUM(W24,W33) -> 12046 | X15: =SUM(X24,X33) -> 1718 | ... AB15: =SUM(AB24,AB33) -> 51959
A16: 2021 | B16: =SUM(B25,B34) -> 608455 | C16: =SUM(C25,C34) -> 1294 | D16: =C16/B16*100 -> 0.21266979 | E16: =SUM(E25,E34) -> 70792 | F16: =E16/B16*100 -> 11.634714 | G16: =SUM(G25,G34) -> 536369 | H16: =G16/B16*100 -> 88.152616 | I16: =SUM(I25,I34) -> 1294 | J16: =SUM(J25,J34) -> 205 | K16: =SUM(K25,K34) -> 70587 | L16: =SUM(L25,L34) -> 12202 | M16: =SUM(M25,M34) -> 1713 | N16: =SUM(N25,N34) -> 51812 | O16: =SUM(O25,O34) -> 147506 | P16: 2021 | Q16: =SUM(Q25,Q34) -> 63566 | R16: =SUM(R25,R34) -> 93503 | S16: =SUM(S25,S34) -> 4921 | T16: =SUM(T25,T34) -> 5550 | U16: =SUM(U25,U34) -> 21245 | V16: =SUM(V25,V34) -> 14448 | W16: =SUM(W25,W34) -> 11596 | X16: =SUM(X25,X34) -> 1718 | ... AB16: =SUM(AB25,AB34) -> 52440
A18: 대구광역시 | P18: 대구광역시
A19: 2015 | B19: 200069 | C19: =I19 -> 22 | D19: =C19/B19*100 -> 0.010996206 | E19: =SUM(J19:K19) -> 27559 | F19: =E19/B19*100 -> 13.774748 | G19: =SUM(L19:O19, Q19:AB19) -> 172488 | H19: =G19/B19*100 -> 86.214256 | I19: 22 | J19: 8 | K19: 27551 | L19: 45 | M19: 322 | N19: 6481 | O19: 54072 | P19: 2015 | Q19: 19737 | R19: 32566 | S19: 1239 | T19: 2186 | U19: 5861 | V19: 4551 | W19: 2940 | X19: 445 | Y19: 10143 | Z19: 6284 | AA19: 5112 | AB19: 20504
A20: 2016 | B20: 205318 | C20: =I20 -> 16 | D20: =C20/B20*100 -> 0.0077927897 | E20: =SUM(J20:K20) -> 27520 | F20: =E20/B20*100 -> 13.403598 | G20: =SUM(L20:O20, Q20:AB20) -> 177782 | H20: =G20/B20*100 -> 86.588609 | I20: 16 | J20: 9 | K20: 27511 | L20: 53 | M20: 332 | N20: 6734 | O20: 55387 | P20: 2016 | Q20: 19704 | R20: 33787 | S20: 1272 | T20: 2226 | U20: 6440 | V20: 4638 | W20: 2975 | X20: 447 | Y20: 10632 | Z20: 6806 | AA20: 5592 | AB20: 20757
A21: 2017 | B21: 209376 | C21: =I21 -> 15 | D21: =C21/B21*100 -> 0.0071641449 | E21: =SUM(J21:K21) -> 27395 | F21: =E21/B21*100 -> 13.084117 | G21: =SUM(L21:O21, Q21:AB21) -> 181966 | H21: =G21/B21*100 -> 86.908719 | I21: 15 | J21: 8 | K21: 27387 | L21: 60 | M21: 329 | N21: 6748 | O21: 55729 | P21: 2017 | Q21: 21171 | R21: 34435 | S21: 1274 | T21: 2252 | U21: 6827 | V21: 4636 | W21: 2979 | X21: 450 | Y21: 10835 | Z21: 7026 | AA21: 5892 | AB21: 21323
A22: 2018 | B22: 210547 | C22: =I22 -> 18 | D22: =C22/B22*100 -> 0.00854916 | E22: =SUM(J22:K22) -> 26967 | F22: =E22/B22*100 -> 12.808067 | G22: =SUM(L22:O22, Q22:AB22) -> 183562 | H22: =G22/B22*100 -> 87.183384 | I22: 18 | J22: 6 | K22: 26961 | L22: 77 | M22: 341 | N22: 6795 | O22: 55470 | P22: 2018 | Q22: 21094 | R22: 35154 | S22: 1254 | T22: 2185 | U22: 7243 | V22: 4839 | W22: 3029 | X22: 449 | Y22: 10957 | Z22: 7100 | AA22: 5971 | AB22: 21604
A23: 2019 | B23: 210944 | C23: =I23 -> 22 | D23: =C23/B23*100 -> 0.010429308 | E23: =SUM(J23:K23) -> 26606 | F23: =E23/B23*100 -> 12.612826 | G23: =SUM(L23:O23, Q23:AB23) -> 184316 | H23: =G23/B23*100 -> 87.376745 | I23: 22 | J23: 6 | K23: 26600 | L23: 104 | M23: 365 | N23: 6772 | O23: 54735 | P23: 2019 | Q23: 21059 | R23: 35707 | S23: 1284 | T23: 2176 | U23: 7699 | V23: 4930 | W23: 3052 | X23: 449 | Y23: 11090 | Z23: 7285 | AA23: 6010 | AB23: 21599
A24: 2020 | B24: 283033 | C24: =I24 -> 67 | D24: =C24/B24*100 -> 0.023672151 | E24: =SUM(J24:K24) -> 33267 | F24: =E24/B24*100 -> 11.753753 | G24: =SUM(L24:O24, Q24:AB24) -> 249699 | H24: =G24/B24*100 -> 88.222575 | I24: 67 | J24: 9 | K24: 33258 | L24: 670 | M24: 470 | N24: 19397 | O24: 77644 | P24: 2020 | Q24: 29382 | R24: 38760 | S24: 2667 | T24: 2879 | U24: 12552 | V24: 8249 | W24: 6022 | X24: 444 | Y24: 12517 | Z24: 7532 | AA24: 6385 | AB24: 24129
A25: 2021 | B25: 279798 | C25: =I25 -> 58 | D25: =C25/B25*100 -> 0.02072924 | E25: =SUM(J25:K25) -> 32699 | F25: =E25/B25*100 -> 11.686645 | G25: =SUM(L25:O25, Q25:AB25) -> 247041 | H25: =G25/B25*100 -> 88.292625 | I25: 58 | J25: 9 | K25: 32690 | L25: 651 | M25: 467 | N25: 19393 | O25: 74078 | P25: 2021 | Q25: 31075 | R25: 38117 | S25: 2812 | T25: 2807 | U25: 12607 | V25: 8299 | W25: 5524 | X25: 450 | Y25: 13107 | Z25: 7663 | AA25: 6364 | AB25: 23627
A27: 경상북도 | P27: 경상북도
A28: 2015 | B28: 218795 | C28: =I28 -> 376 | D28: =C28/B28*100 -> 0.17185036 | E28: =SUM(J28:K28) -> 27902 | F28: =E28/B28*100 -> 12.752577 | G28: =SUM(L28:O28, Q28:AB28) -> 190517 | H28: =G28/B28*100 -> 87.075573 | I28: 376 | J28: 146 | K28: 27756 | L28: 123 | M28: 880 | N28: 9350 | O28: 54865 | P28: 2015 | Q28: 17456 | R28: 46790 | S28: 1054 | T28: 2291 | U28: 4514 | V28: 3383 | W28: 3193 | X28: 1296 | Y28: 9395 | Z28: 6974 | AA28: 5322 | AB28: 23631
A29: 2016 | B29: 222536 | C29: =I29 -> 419 | D29: =C29/B29*100 -> 0.18828414 | E29: =SUM(J29:K29) -> 28489 | F29: =E29/B29*100 -> 12.801974 | G29: =SUM(L29:O29, Q29:AB29) -> 193628 | H29: =G29/B29*100 -> 87.009742 | I29: 419 | J29: 143 | K29: 28346 | L29: 152 | M29: 869 | N29: 9523 | O29: 54806 | P29: 2016 | Q29: 17323 | R29: 47424 | S29: 1123 | T29: 2326 | U29: 5068 | V29: 3546 | W29: 3342 | X29: 1302 | Y29: 9485 | Z29: 7466 | AA29: 5869 | AB29: 24004
A30: 2017 | B30: 226079 | C30: =I30 -> 448 | D30: =C30/B30*100 -> 0.19816082 | E30: =SUM(J30:K30) -> 28813 | F30: =E30/B30*100 -> 12.74466 | G30: =SUM(L30:O30, Q30:AB30) -> 196818 | H30: =G30/B30*100 -> 87.057179 | I30: 448 | J30: 150 | K30: 28663 | L30: 189 | M30: 864 | N30: 9564 | O30: 55060 | P30: 2017 | Q30: 18102 | R30: 48040 | S30: 1149 | T30: 2328 | U30: 5411 | V30: 3583 | W30: 3311 | X30: 1302 | Y30: 9532 | Z30: 7690 | AA30: 6191 | AB30: 24502
A31: 2018 | B31: 232030 | C31: =I31 -> 501 | D31: =C31/B31*100 -> 0.21592036 | E31: =SUM(J31:K31) -> 29360 | F31: =E31/B31*100 -> 12.653536 | G31: =SUM(L31:O31, Q31:AB31) -> 202169 | H31: =G31/B31*100 -> 87.130543 | I31: 501 | J31: 143 | K31: 29217 | L31: 248 | M31: 941 | N31: 9958 | O31: 55670 | P31: 2018 | Q31: 19092 | R31: 49681 | S31: 1173 | T31: 2316 | U31: 5594 | V31: 3849 | W31: 3408 | X31: 1304 | Y31: 9757 | Z31: 7774 | AA31: 6344 | AB31: 25060
A32: 2019 | B32: 236807 | C32: =I32 -> 524 | D32: =C32/B32*100 -> 0.22127724 | E32: =SUM(J32:K32) -> 30127 | F32: =E32/B32*100 -> 12.722175 | G32: =SUM(L32:O32, Q32:AB32) -> 206156 | H32: =G32/B32*100 -> 87.056548 | I32: 524 | J32: 141 | K32: 29986 | L32: 310 | M32: 974 | N32: 10360 | O32: 56514 | P32: 2019 | Q32: 19435 | R32: 50490 | S32: 1234 | T32: 2293 | U32: 5676 | V32: 4074 | W32: 3647 | X32: 1302 | Y32: 9955 | Z32: 7959 | AA32: 6492 | AB32: 25441
A33: 2020 | B33: 321061 | C33: =I33 -> 1215 | D33: =C33/B33*100 -> 0.37843276 | E33: =SUM(J33:K33) -> 37931 | F33: =E33/B33*100 -> 11.814266 | G33: =SUM(L33:O33, Q33:AB33) -> 281915 | H33: =G33/B33*100 -> 87.807301 | I33: 1215 | J33: 201 | K33: 37730 | L33: 8481 | M33: 1230 | N33: 30833 | O33: 74851 | P33: 2020 | Q33: 31343 | R33: 54929 | S33: 2003 | T33: 2764 | U33: 8290 | V33: 5924 | W33: 6024 | X33: 1274 | Y33: 11197 | Z33: 8146 | AA33: 6796 | AB33: 27830
A34: 2021 | B34: 328657 | C34: 1236 | D34: =C34/B34*100 -> 0.37607597 | E34: =SUM(J34:K34) -> 38093 | F34: =E34/B34*100 -> 11.590503 | G34: =SUM(L34:O34, Q34:AB34) -> 289328 | H34: =G34/B34*100 -> 88.033421 | I34: 1236 | J34: 196 | K34: 37897 | L34: 11551 | M34: 1246 | N34: 32419 | O34: 73428 | P34: 2021 | Q34: 32491 | R34: 55386 | S34: 2109 | T34: 2743 | U34: 8638 | V34: 6149 | W34: 6072 | X34: 1268 | Y34: 11823 | Z34: 8366 | AA34: 6826 | AB34: 28813
A36: 자료: 대구광역시 사업체조사보고서, 경상북도 사업체조사 보고서 주: 표준산업분류 10차 기준, 2015~2019년은 조사기반, 2020~2021년은 등록기반 자료임

Sheet 8-1.종사자수
A1: [목록]으로
A2: 8-1. 산업별 종사자수
O4: 단위 : 명, % | AB4: 단위 : 명, %
B5: 합계 | C5: 농림어업 | E5: 광제조업 | G5: 서비스업 및 기타 | I5: 농업, 임업 및 어업 | J5: 광업 | K5: 제조업 | L5: 전기,가스, 증기 및 공기 조절 공급업 | M5: 수도,하수 및 폐기물처리, 원료재생업 | N5: 건설업 | O5: 도매 및 소매업 | Q5: 운수 및 창고업 | R5: 숙박 및 음식점업 | S5: 정보통신업 | T5: 금융 및 보험업 | U5: 부동산업 | V5: 전문,과학 및 기술서비스업 | W5: 사업시설관리, 사업지원 및 임대서비스업 | X5: 공공행정, 국방 및 사회보장행정 | Y5: 교육 서비스업 | Z5: 보건업 및 사회복지서비스업 | AA5: 예술스포츠 및 여가관련서비스업 | AB5: 협회 및 단체, 수리 및 기타개인서비스업
C7: 종사자수 | D7: 구성비(%) | E7: 종사자수 | F7: 구성비(%) | G7: 종사자수 | H7: 구성비(%)
A9: 대경권 | P9: 대경권
A10: 2015 | B10: =SUM(B19,B28) -> 1961776 | C10: =SUM(C19,C28) -> 4397 | D10: =C10/B10*100 -> 0.22413364 | E10: =SUM(E19,E28) -> 508475 | F10: =E10/B10*100 -> 25.919116 | G10: =SUM(G19,G28) -> 1448904 | H10: =G10/B10*100 -> 73.85675 | I10: =SUM(I19,I28) -> 4397 | J10: =SUM(J19,J28) -> 1389 | K10: =SUM(K19,K28) -> 507086 | L10: =SUM(L19,L28) -> 9048 | M10: =SUM(M19,M28) -> 12249 | N10: =SUM(N19,N28) -> 119639 | O10: =SUM(O19,O28) -> 277066 | P10: 2015 | Q10: =SUM(Q19,Q28) -> 89906 | R10: =SUM(R19,R28) -> 200027 | S10: =SUM(S19,S28) -> 20364 | T10: =SUM(T19,T28) -> 61074 | U10: =SUM(U19,U28) -> 33726 | V10: =SUM(V19,V28) -> 46695 | W10: =SUM(W19,W28) -> 78094 | X10: =SUM(X19,X28) -> 73698 | ... AB10: =SUM(AB19,AB28) -> 90749
A11: 2016 | B11: =SUM(B20,B29) -> 2015716 | C11: =SUM(C20,C29) -> 4358 | D11: =C11/B11*100 -> 0.21620109 | E11: =SUM(E20,E29) -> 510217 | F11: =E11/B11*100 -> 25.311949 | G11: =SUM(G20,G29) -> 1501141 | H11: =G11/B11*100 -> 74.47185 | I11: =SUM(I20,I29) -> 4358 | J11: =SUM(J20,J29) -> 1328 | K11: =SUM(K20,K29) -> 508889 | L11: =SUM(L20,L29) -> 9158 | M11: =SUM(M20,M29) -> 12544 | N11: =SUM(N20,N29) -> 127271 | O11: =SUM(O20,O29) -> 280716 | P11: 2016 | Q11: =SUM(Q20,Q29) -> 91459 | R11: =SUM(R20,R29) -> 208076 | S11: =SUM(S20,S29) -> 21318 | T11: =SUM(T20,T29) -> 61573 | U11: =SUM(U20,U29) -> 36619 | V11: =SUM(V20,V29) -> 52569 | W11: =SUM(W20,W29) -> 76549 | X11: =SUM(X20,X29) -> 72706 | ... AB11: =SUM(AB20,AB29) -> 87905
A12: 2017 | B12: =SUM(B21,B30) -> 2039538 | C12: =SUM(C21,C30) -> 4873 | D12: =C12/B12*100 -> 0.23892666 | E12: =SUM(E21,E30) -> 504549 | F12: =E12/B12*100 -> 24.738397 | G12: =SUM(G21,G30) -> 1530116 | H12: =G12/B12*100 -> 75.022677 | I12: =SUM(I21,I30) -> 4873 | J12: =SUM(J21,J30) -> 1343 | K12: =SUM(K21,K30) -> 503206 | L12: =SUM(L21,L30) -> 9419 | M12: =SUM(M21,M30) -> 11972 | N12: =SUM(N21,N30) -> 130229 | O12: =SUM(O21,O30) -> 284386 | P12: 2017 | Q12: =SUM(Q21,Q30) -> 95011 | R12: =SUM(R21,R30) -> 210065 | S12: =SUM(S21,S30) -> 21443 | T12: =SUM(T21,T30) -> 61266 | U12: =SUM(U21,U30) -> 38431 | V12: =SUM(V21,V30) -> 52593 | W12: =SUM(W21,W30) -> 76264 | X12: =SUM(X21,X30) -> 75145 | ... AB12: =SUM(AB21,AB30) -> 87162
A13: 2018 | B13: =SUM(B22,B31) -> 2084988 | C13: =SUM(C22,C31) -> 5070 | D13: =C13/B13*100 -> 0.24316687 | E13: =SUM(E22,E31) -> 498524 | F13: =E13/B13*100 -> 23.910162 | G13: =SUM(G22,G31) -> 1581394 | H13: =G13/B13*100 -> 75.846672 | I13: =SUM(I22,I31) -> 5070 | J13: =SUM(J22,J31) -> 1310 | K13: =SUM(K22,K31) -> 497214 | L13: =SUM(L22,L31) -> 9765 | M13: =SUM(M22,M31) -> 13031 | N13: =SUM(N22,N31) -> 134923 | O13: =SUM(O22,O31) -> 297795 | P13: 2018 | Q13: =SUM(Q22,Q31) -> 95147 | R13: =SUM(R22,R31) -> 220473 | S13: =SUM(S22,S31) -> 21709 | T13: =SUM(T22,T31) -> 59679 | U13: =SUM(U22,U31) -> 39328 | V13: =SUM(V22,V31) -> 54096 | W13: =SUM(W22,W31) -> 75236 | X13: =SUM(X22,X31) -> 78510 | ... AB13: =SUM(AB22,AB31) -> 89032
A14: 2019 | B14: =SUM(B23,B32) -> 2117981 | C14: =SUM(C23,C32) -> 5291 | D14: =C14/B14*100 -> 0.24981338 | E14: =SUM(E23,E32) -> 494809 | F14: =E14/B14*100 -> 23.362296 | G14: =SUM(G23,G32) -> 1617881 | H14: =G14/B14*100 -> 76.38789 | I14: =SUM(I23,I32) -> 5291 | J14: =SUM(J23,J32) -> 1192 | K14: =SUM(K23,K32) -> 493617 | L14: =SUM(L23,L32) -> 9811 | M14: =SUM(M23,M32) -> 13725 | N14: =SUM(N23,N32) -> 136912 | O14: =SUM(O23,O32) -> 293212 | P14: 2019 | Q14: =SUM(Q23,Q32) -> 96979 | R14: =SUM(R23,R32) -> 224584 | S14: =SUM(S23,S32) -> 21480 | T14: =SUM(T23,T32) -> 59555 | U14: =SUM(U23,U32) -> 40681 | V14: =SUM(V23,V32) -> 56379 | W14: =SUM(W23,W32) -> 77466 | X14: =SUM(X23,X32) -> 82644 | ... AB14: =SUM(AB23,AB32) -> 90563
A15: 2020 | B15: =SUM(B24,B33) -> 2236386 | C15: =SUM(C24,C33) -> 7215 | D15: =C15/B15*100 -> 0.32261873 | E15: =SUM(E24,E33) -> 495202 | F15: =E15/B15*100 -> 22.142957 | G15: =SUM(G24,G33) -> 1733969 | H15: =G15/B15*100 -> 77.534424 | I15: =SUM(I24,I33) -> 7215 | J15: =SUM(J24,J33) -> 1289 | K15: =SUM(K24,K33) -> 493913 | L15: =SUM(L24,L33) -> 19320 | M15: =SUM(M24,M33) -> 14720 | N15: =SUM(N24,N33) -> 196396 | O15: =SUM(O24,O33) -> 308466 | P15: 2020 | Q15: =SUM(Q24,Q33) -> 115826 | R15: =SUM(R24,R33) -> 197077 | S15: =SUM(S24,S33) -> 25325 | T15: =SUM(T24,T33) -> 56800 | U15: =SUM(U24,U33) -> 48581 | V15: =SUM(V24,V33) -> 68773 | W15: =SUM(W24,W33) -> 79038 | X15: =SUM(X24,X33) -> 89011 | ... AB15: =SUM(AB24,AB33) -> 89364
A16: 2021 | B16: =SUM(B25,B34) -> 2238877 | C16: =SUM(C25,C34) -> 7082 | D16: =C16/B16*100 -> 0.3163193 | E16: =SUM(E25,E34) -> 487057 | F16: =E16/B16*100 -> 21.754522 | G16: =SUM(G25,G34) -> 1744738 | H16: =G16/B16*100 -> 77.929158 | I16: =SUM(I25,I34) -> 7082 | J16: =SUM(J25,J34) -> 1367 | K16: =SUM(K25,K34) -> 485690 | L16: =SUM(L25,L34) -> 22548 | M16: =SUM(M25,M34) -> 15055 | N16: =SUM(N25,N34) -> 176115 | O16: =SUM(O25,O34) -> 304595 | P16: 2021 | Q16: =SUM(Q25,Q34) -> 117952 | R16: =SUM(R25,R34) -> 198922 | S16: =SUM(S25,S34) -> 26592 | T16: =SUM(T25,T34) -> 56291 | U16: =SUM(U25,U34) -> 52145 | V16: =SUM(V25,V34) -> 70608 | W16: =SUM(W25,W34) -> 75607 | X16: =SUM(X25,X34) -> 92688 | ... AB16: =SUM(AB25,AB34) -> 88797
A18: 대구광역시 | P18: 대구광역시
A19: 2015 | B19: 895517 | C19: =I19 -> 276 | D19: =C19/B19*100 -> 0.030820185 | E19: =SUM(J19:K19) -> 178814 | F19: =E19/B19*100 -> 19.967683 | G19: =SUM(L19:O19, Q19:AB19) -> 716427 | H19: =G19/B19*100 -> 80.001496 | I19: 276 | J19: 33 | K19: 178781 | L19: 2702 | M19: 3535 | N19: 52817 | O19: 146794 | P19: 2015 | Q19: 45911 | R19: 90930 | S19: 12320 | T19: 35018 | U19: 20137 | V19: 24191 | W19: 44578 | X19: 28898 | Y19: 76527 | Z19: 73436 | AA19: 14533 | AB19: 44100
A20: 2016 | B20: 929078 | C20: =I20 -> 329 | D20: =C20/B20*100 -> 0.035411451 | E20: =SUM(J20:K20) -> 179959 | F20: =E20/B20*100 -> 19.369633 | G20: =SUM(L20:O20, Q20:AB20) -> 748790 | H20: =G20/B20*100 -> 80.594955 | I20: 329 | J20: 32 | K20: 179927 | L20: 2498 | M20: 3621 | N20: 57265 | O20: 151124 | P20: 2016 | Q20: 46648 | R20: 96657 | S20: 12876 | T20: 35638 | U20: 21444 | V20: 26184 | W20: 46748 | X20: 28668 | Y20: 77322 | Z20: 82858 | AA20: 16440 | AB20: 42799
A21: 2017 | B21: 943170 | C21: =I21 -> 437 | D21: =C21/B21*100 -> 0.046333111 | E21: =SUM(J21:K21) -> 179179 | F21: =E21/B21*100 -> 18.99753 | G21: =SUM(L21:O21, Q21:AB21) -> 763554 | H21: =G21/B21*100 -> 80.956137 | I21: 437 | J21: 32 | K21: 179147 | L21: 2568 | M21: 3524 | N21: 58807 | O21: 153579 | P21: 2017 | Q21: 48080 | R21: 97198 | S21: 12769 | T21: 35417 | U21: 22734 | V21: 26641 | W21: 47044 | X21: 29855 | Y21: 78550 | Z21: 87530 | AA21: 17022 | AB21: 42236
A22: 2018 | B22: 967206 | C22: =I22 -> 318 | D22: =C22/B22*100 -> 0.032878208 | E22: =SUM(J22:K22) -> 176534 | F22: =E22/B22*100 -> 18.251955 | G22: =SUM(L22:O22, Q22:AB22) -> 790354 | H22: =G22/B22*100 -> 81.715167 | I22: 318 | J22: 26 | K22: 176508 | L22: 2632 | M22: 3763 | N22: 60332 | O22: 165411 | P22: 2018 | Q22: 47711 | R22: 101342 | S22: 12984 | T22: 33767 | U22: 23332 | V22: 27010 | W22: 46468 | X22: 30055 | Y22: 77969 | Z22: 96782 | AA22: 17785 | AB22: 43011
A23: 2019 | B23: 967934 | C23: =I23 -> 414 | D23: =C23/B23*100 -> 0.042771511 | E23: =SUM(J23:K23) -> 174335 | F23: =E23/B23*100 -> 18.011042 | G23: =SUM(L23:O23, Q23:AB23) -> 793185 | H23: =G23/B23*100 -> 81.946186 | I23: 414 | J23: 24 | K23: 174311 | L23: 2613 | M23: 4155 | N23: 61491 | O23: 154973 | P23: 2019 | Q23: 47975 | R23: 101892 | S23: 12781 | T23: 34444 | U23: 24632 | V23: 28433 | W23: 45761 | X23: 30502 | Y23: 81327 | Z23: 100706 | AA23: 18304 | AB23: 43196
A24: 2020 | B24: 1010557 | C24: =I24 -> 466 | D24: =C24/B24*100 -> 0.046113183 | E24: =SUM(J24:K24) -> 173413 | F24: =E24/B24*100 -> 17.16014 | G24: =SUM(L24:O24, Q24:AB24) -> 836678 | H24: =G24/B24*100 -> 82.793746 | I24: 466 | J24: 31 | K24: 173382 | L24: 3626 | M24: 4436 | N24: 87039 | O24: 161985 | P24: 2020 | Q24: 55003 | R24: 88027 | S24: 15655 | T24: 32017 | U24: 29296 | V24: 34183 | W24: 43863 | X24: 31333 | Y24: 80049 | Z24: 112173 | AA24: 15475 | AB24: 42518
A25: 2021 | B25: 1004563 | C25: =I25 -> 389 | D25: =C25/B25*100 -> 0.038723306 | E25: =SUM(J25:K25) -> 169851 | F25: =E25/B25*100 -> 16.907949 | G25: =SUM(L25:O25, Q25:AB25) -> 834323 | H25: =G25/B25*100 -> 83.053328 | I25: 389 | J25: 23 | K25: 169828 | L25: 3308 | M25: 4488 | N25: 75353 | O25: 159185 | P25: 2021 | Q25: 56222 | R25: 88808 | S25: 16564 | T25: 31732 | U25: 30461 | V25: 34582 | W25: 43132 | X25: 33157 | Y25: 81948 | Z25: 118579 | AA25: 15432 | AB25: 41372
A27: 경상북도 | P27: 경상북도
A28: 2015 | B28: 1066259 | C28: =I28 -> 4121 | D28: =C28/B28*100 -> 0.38649146 | E28: =SUM(J28:K28) -> 329661 | F28: =E28/B28*100 -> 30.917535 | G28: =SUM(L28:O28, Q28:AB28) -> 732477 | H28: =G28/B28*100 -> 68.695973 | I28: 4121 | J28: 1356 | K28: 328305 | L28: 6346 | M28: 8714 | N28: 66822 | O28: 130272 | P28: 2015 | Q28: 43995 | R28: 109097 | S28: 8044 | T28: 26056 | U28: 13589 | V28: 22504 | W28: 33516 | X28: 44800 | Y28: 78703 | Z28: 75568 | AA28: 17802 | AB28: 46649
A29: 2016 | B29: 1086638 | C29: =I29 -> 4029 | D29: =C29/B29*100 -> 0.37077665 | E29: =SUM(J29:K29) -> 330258 | F29: =E29/B29*100 -> 30.392642 | G29: =SUM(L29:O29, Q29:AB29) -> 752351 | H29: =G29/B29*100 -> 69.236581 | I29: 4029 | J29: 1296 | K29: 328962 | L29: 6660 | M29: 8923 | N29: 70006 | O29: 129592 | P29: 2016 | Q29: 44811 | R29: 111419 | S29: 8442 | T29: 25935 | U29: 15175 | V29: 26385 | W29: 29801 | X29: 44038 | Y29: 80803 | Z29: 86263 | AA29: 18992 | AB29: 45106
A30: 2017 | B30: 1096368 | C30: =I30 -> 4436 | D30: =C30/B30*100 -> 0.40460867 | E30: =SUM(J30:K30) -> 325370 | F30: =E30/B30*100 -> 29.677079 | G30: =SUM(L30:O30, Q30:AB30) -> 766562 | H30: =G30/B30*100 -> 69.918312 | I30: 4436 | J30: 1311 | K30: 324059 | L30: 6851 | M30: 8448 | N30: 71422 | O30: 130807 | P30: 2017 | Q30: 46931 | R30: 112867 | S30: 8674 | T30: 25849 | U30: 15697 | V30: 25952 | W30: 29220 | X30: 45290 | Y30: 80371 | Z30: 93570 | AA30: 19687 | AB30: 44926
A31: 2018 | B31: 1117782 | C31: =I31 -> 4752 | D31: =C31/B31*100 -> 0.42512762 | E31: =SUM(J31:K31) -> 321990 | F31: =E31/B31*100 -> 28.806154 | G31: =SUM(L31:O31, Q31:AB31) -> 791040 | H31: =G31/B31*100 -> 70.768719 | I31: 4752 | J31: 1284 | K31: 320706 | L31: 7133 | M31: 9268 | N31: 74591 | O31: 132384 | P31: 2018 | Q31: 47436 | R31: 119131 | S31: 8725 | T31: 25912 | U31: 15996 | V31: 27086 | W31: 28768 | X31: 48455 | Y31: 79857 | Z31: 98932 | AA31: 21345 | AB31: 46021
A32: 2019 | B32: 1150047 | C32: =I32 -> 4877 | D32: =C32/B32*100 -> 0.42406962 | E32: =SUM(J32:K32) -> 320474 | F32: =E32/B32*100 -> 27.866165 | G32: =SUM(L32:O32, Q32:AB32) -> 824696 | H32: =G32/B32*100 -> 71.709765 | I32: 4877 | J32: 1168 | K32: 319306 | L32: 7198 | M32: 9570 | N32: 75421 | O32: 138239 | P32: 2019 | Q32: 49004 | R32: 122692 | S32: 8699 | T32: 25111 | U32: 16049 | V32: 27946 | W32: 31705 | X32: 52142 | Y32: 84353 | Z32: 107319 | AA32: 21881 | AB32: 47367
A33: 2020 | B33: 1225829 | C33: =I33 -> 6749 | D33: =C33/B33*100 -> 0.55056619 | E33: =SUM(J33:K33) -> 321789 | F33: =E33/B33*100 -> 26.250725 | G33: =SUM(L33:O33, Q33:AB33) -> 897291 | H33: =G33/B33*100 -> 73.198709 | I33: 6749 | J33: 1258 | K33: 320531 | L33: 15694 | M33: 10284 | N33: 109357 | O33: 146481 | P33: 2020 | Q33: 60823 | R33: 109050 | S33: 9670 | T33: 24783 | U33: 19285 | V33: 34590 | W33: 35175 | X33: 57678 | Y33: 82201 | Z33: 116416 | AA33: 18958 | AB33: 46846
A34: 2021 | B34: 1234314 | C34: 6693 | D34: =C34/B34*100 -> 0.54224452 | E34: 317206 | F34: =E34/B34*100 -> 25.698971 | G34: =SUM(L34:O34, Q34:AB34) -> 910415 | H34: =G34/B34*100 -> 73.758784 | I34: 6693 | J34: 1344 | K34: 315862 | L34: 19240 | M34: 10567 | N34: 100762 | O34: 145410 | P34: 2021 | Q34: 61730 | R34: 110114 | S34: 10028 | T34: 24559 | U34: 21684 | V34: 36026 | W34: 32475 | X34: 59531 | Y34: 83737 | Z34: 127371 | AA34: 19756 | AB34: 47425
A36: 자료: 대구광역시 사업체조사보고서, 경상북도 사업체조사 보고서 주: 표준산업분류 10차 기준, 2015~2019년은 조사기반, 2020~2021년은 등록기반 자료임

Sheet 9.종사자규모별사업체수
A1: [목록]으로
A2: 9. 종사자 규모별 사업체수
T4: 단위 : 개소
B5: 종사자규모별 사업체수 | L5: 종사자규모별 사업체수 구성비(%)
B6: 합계 | C6: 1~4명 | D6: 5~9명 | E6: 10~19명 | F6: 20~49명 | G6: 50~99명 | H6: 100~299명 | I6: 300~499명 | J6: 500~999명 | K6: 1,000명 이상 | L6: 1~4명 | M6: 5~9명 | N6: 10~19명 | O6: 20~49명 | P6: 50~99명 | Q6: 100~299명 | R6: 300~499명 | S6: 500~999명 | T6: 1,000명 이상
A9: 대경권
A10: 2015 | B10: =SUM(B19,B28) -> 418864 | C10: =SUM(C19,C28) -> 349143 | D10: =SUM(D19,D28) -> 39986 | E10: =SUM(E19,E28) -> 15601 | F10: =SUM(F19,F28) -> 9544 | G10: =SUM(G19,G28) -> 3041 | H10: =SUM(H19,H28) -> 1260 | I10: =SUM(I19,I28) -> 150 | ... K10: =SUM(K19,K28) -> 37 | L10: =C10/$B10*100 -> 83.35474 | M10: =D10/$B10*100 -> 9.5462966 | N10: =E10/$B10*100 -> 3.724598 | O10: =F10/$B10*100 -> 2.2785439 | P10: =G10/$B10*100 -> 0.72601131 | Q10: =H10/$B10*100 -> 0.30081363 | R10: =I10/$B10*100 -> 0.035811146 | S10: =J10/$B10*100 -> 0.02435158 | T10: =K10/$B10*100 -> 0.0088334161
A11: 2016 | B11: =SUM(B20,B29) -> 427854 | C11: =SUM(C20,C29) -> 354350 | D11: =SUM(D20,D29) -> 42466 | E11: =SUM(E20,E29) -> 16835 | F11: =SUM(F20,F29) -> 9628 | G11: =SUM(G20,G29) -> 3008 | H11: =SUM(H20,H29) -> 1270 | I11: =SUM(I20,I29) -> 145 | ... K11: =SUM(K20,K29) -> 39 | L11: =C11/$B11*100 -> 82.820308 | M11: =D11/$B11*100 -> 9.9253484 | N11: =E11/$B11*100 -> 3.9347534 | O11: =F11/$B11*100 -> 2.2503003 | P11: =G11/$B11*100 -> 0.70304356 | Q11: =H11/$B11*100 -> 0.29683023 | R11: =I11/$B11*100 -> 0.033890065 | S11: =J11/$B11*100 -> 0.026410878 | T11: =K11/$B11*100 -> 0.0091152589
A12: 2017 | B12: =SUM(B21,B30) -> 435455 | C12: =SUM(C21,C30) -> 361337 | D12: =SUM(D21,D30) -> 43052 | E12: =SUM(E21,E30) -> 16842 | F12: =SUM(F21,F30) -> 9720 | G12: =SUM(G21,G30) -> 2911 | H12: =SUM(H21,H30) -> 1290 | I12: =SUM(I21,I30) -> 145 | ... K12: =SUM(K21,K30) -> 46 | L12: =C12/$B12*100 -> 82.979183 | M12: =D12/$B12*100 -> 9.8866703 | N12: =E12/$B12*100 -> 3.8676786 | O12: =F12/$B12*100 -> 2.232148 | P12: =G12/$B12*100 -> 0.66849617 | Q12: =H12/$B12*100 -> 0.29624186 | R12: =I12/$B12*100 -> 0.033298504 | S12: =J12/$B12*100 -> 0.025720224 | T12: =K12/$B12*100 -> 0.010563663
A13: 2018 | B13: =SUM(B22,B31) -> 442577 | C13: =SUM(C22,C31) -> 366021 | D13: =SUM(D22,D31) -> 44729 | E13: =SUM(E22,E31) -> 17286 | F13: =SUM(F22,F31) -> 10005 | G13: =SUM(G22,G31) -> 2946 | H13: =SUM(H22,H31) -> 1285 | I13: =SUM(I22,I31) -> 152 | ... K13: =SUM(K22,K31) -> 49 | L13: =C13/$B13*100 -> 82.702219 | M13: =D13/$B13*100 -> 10.10649 | N13: =E13/$B13*100 -> 3.905761 | O13: =F13/$B13*100 -> 2.2606236 | P13: =G13/$B13*100 -> 0.66564688 | Q13: =H13/$B13*100 -> 0.29034496 | R13: =I13/$B13*100 -> 0.034344306 | S13: =J13/$B13*100 -> 0.023498736 | T13: =K13/$B13*100 -> 0.01107152
A14: 2019 | B14: =SUM(B23,B32) -> 447751 | C14: =SUM(C23,C32) -> 368927 | D14: =SUM(D23,D32) -> 46647 | E14: =SUM(E23,E32) -> 17272 | F14: =SUM(F23,F32) -> 10257 | G14: =SUM(G23,G32) -> 3045 | H14: =SUM(H23,H32) -> 1295 | I14: =SUM(I23,I32) -> 156 | ... K14: =SUM(K23,K32) -> 45 | L14: =C14/$B14*100 -> 82.395573 | M14: =D14/$B14*100 -> 10.418067 | N14: =E14/$B14*100 -> 3.8575012 | O14: =F14/$B14*100 -> 2.2907822 | P14: =G14/$B14*100 -> 0.68006548 | Q14: =H14/$B14*100 -> 0.28922325 | R14: =I14/$B14*100 -> 0.034840793 | S14: =J14/$B14*100 -> 0.023897211 | T14: =K14/$B14*100 -> 0.010050229
